BEGIN:VCALENDAR
VERSION:2.0
PRODID:-//OmahaAA.org - ECPv6.15.20//NONSGML v1.0//EN
CALSCALE:GREGORIAN
METHOD:PUBLISH
X-ORIGINAL-URL:https://www.omahaaa.org
X-WR-CALDESC:Events for OmahaAA.org
REFRESH-INTERVAL;VALUE=DURATION:PT1H
X-Robots-Tag:noindex
X-PUBLISHED-TTL:PT1H
BEGIN:VTIMEZONE
TZID:America/Chicago
BEGIN:DAYLIGHT
TZOFFSETFROM:-0600
TZOFFSETTO:-0500
TZNAME:CDT
DTSTART:20220313T080000
END:DAYLIGHT
BEGIN:STANDARD
TZOFFSETFROM:-0500
TZOFFSETTO:-0600
TZNAME:CST
DTSTART:20221106T070000
END:STANDARD
BEGIN:DAYLIGHT
TZOFFSETFROM:-0600
TZOFFSETTO:-0500
TZNAME:CDT
DTSTART:20230312T080000
END:DAYLIGHT
BEGIN:STANDARD
TZOFFSETFROM:-0500
TZOFFSETTO:-0600
TZNAME:CST
DTSTART:20231105T070000
END:STANDARD
BEGIN:DAYLIGHT
TZOFFSETFROM:-0600
TZOFFSETTO:-0500
TZNAME:CDT
DTSTART:20240310T080000
END:DAYLIGHT
BEGIN:STANDARD
TZOFFSETFROM:-0500
TZOFFSETTO:-0600
TZNAME:CST
DTSTART:20241103T070000
END:STANDARD
END:VTIMEZONE
BEGIN:VEVENT
DTSTART;TZID=America/Chicago:20230908T110000
DTEND;TZID=America/Chicago:20230910T170000
DTSTAMP:20260423T041151
CREATED:20230717T174730Z
LAST-MODIFIED:20230717T174730Z
UID:133750-1694170800-1694365200@www.omahaaa.org
SUMMARY:71st Annual Waubonsie State Park
DESCRIPTION:71st Annual 4 State Picnic \nSee Flyer for details \nSunday – September 10\, 2023 \nSpeakers – Fellowship – Food – Raffle \nFamily Friendly – No Pets\, please’ \n 
URL:https://www.omahaaa.org/event/71st-annual-waubonsie-state-park/
LOCATION:Waubonsie State Park-Hamburg\, 2585 Waubonsie Park Rd\, Hamburg\, IA\, 51640\, United States
END:VEVENT
END:VCALENDAR