BEGIN:VCALENDAR
VERSION:2.0
PRODID:-//OmahaAA.org - ECPv6.15.20//NONSGML v1.0//EN
CALSCALE:GREGORIAN
METHOD:PUBLISH
X-ORIGINAL-URL:https://www.omahaaa.org
X-WR-CALDESC:Events for OmahaAA.org
REFRESH-INTERVAL;VALUE=DURATION:PT1H
X-Robots-Tag:noindex
X-PUBLISHED-TTL:PT1H
BEGIN:VTIMEZONE
TZID:America/Chicago
BEGIN:DAYLIGHT
TZOFFSETFROM:-0600
TZOFFSETTO:-0500
TZNAME:CDT
DTSTART:20220313T080000
END:DAYLIGHT
BEGIN:STANDARD
TZOFFSETFROM:-0500
TZOFFSETTO:-0600
TZNAME:CST
DTSTART:20221106T070000
END:STANDARD
BEGIN:DAYLIGHT
TZOFFSETFROM:-0600
TZOFFSETTO:-0500
TZNAME:CDT
DTSTART:20230312T080000
END:DAYLIGHT
BEGIN:STANDARD
TZOFFSETFROM:-0500
TZOFFSETTO:-0600
TZNAME:CST
DTSTART:20231105T070000
END:STANDARD
BEGIN:DAYLIGHT
TZOFFSETFROM:-0600
TZOFFSETTO:-0500
TZNAME:CDT
DTSTART:20240310T080000
END:DAYLIGHT
BEGIN:STANDARD
TZOFFSETFROM:-0500
TZOFFSETTO:-0600
TZNAME:CST
DTSTART:20241103T070000
END:STANDARD
END:VTIMEZONE
BEGIN:VEVENT
DTSTART;TZID=America/Chicago:20231104T090000
DTEND;TZID=America/Chicago:20231104T120000
DTSTAMP:20260423T041152
CREATED:20230927T192248Z
LAST-MODIFIED:20230927T192248Z
UID:134592-1699088400-1699099200@www.omahaaa.org
SUMMARY:Step 11 Prayer & Meditation Workshop - Fall Edition
DESCRIPTION:SKM_C3320i23092714120 \nSee Flyer for Details \nCost Free – All Are Welcome \nContinental Breakfast will be provided @ 8:15 AM \nMats\, prayer shawls and pillows are welcome
URL:https://www.omahaaa.org/event/step-11-prayer-meditation-workshop-fall-edition/
LOCATION:Prairie Lane Christian Reformed Church-Omaha\, 3111 S 119th St\, Omaha\, NE\, 68144\, United States
END:VEVENT
END:VCALENDAR