BEGIN:VCALENDAR
VERSION:2.0
PRODID:-//OmahaAA.org - ECPv6.15.20//NONSGML v1.0//EN
CALSCALE:GREGORIAN
METHOD:PUBLISH
X-WR-CALNAME:OmahaAA.org
X-ORIGINAL-URL:https://www.omahaaa.org
X-WR-CALDESC:Events for OmahaAA.org
REFRESH-INTERVAL;VALUE=DURATION:PT1H
X-Robots-Tag:noindex
X-PUBLISHED-TTL:PT1H
BEGIN:VTIMEZONE
TZID:America/Chicago
BEGIN:DAYLIGHT
TZOFFSETFROM:-0600
TZOFFSETTO:-0500
TZNAME:CDT
DTSTART:20220313T080000
END:DAYLIGHT
BEGIN:STANDARD
TZOFFSETFROM:-0500
TZOFFSETTO:-0600
TZNAME:CST
DTSTART:20221106T070000
END:STANDARD
BEGIN:DAYLIGHT
TZOFFSETFROM:-0600
TZOFFSETTO:-0500
TZNAME:CDT
DTSTART:20230312T080000
END:DAYLIGHT
BEGIN:STANDARD
TZOFFSETFROM:-0500
TZOFFSETTO:-0600
TZNAME:CST
DTSTART:20231105T070000
END:STANDARD
BEGIN:DAYLIGHT
TZOFFSETFROM:-0600
TZOFFSETTO:-0500
TZNAME:CDT
DTSTART:20240310T080000
END:DAYLIGHT
BEGIN:STANDARD
TZOFFSETFROM:-0500
TZOFFSETTO:-0600
TZNAME:CST
DTSTART:20241103T070000
END:STANDARD
END:VTIMEZONE
BEGIN:VEVENT
DTSTART;TZID=America/Chicago:20231202T170000
DTEND;TZID=America/Chicago:20231202T230000
DTSTAMP:20260423T055338
CREATED:20231025T180959Z
LAST-MODIFIED:20231025T180959Z
UID:136138-1701536400-1701558000@www.omahaaa.org
SUMMARY:Omaha AA Christmas Party 2023
DESCRIPTION:Tickets are $25 speaker with dinner & dance (there are NO speaker only tickets available) \nThis is an ADULT ONLY function. \nParking is available in the attached garage to the west.  When that is full\, there is free parking in the bank lot to the south.
URL:https://www.omahaaa.org/event/omaha-aa-christmas-party-2023/
LOCATION:Scottish Rite Masonic Center-Omaha\, 202 S 20th St\, Omaha\, NE\, 68102\, United States
END:VEVENT
BEGIN:VEVENT
DTSTART;TZID=America/Chicago:20231202T173000
DTEND;TZID=America/Chicago:20231202T213000
DTSTAMP:20260423T055338
CREATED:20231106T213638Z
LAST-MODIFIED:20231106T213716Z
UID:136144-1701538200-1701552600@www.omahaaa.org
SUMMARY:Language of the Heart - 79th Anniversary Celebration
DESCRIPTION:Language of the Heart \nSEE FLYER \nPotluck Dinner \nRaffles\, Countdown\, Speakers & Fellowship \n 
URL:https://www.omahaaa.org/event/language-of-the-heart/
LOCATION:Alano Club-North Platte\, 620 W 6th St\, North Platte\, NE\, 69101\, United States
END:VEVENT
END:VCALENDAR