BEGIN:VCALENDAR
VERSION:2.0
PRODID:-//OmahaAA.org - ECPv6.15.20//NONSGML v1.0//EN
CALSCALE:GREGORIAN
METHOD:PUBLISH
X-ORIGINAL-URL:https://www.omahaaa.org
X-WR-CALDESC:Events for OmahaAA.org
REFRESH-INTERVAL;VALUE=DURATION:PT1H
X-Robots-Tag:noindex
X-PUBLISHED-TTL:PT1H
BEGIN:VTIMEZONE
TZID:America/Chicago
BEGIN:DAYLIGHT
TZOFFSETFROM:-0600
TZOFFSETTO:-0500
TZNAME:CDT
DTSTART:20220313T080000
END:DAYLIGHT
BEGIN:STANDARD
TZOFFSETFROM:-0500
TZOFFSETTO:-0600
TZNAME:CST
DTSTART:20221106T070000
END:STANDARD
BEGIN:DAYLIGHT
TZOFFSETFROM:-0600
TZOFFSETTO:-0500
TZNAME:CDT
DTSTART:20230312T080000
END:DAYLIGHT
BEGIN:STANDARD
TZOFFSETFROM:-0500
TZOFFSETTO:-0600
TZNAME:CST
DTSTART:20231105T070000
END:STANDARD
BEGIN:DAYLIGHT
TZOFFSETFROM:-0600
TZOFFSETTO:-0500
TZNAME:CDT
DTSTART:20240310T080000
END:DAYLIGHT
BEGIN:STANDARD
TZOFFSETFROM:-0500
TZOFFSETTO:-0600
TZNAME:CST
DTSTART:20241103T070000
END:STANDARD
END:VTIMEZONE
BEGIN:VEVENT
DTSTART;TZID=America/Chicago:20231209T120000
DTEND;TZID=America/Chicago:20231209T170000
DTSTAMP:20260423T072348
CREATED:20231116T115415Z
LAST-MODIFIED:20231119T060530Z
UID:136160-1702123200-1702141200@www.omahaaa.org
SUMMARY:GSR Workshop (District 21 & 22)
DESCRIPTION:District 21 & 22 \nGSR Workshop\nSaturday\, December 9th \nF Street Neighborhood Church \n1302 F Street\, Lincoln NE 68508 \n12:00 Lunch \n12:30 – 3:00 Workshop \nFor anyone wanting to learn what a General Service Representative (GSR) does. Special guest from GSO. \nKarina C – Group Services member & West Central Regional Correspondent
URL:https://www.omahaaa.org/event/gsr-workshop-district-21-22/
LOCATION:F Street Neighborhood Church-Lincoln\, 1302 F St\, Lincoln\, NE\, 68508\, United States
END:VEVENT
BEGIN:VEVENT
DTSTART;TZID=America/Chicago:20231209T130000
DTEND;TZID=America/Chicago:20231209T160000
DTSTAMP:20260423T072348
CREATED:20231126T002135Z
LAST-MODIFIED:20231126T002135Z
UID:136300-1702126800-1702137600@www.omahaaa.org
SUMMARY:500 Club Ladies Holiday Party
DESCRIPTION:Join us for a Ladies Holiday Party\nDec 9th 1-4 pm \nMessage from Amber O \nBring a treats to share \nQuestions call Teresa G \n402 669 5023
URL:https://www.omahaaa.org/event/500-club-ladies-holiday-party/
LOCATION:500 Club-Council Bluffs\, 410 S 16th St\, Council Bluffs\, IA\, 51501\, United States
END:VEVENT
BEGIN:VEVENT
DTSTART;TZID=America/Chicago:20231209T150000
DTEND;TZID=America/Chicago:20231209T200000
DTSTAMP:20260423T072348
CREATED:20231209T054758Z
LAST-MODIFIED:20231209T054758Z
UID:136475-1702134000-1702152000@www.omahaaa.org
SUMMARY:Holiday Party - Lincoln NE
DESCRIPTION:Holiday Party\nPlease join us for an evening of Festive Fun\, Food and Fellowship! \nSaturday\, December 9th\nThe Mason’s Lodge\n28th & S Street\, Lincoln NE \n(Next door to The Meeting Place) \nFREE EVENT\nDoors Open at 3PM \nSpeakers and Dinner \nFollowed by Ugly Sweater Contest and Raffle! \nContact Scott W (402-304-1860)\, Matt H (402-687-5283) or Faith B
URL:https://www.omahaaa.org/event/holiday-party-lincoln-ne/
LOCATION:Masonic Lodge-Lincoln\, 2700 S St\, Lincoln\, NE\, 68503\, United States
END:VEVENT
BEGIN:VEVENT
DTSTART;TZID=America/Chicago:20231209T180000
DTEND;TZID=America/Chicago:20231209T220000
DTSTAMP:20260423T072348
CREATED:20231127T195110Z
LAST-MODIFIED:20231205T040440Z
UID:136344-1702144800-1702159200@www.omahaaa.org
SUMMARY:PRIMARY PURPOSE THANKSMAS DINNER
DESCRIPTION:PRIMARY PURPOSE  THANKSMAS\nDEC 9\, 2023 \n6:00PM – 10:00 PM \n2618 LEAVENWORTH ST. \nOMAHA NE \nSMOKED TURKEY \,HAM \, SIDE DISHES & DESSERTS \n$10 Per Plate\nSANTA WILL BE THERE BRING THE KIDS
URL:https://www.omahaaa.org/event/primay-purpose-thanks-mas/
LOCATION:Primary Purpose Hall-Omaha\, 2614 Leavenworth St\, Omaha\, NE\, 68105\, United States
END:VEVENT
END:VCALENDAR