BEGIN:VCALENDAR
VERSION:2.0
PRODID:-//OmahaAA.org - ECPv6.15.20//NONSGML v1.0//EN
CALSCALE:GREGORIAN
METHOD:PUBLISH
X-ORIGINAL-URL:https://www.omahaaa.org
X-WR-CALDESC:Events for OmahaAA.org
REFRESH-INTERVAL;VALUE=DURATION:PT1H
X-Robots-Tag:noindex
X-PUBLISHED-TTL:PT1H
BEGIN:VTIMEZONE
TZID:America/Chicago
BEGIN:DAYLIGHT
TZOFFSETFROM:-0600
TZOFFSETTO:-0500
TZNAME:CDT
DTSTART:20220313T080000
END:DAYLIGHT
BEGIN:STANDARD
TZOFFSETFROM:-0500
TZOFFSETTO:-0600
TZNAME:CST
DTSTART:20221106T070000
END:STANDARD
BEGIN:DAYLIGHT
TZOFFSETFROM:-0600
TZOFFSETTO:-0500
TZNAME:CDT
DTSTART:20230312T080000
END:DAYLIGHT
BEGIN:STANDARD
TZOFFSETFROM:-0500
TZOFFSETTO:-0600
TZNAME:CST
DTSTART:20231105T070000
END:STANDARD
BEGIN:DAYLIGHT
TZOFFSETFROM:-0600
TZOFFSETTO:-0500
TZNAME:CDT
DTSTART:20240310T080000
END:DAYLIGHT
BEGIN:STANDARD
TZOFFSETFROM:-0500
TZOFFSETTO:-0600
TZNAME:CST
DTSTART:20241103T070000
END:STANDARD
END:VTIMEZONE
BEGIN:VEVENT
DTSTART;TZID=America/Chicago:20231217T123000
DTEND;TZID=America/Chicago:20231217T153000
DTSTAMP:20260423T072300
CREATED:20231124T231552Z
LAST-MODIFIED:20231203T164922Z
UID:136273-1702816200-1702827000@www.omahaaa.org
SUMMARY:HACYPAA VIII Potluck & Panel
DESCRIPTION:HACYPAA VIII Presents: Potluck and Panel\nDecember 17th 12:30-3:30 \nSt Andrew’s Episcopal Church \n$10 Suggested Donation
URL:https://www.omahaaa.org/event/hacypaa-viii-potluck-panel/
LOCATION:St. Andrew’s Episcopal Church-Omaha\, 925 S 84th St\, Omaha\, NE\, 68114\, United States
END:VEVENT
BEGIN:VEVENT
DTSTART;TZID=America/Chicago:20231217T130000
DTEND;TZID=America/Chicago:20231217T150000
DTSTAMP:20260423T072300
CREATED:20231116T122215Z
LAST-MODIFIED:20231209T055855Z
UID:136171-1702818000-1702825200@www.omahaaa.org
SUMMARY:Area 41 Newly Elected Workshop (Zoom Only)
DESCRIPTION:Area 41 Presents\nNewly Elected?\nNow What?\nA How to Funshop \nArea\, Delegates and Trustee Speakers \nShort talks followed by a Q&A of Panelists \nJoin us on Zoom \nSunday\, December 17th \n1:00 – 3:00 CST \nID: 306 499 9217 \nPassword: S3rvic3
URL:https://www.omahaaa.org/event/area-41-newly-elected-workshop/
LOCATION:NE
END:VEVENT
BEGIN:VEVENT
DTSTART;TZID=America/Chicago:20231217T170000
DTEND;TZID=America/Chicago:20231217T180000
DTSTAMP:20260423T072300
CREATED:20231128T042549Z
LAST-MODIFIED:20231128T054858Z
UID:136357-1702832400-1702836000@www.omahaaa.org
SUMMARY:HACYPAA 8 - Needs Your Service
DESCRIPTION:HACYPAA 8\nNeeds Your Service\nBusiness Meeting\nJoin us at Sozo Coffeehouse \n1314 Jones Street\, Omaha NE 68102 \nFor more information\, call Alex P at \n(402) 988-8317
URL:https://www.omahaaa.org/event/hacypaa-8-needs-your-service/
LOCATION:Sozo Coffeehouse-Omaha\, 1314 Jones St\, Omaha\, NE\, 68102\, United States
END:VEVENT
END:VCALENDAR