BEGIN:VCALENDAR
VERSION:2.0
PRODID:-//OmahaAA.org - ECPv6.15.20//NONSGML v1.0//EN
CALSCALE:GREGORIAN
METHOD:PUBLISH
X-WR-CALNAME:OmahaAA.org
X-ORIGINAL-URL:https://www.omahaaa.org
X-WR-CALDESC:Events for OmahaAA.org
REFRESH-INTERVAL;VALUE=DURATION:PT1H
X-Robots-Tag:noindex
X-PUBLISHED-TTL:PT1H
BEGIN:VTIMEZONE
TZID:America/Chicago
BEGIN:DAYLIGHT
TZOFFSETFROM:-0600
TZOFFSETTO:-0500
TZNAME:CDT
DTSTART:20230312T080000
END:DAYLIGHT
BEGIN:STANDARD
TZOFFSETFROM:-0500
TZOFFSETTO:-0600
TZNAME:CST
DTSTART:20231105T070000
END:STANDARD
BEGIN:DAYLIGHT
TZOFFSETFROM:-0600
TZOFFSETTO:-0500
TZNAME:CDT
DTSTART:20240310T080000
END:DAYLIGHT
BEGIN:STANDARD
TZOFFSETFROM:-0500
TZOFFSETTO:-0600
TZNAME:CST
DTSTART:20241103T070000
END:STANDARD
BEGIN:DAYLIGHT
TZOFFSETFROM:-0600
TZOFFSETTO:-0500
TZNAME:CDT
DTSTART:20250309T080000
END:DAYLIGHT
BEGIN:STANDARD
TZOFFSETFROM:-0500
TZOFFSETTO:-0600
TZNAME:CST
DTSTART:20251102T070000
END:STANDARD
END:VTIMEZONE
BEGIN:VEVENT
DTSTART;VALUE=DATE:20240106
DTEND;VALUE=DATE:20240108
DTSTAMP:20260423T075028
CREATED:20231208T174609Z
LAST-MODIFIED:20231208T212106Z
UID:136463-1704499200-1704671999@www.omahaaa.org
SUMMARY:Area 41 Business Meeting
DESCRIPTION:Area 41 Business Meeting\nSaturday\, January 6-7\, 2024\nGrand Island Quality Inn and Conference\n7838 S. Hwy 281\, Building A\,\nGrand Island\, NE\, 68803\n308-210-2124 \n  \nThe meeting agenda and voting items are available at area41.org in\nthe members’ services section under newsletters. \n* Please check with your DCM\, area41.org\, or email chairperson@area41.org for updated information\, as agenda information could be subject to change. \n  \nMeeting Schedule \nIn order to get the Area 41 reduced rate\, you must reserve your room four weeks\nprior to the Area 41 meeting.
URL:https://www.omahaaa.org/event/area-41-business-meeting-jan-2024/
LOCATION:Quality Inn and Conference Center I-80 Grand Island\, 7838 US-281 Building A\, Grand Island\, NE\, 68803\, United States
END:VEVENT
END:VCALENDAR