BEGIN:VCALENDAR
VERSION:2.0
PRODID:-//OmahaAA.org - ECPv6.15.20//NONSGML v1.0//EN
CALSCALE:GREGORIAN
METHOD:PUBLISH
X-WR-CALNAME:OmahaAA.org
X-ORIGINAL-URL:https://www.omahaaa.org
X-WR-CALDESC:Events for OmahaAA.org
REFRESH-INTERVAL;VALUE=DURATION:PT1H
X-Robots-Tag:noindex
X-PUBLISHED-TTL:PT1H
BEGIN:VTIMEZONE
TZID:America/Chicago
BEGIN:DAYLIGHT
TZOFFSETFROM:-0600
TZOFFSETTO:-0500
TZNAME:CDT
DTSTART:20230312T080000
END:DAYLIGHT
BEGIN:STANDARD
TZOFFSETFROM:-0500
TZOFFSETTO:-0600
TZNAME:CST
DTSTART:20231105T070000
END:STANDARD
BEGIN:DAYLIGHT
TZOFFSETFROM:-0600
TZOFFSETTO:-0500
TZNAME:CDT
DTSTART:20240310T080000
END:DAYLIGHT
BEGIN:STANDARD
TZOFFSETFROM:-0500
TZOFFSETTO:-0600
TZNAME:CST
DTSTART:20241103T070000
END:STANDARD
BEGIN:DAYLIGHT
TZOFFSETFROM:-0600
TZOFFSETTO:-0500
TZNAME:CDT
DTSTART:20250309T080000
END:DAYLIGHT
BEGIN:STANDARD
TZOFFSETFROM:-0500
TZOFFSETTO:-0600
TZNAME:CST
DTSTART:20251102T070000
END:STANDARD
END:VTIMEZONE
BEGIN:VEVENT
DTSTART;VALUE=DATE:20240120
DTEND;VALUE=DATE:20240122
DTSTAMP:20260423T090703
CREATED:20231116T125513Z
LAST-MODIFIED:20231116T165848Z
UID:136178-1705708800-1705881599@www.omahaaa.org
SUMMARY:25th Annual Winter Rally
DESCRIPTION:25th Annual \nWinter Rally\nSaturday\, January 20th – 21st \nFort Dodge\, Iowa \nSpeakers\, Comedian Hypnotist and Ice Cream Social \nPhoto Booth & Sobriety Countdown
URL:https://www.omahaaa.org/event/25th-ann-winter-rally/
LOCATION:Best Western Starlite Village-Fort Dodge\, 1518 3rd Ave NW\, Fort Dodge\, IA\, 50501\, United States
END:VEVENT
BEGIN:VEVENT
DTSTART;TZID=America/Chicago:20240120T160000
DTEND;TZID=America/Chicago:20240120T190000
DTSTAMP:20260423T090703
CREATED:20240114T042335Z
LAST-MODIFIED:20240114T042956Z
UID:138042-1705766400-1705777200@www.omahaaa.org
SUMMARY:Invitation  to the 5th anniversary From the partner WILLIE G.
DESCRIPTION:INVITATION TO THE 5TH ANNIVERSARY\nFROM THE PARTNER\nWILLIE G.\nFROM THE OCTOBER 21 GROUP\n  \nDATE JANUARY 20 2024 \nTIME 4:00 PM \n5001 S 23rd St Omaha Ne.
URL:https://www.omahaaa.org/event/invitation-to-the-5th-anniversary/
LOCATION:Our Lady of Guadalupe Church Hall-Omaha\, 5001 S 23rd St\, Omaha\, NE\, 68107\, United States
END:VEVENT
BEGIN:VEVENT
DTSTART;TZID=America/Chicago:20240120T170000
DTEND;TZID=America/Chicago:20240120T210000
DTSTAMP:20260423T090703
CREATED:20231122T211502Z
LAST-MODIFIED:20231203T155447Z
UID:136251-1705770000-1705784400@www.omahaaa.org
SUMMARY:51st Annual Bellevue Anniversary
DESCRIPTION:51st Annual\nBellevue Anniversary\nSaturday\, January 20th\nBellevue East Highschool \n1401 Highschool Drive\, Bellevue NE \n  \n$20 Registration for Dinner and Speakers (AFG/AA) \nContact bellevueanniversary@gmail.com for questions.
URL:https://www.omahaaa.org/event/51st-annual-bellevue-anniversary/
LOCATION:Bellevue East High School\, 1401 High School Dr\, Bellevue\, NE\, 68005\, United States
END:VEVENT
END:VCALENDAR