BEGIN:VCALENDAR
VERSION:2.0
PRODID:-//OmahaAA.org - ECPv6.15.20//NONSGML v1.0//EN
CALSCALE:GREGORIAN
METHOD:PUBLISH
X-ORIGINAL-URL:https://www.omahaaa.org
X-WR-CALDESC:Events for OmahaAA.org
REFRESH-INTERVAL;VALUE=DURATION:PT1H
X-Robots-Tag:noindex
X-PUBLISHED-TTL:PT1H
BEGIN:VTIMEZONE
TZID:America/Chicago
BEGIN:DAYLIGHT
TZOFFSETFROM:-0600
TZOFFSETTO:-0500
TZNAME:CDT
DTSTART:20230312T080000
END:DAYLIGHT
BEGIN:STANDARD
TZOFFSETFROM:-0500
TZOFFSETTO:-0600
TZNAME:CST
DTSTART:20231105T070000
END:STANDARD
BEGIN:DAYLIGHT
TZOFFSETFROM:-0600
TZOFFSETTO:-0500
TZNAME:CDT
DTSTART:20240310T080000
END:DAYLIGHT
BEGIN:STANDARD
TZOFFSETFROM:-0500
TZOFFSETTO:-0600
TZNAME:CST
DTSTART:20241103T070000
END:STANDARD
BEGIN:DAYLIGHT
TZOFFSETFROM:-0600
TZOFFSETTO:-0500
TZNAME:CDT
DTSTART:20250309T080000
END:DAYLIGHT
BEGIN:STANDARD
TZOFFSETFROM:-0500
TZOFFSETTO:-0600
TZNAME:CST
DTSTART:20251102T070000
END:STANDARD
END:VTIMEZONE
BEGIN:VEVENT
DTSTART;TZID=America/Chicago:20240413T110000
DTEND;TZID=America/Chicago:20240413T140000
DTSTAMP:20260423T154200
CREATED:20240403T113707Z
LAST-MODIFIED:20240410T022038Z
UID:138486-1713006000-1713016800@www.omahaaa.org
SUMMARY:PI & CPC WORKING GROUP
DESCRIPTION:PI & CPC WORKING GROUP\n \nDiscovering new ideas and carryiing the AA message in the 21st century \nWho is Responsible? \nHow Are We Reaching Those Still Suffering? \nAll Members Welcome \nApril 13\, 2024\n9:00am pst & 12:00pm est \nZoom Meeting ID:878-0311-3474 \nPW:411 \nGo to zoom meeting \nContact: Picpceastbay@gmail.com \n 
URL:https://www.omahaaa.org/event/pi-cpc-working-group/
LOCATION:NE
END:VEVENT
END:VCALENDAR