BEGIN:VCALENDAR
VERSION:2.0
PRODID:-//OmahaAA.org - ECPv6.15.20//NONSGML v1.0//EN
CALSCALE:GREGORIAN
METHOD:PUBLISH
X-ORIGINAL-URL:https://www.omahaaa.org
X-WR-CALDESC:Events for OmahaAA.org
REFRESH-INTERVAL;VALUE=DURATION:PT1H
X-Robots-Tag:noindex
X-PUBLISHED-TTL:PT1H
BEGIN:VTIMEZONE
TZID:America/Chicago
BEGIN:DAYLIGHT
TZOFFSETFROM:-0600
TZOFFSETTO:-0500
TZNAME:CDT
DTSTART:20230312T080000
END:DAYLIGHT
BEGIN:STANDARD
TZOFFSETFROM:-0500
TZOFFSETTO:-0600
TZNAME:CST
DTSTART:20231105T070000
END:STANDARD
BEGIN:DAYLIGHT
TZOFFSETFROM:-0600
TZOFFSETTO:-0500
TZNAME:CDT
DTSTART:20240310T080000
END:DAYLIGHT
BEGIN:STANDARD
TZOFFSETFROM:-0500
TZOFFSETTO:-0600
TZNAME:CST
DTSTART:20241103T070000
END:STANDARD
BEGIN:DAYLIGHT
TZOFFSETFROM:-0600
TZOFFSETTO:-0500
TZNAME:CDT
DTSTART:20250309T080000
END:DAYLIGHT
BEGIN:STANDARD
TZOFFSETFROM:-0500
TZOFFSETTO:-0600
TZNAME:CST
DTSTART:20251102T070000
END:STANDARD
END:VTIMEZONE
BEGIN:VEVENT
DTSTART;TZID=America/Chicago:20240427T180000
DTEND;TZID=America/Chicago:20240427T220000
DTSTAMP:20260423T144204
CREATED:20240402T144106Z
LAST-MODIFIED:20240410T033753Z
UID:138480-1714240800-1714255200@www.omahaaa.org
SUMMARY:HACYPAA VII  PRESENTS WHAT IS YPAA?
DESCRIPTION:HACYPAA VII PRESENTS WHAT IS YPAA\nPanel and Game Night \nCurious about what YPAA is? \nReady for unforgettable games ans felloeship? Join us! \nApril 27th\, 2024 6:00pm-!0:00pm \nSt. Andrews Episcopal Church 925 S. 84th St. Omaha NE. 68114 \nPanelists \nCarole K. omaha NE \nLuke H. Lincoln  NE \nBailey W. Des Moines IA \nhttp://www.hacypaa8.com \n \nDirection below
URL:https://www.omahaaa.org/event/hacypaa-vii-presents-what-is-ypaa/
LOCATION:St. Andrew’s Episcopal Church-Omaha\, 925 S 84th St\, Omaha\, NE\, 68114\, United States
END:VEVENT
END:VCALENDAR