BEGIN:VCALENDAR
VERSION:2.0
PRODID:-//OmahaAA.org - ECPv6.15.20//NONSGML v1.0//EN
CALSCALE:GREGORIAN
METHOD:PUBLISH
X-ORIGINAL-URL:https://www.omahaaa.org
X-WR-CALDESC:Events for OmahaAA.org
REFRESH-INTERVAL;VALUE=DURATION:PT1H
X-Robots-Tag:noindex
X-PUBLISHED-TTL:PT1H
BEGIN:VTIMEZONE
TZID:America/Chicago
BEGIN:DAYLIGHT
TZOFFSETFROM:-0600
TZOFFSETTO:-0500
TZNAME:CDT
DTSTART:20230312T080000
END:DAYLIGHT
BEGIN:STANDARD
TZOFFSETFROM:-0500
TZOFFSETTO:-0600
TZNAME:CST
DTSTART:20231105T070000
END:STANDARD
BEGIN:DAYLIGHT
TZOFFSETFROM:-0600
TZOFFSETTO:-0500
TZNAME:CDT
DTSTART:20240310T080000
END:DAYLIGHT
BEGIN:STANDARD
TZOFFSETFROM:-0500
TZOFFSETTO:-0600
TZNAME:CST
DTSTART:20241103T070000
END:STANDARD
BEGIN:DAYLIGHT
TZOFFSETFROM:-0600
TZOFFSETTO:-0500
TZNAME:CDT
DTSTART:20250309T080000
END:DAYLIGHT
BEGIN:STANDARD
TZOFFSETFROM:-0500
TZOFFSETTO:-0600
TZNAME:CST
DTSTART:20251102T070000
END:STANDARD
END:VTIMEZONE
BEGIN:VEVENT
DTSTART;VALUE=DATE:20240613
DTEND;VALUE=DATE:20240617
DTSTAMP:20260423T212510
CREATED:20231117T130016Z
LAST-MODIFIED:20250526T201409Z
UID:136231-1718236800-1718582399@www.omahaaa.org
SUMMARY:16th Annual Sober Float
DESCRIPTION:16th Annual\nSober Float\nJune 13 – 16\, 2024\n  \nJoin us in District 14 for a weekend of food\, fun\, fellowship and floating down the Niobrara River! \nNear Valentine at Sharp’s Campground\, Sparks NE \nCome as early as you like and stay as long as you want! BBQ grills and cooking utensils available for use. \n  \nEveryone MUST CALL SHARP’S OUTFITTERS to register and reserve equipment/campsite! \n(402) 376-2506 or \n(402) 322-5606 \n  \nFor Sober Float questions: \nCall Dan (308) 645-2423 or \nemail soberfloat@gmail.com \nService opportunities available June 9th and June 12th \n \nDirection below
URL:https://www.omahaaa.org/event/16th-annual-sober-float/
LOCATION:Sharp’s Campground\, 90048 Sparks River Rd\, Sparks\, NE\, 69220\, United States
END:VEVENT
END:VCALENDAR