BEGIN:VCALENDAR
VERSION:2.0
PRODID:-//OmahaAA.org - ECPv6.15.20//NONSGML v1.0//EN
CALSCALE:GREGORIAN
METHOD:PUBLISH
X-WR-CALNAME:OmahaAA.org
X-ORIGINAL-URL:https://www.omahaaa.org
X-WR-CALDESC:Events for OmahaAA.org
REFRESH-INTERVAL;VALUE=DURATION:PT1H
X-Robots-Tag:noindex
X-PUBLISHED-TTL:PT1H
BEGIN:VTIMEZONE
TZID:America/Chicago
BEGIN:DAYLIGHT
TZOFFSETFROM:-0600
TZOFFSETTO:-0500
TZNAME:CDT
DTSTART:20230312T080000
END:DAYLIGHT
BEGIN:STANDARD
TZOFFSETFROM:-0500
TZOFFSETTO:-0600
TZNAME:CST
DTSTART:20231105T070000
END:STANDARD
BEGIN:DAYLIGHT
TZOFFSETFROM:-0600
TZOFFSETTO:-0500
TZNAME:CDT
DTSTART:20240310T080000
END:DAYLIGHT
BEGIN:STANDARD
TZOFFSETFROM:-0500
TZOFFSETTO:-0600
TZNAME:CST
DTSTART:20241103T070000
END:STANDARD
BEGIN:DAYLIGHT
TZOFFSETFROM:-0600
TZOFFSETTO:-0500
TZNAME:CDT
DTSTART:20250309T080000
END:DAYLIGHT
BEGIN:STANDARD
TZOFFSETFROM:-0500
TZOFFSETTO:-0600
TZNAME:CST
DTSTART:20251102T070000
END:STANDARD
END:VTIMEZONE
BEGIN:VEVENT
DTSTART;TZID=America/Chicago:20240720T173000
DTEND;TZID=America/Chicago:20240720T210000
DTSTAMP:20260423T042231
CREATED:20240621T141523Z
LAST-MODIFIED:20240621T141523Z
UID:138890-1721496600-1721509200@www.omahaaa.org
SUMMARY:17th Annual Arch Santa Monica Alumni Hog Roast
DESCRIPTION:17th Annual Arch Santa Monica Alumni\nHog Roast\nJuly 20th 2024 \nDinner @ the Steppe Center 11730 Peel Cir La Vista NE \nFood\, Fun & Fellowship \n$12 Per Adult Kids 12 & under Free \nDoors Open @ 5:30 pm \nDinner @ 6:30 pm \nSpeakers Dylan K. & Lisa A. @ 7:30 pm \nFollowed by Raffle & 50/50
URL:https://www.omahaaa.org/event/17th-annual-arch-santa-monica-alumni-hog-roast/
LOCATION:The Steppe Center-La Vista\, 11730 Peel Cir\, La Vista\, NE\, 68128\, United States
END:VEVENT
END:VCALENDAR