BEGIN:VCALENDAR
VERSION:2.0
PRODID:-//OmahaAA.org - ECPv6.15.20//NONSGML v1.0//EN
CALSCALE:GREGORIAN
METHOD:PUBLISH
X-WR-CALNAME:OmahaAA.org
X-ORIGINAL-URL:https://www.omahaaa.org
X-WR-CALDESC:Events for OmahaAA.org
REFRESH-INTERVAL;VALUE=DURATION:PT1H
X-Robots-Tag:noindex
X-PUBLISHED-TTL:PT1H
BEGIN:VTIMEZONE
TZID:America/Chicago
BEGIN:DAYLIGHT
TZOFFSETFROM:-0600
TZOFFSETTO:-0500
TZNAME:CDT
DTSTART:20230312T080000
END:DAYLIGHT
BEGIN:STANDARD
TZOFFSETFROM:-0500
TZOFFSETTO:-0600
TZNAME:CST
DTSTART:20231105T070000
END:STANDARD
BEGIN:DAYLIGHT
TZOFFSETFROM:-0600
TZOFFSETTO:-0500
TZNAME:CDT
DTSTART:20240310T080000
END:DAYLIGHT
BEGIN:STANDARD
TZOFFSETFROM:-0500
TZOFFSETTO:-0600
TZNAME:CST
DTSTART:20241103T070000
END:STANDARD
BEGIN:DAYLIGHT
TZOFFSETFROM:-0600
TZOFFSETTO:-0500
TZNAME:CDT
DTSTART:20250309T080000
END:DAYLIGHT
BEGIN:STANDARD
TZOFFSETFROM:-0500
TZOFFSETTO:-0600
TZNAME:CST
DTSTART:20251102T070000
END:STANDARD
END:VTIMEZONE
BEGIN:VEVENT
DTSTART;TZID=America/Chicago:20240721T120000
DTEND;TZID=America/Chicago:20240721T190000
DTSTAMP:20260423T022612
CREATED:20240507T035044Z
LAST-MODIFIED:20240507T035949Z
UID:138683-1721563200-1721588400@www.omahaaa.org
SUMMARY:District 16 - Ragbrai Meeting and Fellowship
DESCRIPTION:District 16 – AA\n…will be welcoming the RAGBRAI riders.\nJuly 21\, 2021\n12 Noon – 7 pm\n  \nJoin us for meetings and fellowship!! \nPotluck beginning at 2:00 pm \nMeeting times – 3pm and 6pm \n  \nRed Oak Presbyterian Church \n511 E Coolbaugh Street\, Red Oak IA \nContact: Kathleen S (712) 621-5433
URL:https://www.omahaaa.org/event/district-16-ragbrai-riders/
LOCATION:Presbyterian Church-Red Oak\, 511 E Coolbaugh St\, Red Oak\, IA\, 51566\, United States
END:VEVENT
END:VCALENDAR