BEGIN:VCALENDAR
VERSION:2.0
PRODID:-//OmahaAA.org - ECPv6.15.20//NONSGML v1.0//EN
CALSCALE:GREGORIAN
METHOD:PUBLISH
X-WR-CALNAME:OmahaAA.org
X-ORIGINAL-URL:https://www.omahaaa.org
X-WR-CALDESC:Events for OmahaAA.org
REFRESH-INTERVAL;VALUE=DURATION:PT1H
X-Robots-Tag:noindex
X-PUBLISHED-TTL:PT1H
BEGIN:VTIMEZONE
TZID:America/Chicago
BEGIN:DAYLIGHT
TZOFFSETFROM:-0600
TZOFFSETTO:-0500
TZNAME:CDT
DTSTART:20230312T080000
END:DAYLIGHT
BEGIN:STANDARD
TZOFFSETFROM:-0500
TZOFFSETTO:-0600
TZNAME:CST
DTSTART:20231105T070000
END:STANDARD
BEGIN:DAYLIGHT
TZOFFSETFROM:-0600
TZOFFSETTO:-0500
TZNAME:CDT
DTSTART:20240310T080000
END:DAYLIGHT
BEGIN:STANDARD
TZOFFSETFROM:-0500
TZOFFSETTO:-0600
TZNAME:CST
DTSTART:20241103T070000
END:STANDARD
BEGIN:DAYLIGHT
TZOFFSETFROM:-0600
TZOFFSETTO:-0500
TZNAME:CDT
DTSTART:20250309T080000
END:DAYLIGHT
BEGIN:STANDARD
TZOFFSETFROM:-0500
TZOFFSETTO:-0600
TZNAME:CST
DTSTART:20251102T070000
END:STANDARD
END:VTIMEZONE
BEGIN:VEVENT
DTSTART;TZID=America/Chicago:20240921T093000
DTEND;TZID=America/Chicago:20240921T170000
DTSTAMP:20260422T095041
CREATED:20240715T185757Z
LAST-MODIFIED:20240716T025959Z
UID:139497-1726911000-1726938000@www.omahaaa.org
SUMMARY:41st Annual Oldtimers Day
DESCRIPTION:41st Annual Oldtimers Day\nSaturday September 21 \nWest Hills Church 3015 South 82nd Ave Omaha Ne \n9:30 Registration \n10:30 Shari H.- The Early Days \nTerry G.-Bill & Bob –  Their Spiritual Awakening \n12:00 Lunch – Photo \n1:00 Sobriety Countdown & Raffle \n1:30 Oldtimers Q&A \n3:00 50/50 Raffle \nZoom 889 1219 1339 \nPassword OTAA24 \nDial in 3126266799 \n http://www.oldtimersaa.org \nSee Flyer for more information \n \n 
URL:https://www.omahaaa.org/event/41st-annual-oldtimers-day/
LOCATION:West Hills Church-Omaha\, 3015 S 82nd Ave\, Omaha\, NE\, 68124\, United States
END:VEVENT
END:VCALENDAR