BEGIN:VCALENDAR
VERSION:2.0
PRODID:-//OmahaAA.org - ECPv6.15.20//NONSGML v1.0//EN
CALSCALE:GREGORIAN
METHOD:PUBLISH
X-ORIGINAL-URL:https://www.omahaaa.org
X-WR-CALDESC:Events for OmahaAA.org
REFRESH-INTERVAL;VALUE=DURATION:PT1H
X-Robots-Tag:noindex
X-PUBLISHED-TTL:PT1H
BEGIN:VTIMEZONE
TZID:America/Chicago
BEGIN:DAYLIGHT
TZOFFSETFROM:-0600
TZOFFSETTO:-0500
TZNAME:CDT
DTSTART:20230312T080000
END:DAYLIGHT
BEGIN:STANDARD
TZOFFSETFROM:-0500
TZOFFSETTO:-0600
TZNAME:CST
DTSTART:20231105T070000
END:STANDARD
BEGIN:DAYLIGHT
TZOFFSETFROM:-0600
TZOFFSETTO:-0500
TZNAME:CDT
DTSTART:20240310T080000
END:DAYLIGHT
BEGIN:STANDARD
TZOFFSETFROM:-0500
TZOFFSETTO:-0600
TZNAME:CST
DTSTART:20241103T070000
END:STANDARD
BEGIN:DAYLIGHT
TZOFFSETFROM:-0600
TZOFFSETTO:-0500
TZNAME:CDT
DTSTART:20250309T080000
END:DAYLIGHT
BEGIN:STANDARD
TZOFFSETFROM:-0500
TZOFFSETTO:-0600
TZNAME:CST
DTSTART:20251102T070000
END:STANDARD
END:VTIMEZONE
BEGIN:VEVENT
DTSTART;VALUE=DATE:20240926
DTEND;VALUE=DATE:20240930
DTSTAMP:20260422T095242
CREATED:20240527T010725Z
LAST-MODIFIED:20240906T135341Z
UID:138794-1727308800-1727654399@www.omahaaa.org
SUMMARY:27th National AA Archives Workshop
DESCRIPTION:24 Hours a Day Then & now\n\nSeptenber  26-29 \nScottish Rite Consistory – Des Moines\, IA. \nWorkshops – Presentations – Panels – Displays \nLocal Tours of Historic AA Club \nDowntown Hilton 435 Park Street 50309 \nRoom Rate: $179/Night (Book by 9/5/2024) \nCall: 1515 241 1456 \n  \n Book Online : https://book.passkey.com/e/50708871 \nOnline Registration: https://my.cheddarup.com/c/naaaw-2024 \nContact Beth C. Chair 12253330235 \nNate W. Co-Chair 15155207123 \nEmail: NAAAW0924@gmail.com \nRegistration Form an Rates Bellow \n \n  \nNational Archives Workshop Schedule \n  \n 
URL:https://www.omahaaa.org/event/workshop-27th-national-aa-archives/
LOCATION:Scottish Rite Consistory-Des Moines\, 519 Park St\, Des Moines\, IA\, 50309\, United States
END:VEVENT
END:VCALENDAR