BEGIN:VCALENDAR
VERSION:2.0
PRODID:-//OmahaAA.org - ECPv6.15.20//NONSGML v1.0//EN
CALSCALE:GREGORIAN
METHOD:PUBLISH
X-WR-CALNAME:OmahaAA.org
X-ORIGINAL-URL:https://www.omahaaa.org
X-WR-CALDESC:Events for OmahaAA.org
REFRESH-INTERVAL;VALUE=DURATION:PT1H
X-Robots-Tag:noindex
X-PUBLISHED-TTL:PT1H
BEGIN:VTIMEZONE
TZID:America/Chicago
BEGIN:DAYLIGHT
TZOFFSETFROM:-0600
TZOFFSETTO:-0500
TZNAME:CDT
DTSTART:20230312T080000
END:DAYLIGHT
BEGIN:STANDARD
TZOFFSETFROM:-0500
TZOFFSETTO:-0600
TZNAME:CST
DTSTART:20231105T070000
END:STANDARD
BEGIN:DAYLIGHT
TZOFFSETFROM:-0600
TZOFFSETTO:-0500
TZNAME:CDT
DTSTART:20240310T080000
END:DAYLIGHT
BEGIN:STANDARD
TZOFFSETFROM:-0500
TZOFFSETTO:-0600
TZNAME:CST
DTSTART:20241103T070000
END:STANDARD
BEGIN:DAYLIGHT
TZOFFSETFROM:-0600
TZOFFSETTO:-0500
TZNAME:CDT
DTSTART:20250309T080000
END:DAYLIGHT
BEGIN:STANDARD
TZOFFSETFROM:-0500
TZOFFSETTO:-0600
TZNAME:CST
DTSTART:20251102T070000
END:STANDARD
END:VTIMEZONE
BEGIN:VEVENT
DTSTART;VALUE=DATE:20241101
DTEND;VALUE=DATE:20241103
DTSTAMP:20260422T063833
CREATED:20240729T033426Z
LAST-MODIFIED:20240729T033426Z
UID:139608-1730419200-1730591999@www.omahaaa.org
SUMMARY:2024 Capital City Conference - Des Moines IA
DESCRIPTION:November 1st and 2nd \nRamada by Wyndham – Des Moines \nPre-Register by October 12!!\nQuestions? capitalcityconference@gmail.com \n Visit capitalcityconference.org for registration and details
URL:https://www.omahaaa.org/event/2024-capital-city-conference-des-moines-ia/
LOCATION:Ramada by Wyndham Des Moines\, 5000 Merle Hay Rd\, Des Moines\, IA\, 50322\, United States
END:VEVENT
BEGIN:VEVENT
DTSTART;TZID=America/Chicago:20241102T180000
DTEND;TZID=America/Chicago:20241102T200000
DTSTAMP:20260422T063833
CREATED:20241014T125406Z
LAST-MODIFIED:20241103T175124Z
UID:139882-1730570400-1730577600@www.omahaaa.org
SUMMARY:District 16 2024 Attitude of Gratitude Potluck & Speaker
DESCRIPTION:
URL:https://www.omahaaa.org/event/district-16-2024-attitude-of-gratitude-potluck-speaker/
LOCATION:Indian Creek Historical Society & Museum\, 59312 380th St\, Emerson\, IA\, 51533\, United States
END:VEVENT
END:VCALENDAR