BEGIN:VCALENDAR
VERSION:2.0
PRODID:-//OmahaAA.org - ECPv6.15.20//NONSGML v1.0//EN
CALSCALE:GREGORIAN
METHOD:PUBLISH
X-ORIGINAL-URL:https://www.omahaaa.org
X-WR-CALDESC:Events for OmahaAA.org
REFRESH-INTERVAL;VALUE=DURATION:PT1H
X-Robots-Tag:noindex
X-PUBLISHED-TTL:PT1H
BEGIN:VTIMEZONE
TZID:America/Chicago
BEGIN:DAYLIGHT
TZOFFSETFROM:-0600
TZOFFSETTO:-0500
TZNAME:CDT
DTSTART:20230312T080000
END:DAYLIGHT
BEGIN:STANDARD
TZOFFSETFROM:-0500
TZOFFSETTO:-0600
TZNAME:CST
DTSTART:20231105T070000
END:STANDARD
BEGIN:DAYLIGHT
TZOFFSETFROM:-0600
TZOFFSETTO:-0500
TZNAME:CDT
DTSTART:20240310T080000
END:DAYLIGHT
BEGIN:STANDARD
TZOFFSETFROM:-0500
TZOFFSETTO:-0600
TZNAME:CST
DTSTART:20241103T070000
END:STANDARD
BEGIN:DAYLIGHT
TZOFFSETFROM:-0600
TZOFFSETTO:-0500
TZNAME:CDT
DTSTART:20250309T080000
END:DAYLIGHT
BEGIN:STANDARD
TZOFFSETFROM:-0500
TZOFFSETTO:-0600
TZNAME:CST
DTSTART:20251102T070000
END:STANDARD
END:VTIMEZONE
BEGIN:VEVENT
DTSTART;TZID=America/Chicago:20241221T180000
DTEND;TZID=America/Chicago:20241221T220000
DTSTAMP:20260422T051757
CREATED:20241117T221227Z
LAST-MODIFIED:20241117T221309Z
UID:140577-1734804000-1734818400@www.omahaaa.org
SUMMARY:Thanksmas Celebration
DESCRIPTION:Thanksmas Celebration\nAt Primary Purpose December 21st 6-10 pm \n2618 Leavenworth \nSmoked Pork\, Ham\,Potatoes & all the fixings \nThe real Santa Will be there \nFree Will offering
URL:https://www.omahaaa.org/event/thanksmas-celebration/
LOCATION:Primary Purpose Hall-Omaha\, 2614 Leavenworth St\, Omaha\, NE\, 68105\, United States
END:VEVENT
END:VCALENDAR