BEGIN:VCALENDAR
VERSION:2.0
PRODID:-//OmahaAA.org - ECPv6.15.20//NONSGML v1.0//EN
CALSCALE:GREGORIAN
METHOD:PUBLISH
X-WR-CALNAME:OmahaAA.org
X-ORIGINAL-URL:https://www.omahaaa.org
X-WR-CALDESC:Events for OmahaAA.org
REFRESH-INTERVAL;VALUE=DURATION:PT1H
X-Robots-Tag:noindex
X-PUBLISHED-TTL:PT1H
BEGIN:VTIMEZONE
TZID:America/Chicago
BEGIN:DAYLIGHT
TZOFFSETFROM:-0600
TZOFFSETTO:-0500
TZNAME:CDT
DTSTART:20240310T080000
END:DAYLIGHT
BEGIN:STANDARD
TZOFFSETFROM:-0500
TZOFFSETTO:-0600
TZNAME:CST
DTSTART:20241103T070000
END:STANDARD
BEGIN:DAYLIGHT
TZOFFSETFROM:-0600
TZOFFSETTO:-0500
TZNAME:CDT
DTSTART:20250309T080000
END:DAYLIGHT
BEGIN:STANDARD
TZOFFSETFROM:-0500
TZOFFSETTO:-0600
TZNAME:CST
DTSTART:20251102T070000
END:STANDARD
BEGIN:DAYLIGHT
TZOFFSETFROM:-0600
TZOFFSETTO:-0500
TZNAME:CDT
DTSTART:20260308T080000
END:DAYLIGHT
BEGIN:STANDARD
TZOFFSETFROM:-0500
TZOFFSETTO:-0600
TZNAME:CST
DTSTART:20261101T070000
END:STANDARD
END:VTIMEZONE
BEGIN:VEVENT
DTSTART;TZID=America/Chicago:20250129T183000
DTEND;TZID=America/Chicago:20250129T183000
DTSTAMP:20260422T020240
CREATED:20250118T122253Z
LAST-MODIFIED:20250719T205759Z
UID:140879-1738175400-1738175400@www.omahaaa.org
SUMMARY:Online Area 41 Concept One Workshop
DESCRIPTION:Greetings Area 41! \nThis weekend I mentioned I’ll be hosting an online Twelve Concepts study this year! Everyone is invited to join and we will welcome speakers from other Areas who will share their experience\, strength and hope on a Concept once a month. We’ll include time for Q&A and I’m sure they’ll have a fun story or two to tell; who said talking about the Concepts can’t be fun?! I can’t wait to embark on this journey together and deepen our understanding of these vital principles. \nA flyer will be coming in the next few days\, but I wanted to give everyone a date to pencil in if you’re interested in joining. January’s workshop will be on Wednesday\, January 29th at 6:30pm. For February through December\, let’s plan on the 3rd Wednesday of the month at 6:30pm. If we find that time doesn’t work well\, we can shift! \nI’d love to hear from you if you’re interested in attending. Feel free to share with any member! \nIn love and service\,\nNick
URL:https://www.omahaaa.org/event/area-41-concept-one-workshop/
LOCATION:NE
CATEGORIES:Area
END:VEVENT
END:VCALENDAR