BEGIN:VCALENDAR
VERSION:2.0
PRODID:-//OmahaAA.org - ECPv6.15.20//NONSGML v1.0//EN
CALSCALE:GREGORIAN
METHOD:PUBLISH
X-ORIGINAL-URL:https://www.omahaaa.org
X-WR-CALDESC:Events for OmahaAA.org
REFRESH-INTERVAL;VALUE=DURATION:PT1H
X-Robots-Tag:noindex
X-PUBLISHED-TTL:PT1H
BEGIN:VTIMEZONE
TZID:America/Chicago
BEGIN:DAYLIGHT
TZOFFSETFROM:-0600
TZOFFSETTO:-0500
TZNAME:CDT
DTSTART:20240310T080000
END:DAYLIGHT
BEGIN:STANDARD
TZOFFSETFROM:-0500
TZOFFSETTO:-0600
TZNAME:CST
DTSTART:20241103T070000
END:STANDARD
BEGIN:DAYLIGHT
TZOFFSETFROM:-0600
TZOFFSETTO:-0500
TZNAME:CDT
DTSTART:20250309T080000
END:DAYLIGHT
BEGIN:STANDARD
TZOFFSETFROM:-0500
TZOFFSETTO:-0600
TZNAME:CST
DTSTART:20251102T070000
END:STANDARD
BEGIN:DAYLIGHT
TZOFFSETFROM:-0600
TZOFFSETTO:-0500
TZNAME:CDT
DTSTART:20260308T080000
END:DAYLIGHT
BEGIN:STANDARD
TZOFFSETFROM:-0500
TZOFFSETTO:-0600
TZNAME:CST
DTSTART:20261101T070000
END:STANDARD
BEGIN:DAYLIGHT
TZOFFSETFROM:-0600
TZOFFSETTO:-0500
TZNAME:CDT
DTSTART:20270314T080000
END:DAYLIGHT
BEGIN:STANDARD
TZOFFSETFROM:-0500
TZOFFSETTO:-0600
TZNAME:CST
DTSTART:20271107T070000
END:STANDARD
END:VTIMEZONE
BEGIN:VEVENT
DTSTART;TZID=America/Chicago:20260415T180000
DTEND;TZID=America/Chicago:20260415T190000
DTSTAMP:20260419T105346
CREATED:20260111T211534Z
LAST-MODIFIED:20260209T230044Z
UID:146798-1776276000-1776279600@www.omahaaa.org
SUMMARY:Alcathon Committee Meeting
DESCRIPTION:Monthly on the third Wednesday at 6:00pm\n\n 	In Person and Virtual\n\n 	Omaha Central Office\, 6831 Grover St\, Omaha\, NE 68106 (Directions)\n\n 	Virtual – Join Meeting\n\n 	Zoom Meeting ID: 867 8704 6851\n\n 	Passcode: 284705\n\n\n\n\n\nAny member of Alcoholics Anonymous in the Omaha metropolitan area may participate in a Standing Committee\, regardless of whether being a voting member at Intergroup. View committee page/contact: omahaaa.org/alcathon
URL:https://www.omahaaa.org/event/alcathon-committee-monthly-meeting/
LOCATION:Omaha Central Office\, 6831 Grover St\, Omaha\, NE\, 68106\, United States
CATEGORIES:Alcathon,Committees,Service
END:VEVENT
BEGIN:VEVENT
DTSTART;TZID=America/Chicago:20260318T180000
DTEND;TZID=America/Chicago:20260318T190000
DTSTAMP:20260419T105346
CREATED:20251022T181154Z
LAST-MODIFIED:20260209T225924Z
UID:146074-1773856800-1773860400@www.omahaaa.org
SUMMARY:Alcathon Committee Meeting
DESCRIPTION:Monthly on the third Wednesday at 6:00pm\n\n 	In Person and Virtual\n\n 	Omaha Central Office\, 6831 Grover St\, Omaha\, NE 68106 (Directions)\n\n 	Virtual – Join Meeting\n\n 	Zoom Meeting ID: 867 8704 6851\n\n 	Passcode: 284705\n\n\n\n\n\nAny member of Alcoholics Anonymous in the Omaha metropolitan area may participate in a Standing Committee\, regardless of whether being a voting member at Intergroup. View committee page/contact: omahaaa.org/alcathon
URL:https://www.omahaaa.org/event/alcathon-26-03/
LOCATION:Omaha Central Office\, 6831 Grover St\, Omaha\, NE\, 68106\, United States
CATEGORIES:Alcathon,Committees,Service
END:VEVENT
BEGIN:VEVENT
DTSTART;TZID=America/Chicago:20260218T180000
DTEND;TZID=America/Chicago:20260218T190000
DTSTAMP:20260419T105346
CREATED:20251022T181133Z
LAST-MODIFIED:20260209T225823Z
UID:146073-1771437600-1771441200@www.omahaaa.org
SUMMARY:Alcathon Committee Meeting
DESCRIPTION:Monthly on the third Wednesday at 6:00pm\n\n\n\nIn Person and Virtual\n\n\n\nOmaha Central Office\, 6831 Grover St\, Omaha\, NE 68106 (Directions)\n\n\n\nVirtual – Join Meeting\n\nZoom Meeting ID: 867 8704 6851\n\n\n\nPasscode: 284705\n\n\n\n\nAny member of Alcoholics Anonymous in the Omaha metropolitan area may participate in a Standing Committee\, regardless of whether being a voting member at Intergroup. View committee page/contact: omahaaa.org/alcathon
URL:https://www.omahaaa.org/event/alcathon-26-02/
LOCATION:Omaha Central Office\, 6831 Grover St\, Omaha\, NE\, 68106\, United States
CATEGORIES:Alcathon,Committees,Service
END:VEVENT
BEGIN:VEVENT
DTSTART;TZID=America/Chicago:20260121T180000
DTEND;TZID=America/Chicago:20260121T190000
DTSTAMP:20260419T105346
CREATED:20251022T181117Z
LAST-MODIFIED:20260111T213317Z
UID:146072-1769018400-1769022000@www.omahaaa.org
SUMMARY:Alcathon Committee Meeting
DESCRIPTION:Omaha Metro Intergroup – Alcathon Committee\nMonthly on the third Wednesday at 6:00pm \nIn Person and Virtual\nOmaha Central Office\, 6831 Grover St\, Omaha\, NE 68106\nZoom Meeting ID: To be confirmed. \nAny member of Alcoholics Anonymous in the Omaha metropolitan area may participate in a Standing Committee\, regardless of whether being a voting member at Intergroup. \nView committee page/contact: omahaaa.org/alcathon
URL:https://www.omahaaa.org/event/alcathon-26-01/
LOCATION:Omaha Central Office\, 6831 Grover St\, Omaha\, NE\, 68106\, United States
CATEGORIES:Alcathon,Committees,Service
END:VEVENT
BEGIN:VEVENT
DTSTART;TZID=America/Chicago:20251231T120000
DTEND;TZID=America/Chicago:20260101T180000
DTSTAMP:20260419T105346
CREATED:20250527T025317Z
LAST-MODIFIED:20251122T184043Z
UID:143788-1767182400-1767290400@www.omahaaa.org
SUMMARY:2025-2026 Alcathon
DESCRIPTION:Mark your calendars for this year’s Alcathon!\nFrom noon on December 31\, 2025 to 6PM on January 1\, 2026.\nWestside Community Center\n3534 S 108th St\, Omaha\, NE 68144 \nVisit our Committee/Event page (omahaaa.org/alcathon) for all event details\, to date!
URL:https://www.omahaaa.org/event/omaha-alcathon-save-the-date/
LOCATION:Westside Community Center-Omaha\, 3534 S 108th St\, Omaha\, NE\, 68144\, United States
CATEGORIES:Alcathon,Archives,Bridging the Gap,CPC/PI,District 1,District 18,District 19,District 2,District 20,District 23,District 25,District 28,District 6 (Iowa),Events,Grapevine,Hotline,Technology
END:VEVENT
BEGIN:VEVENT
DTSTART;TZID=America/Chicago:20251217T180000
DTEND;TZID=America/Chicago:20251217T190000
DTSTAMP:20260419T105346
CREATED:20250821T001550Z
LAST-MODIFIED:20251210T144948Z
UID:145342-1765994400-1765998000@www.omahaaa.org
SUMMARY:Alcathon Committee Monthly Meeting
DESCRIPTION:Omaha Metro Intergroup – Alcathon Committee\nMonthly on the third Wednesday at 6:00pm \nIn Person and Virtual\nOmaha Central Office\, 6831 Grover St\, Omaha\, NE 68106\nZoom Meeting ID: 867 8704 6851\nPasscode: 284705 \nAny member of Alcoholics Anonymous in the Omaha metropolitan area may participate in a Standing Committee\, regardless of whether being a voting member at Intergroup. \nView committee page/contact: omahaaa.org/alcathon
URL:https://www.omahaaa.org/event/alcathon-25-12/
LOCATION:Omaha Central Office\, 6831 Grover St\, Omaha\, NE\, 68106\, United States
CATEGORIES:Alcathon,Committees
END:VEVENT
BEGIN:VEVENT
DTSTART;TZID=America/Chicago:20251210T180000
DTEND;TZID=America/Chicago:20251210T190000
DTSTAMP:20260419T105346
CREATED:20251202T021947Z
LAST-MODIFIED:20251210T144944Z
UID:146516-1765389600-1765393200@www.omahaaa.org
SUMMARY:Alcathon Committee Meeting
DESCRIPTION:Extra planning meeting as the event gets closer!\nIn Person and Virtual\nOmaha Central Office\, 6831 Grover St\, Omaha\, NE 68106\nZoom Meeting ID: 867 8704 6851\nPasscode: 284705 \nAny member of Alcoholics Anonymous in the Omaha metropolitan area may participate in a Standing Committee\, regardless of whether being a voting member at Intergroup. \nView committee page/contact: omahaaa.org/alcathon
URL:https://www.omahaaa.org/event/alcathon-committee-meeting/
LOCATION:Omaha Central Office\, 6831 Grover St\, Omaha\, NE\, 68106\, United States
CATEGORIES:Alcathon,Committees
END:VEVENT
BEGIN:VEVENT
DTSTART;TZID=America/Chicago:20251119T180000
DTEND;TZID=America/Chicago:20251119T190000
DTSTAMP:20260419T105346
CREATED:20250821T001547Z
LAST-MODIFIED:20250821T001547Z
UID:145341-1763575200-1763578800@www.omahaaa.org
SUMMARY:Alcathon Committee Monthly Meeting
DESCRIPTION:Omaha Metro Intergroup – Alcathon Committee\nMonthly on the third Wednesday at 6:00pm \nIn Person and Virtual\nOmaha Central Office\, 6831 Grover St\, Omaha\, NE 68106\nZoom Meeting ID: To be confirmed. \nAny member of Alcoholics Anonymous in the Omaha metropolitan area may participate in a Standing Committee\, regardless of whether being a voting member at Intergroup. \nView committee page/contact: omahaaa.org/alcathon
URL:https://www.omahaaa.org/event/alcathon-25-11/
LOCATION:Omaha Central Office\, 6831 Grover St\, Omaha\, NE\, 68106\, United States
CATEGORIES:Alcathon,Committees
END:VEVENT
BEGIN:VEVENT
DTSTART;TZID=America/Chicago:20251015T180000
DTEND;TZID=America/Chicago:20251015T190000
DTSTAMP:20260419T105346
CREATED:20250821T001544Z
LAST-MODIFIED:20250917T041408Z
UID:145340-1760551200-1760554800@www.omahaaa.org
SUMMARY:Alcathon Committee Monthly Meeting
DESCRIPTION:Omaha Metro Intergroup – Alcathon Committee\nMonthly on the third Wednesday at 6:00pm \nIn Person and Virtual\nOmaha Central Office\, 6831 Grover St\, Omaha\, NE 68106\nZoom Meeting ID: To be confirmed. \nAny member of Alcoholics Anonymous in the Omaha metropolitan area may participate in a Standing Committee\, regardless of whether being a voting member at Intergroup. \nView committee page/contact: omahaaa.org/alcathon
URL:https://www.omahaaa.org/event/alcathon-25-10/
LOCATION:Omaha Central Office\, 6831 Grover St\, Omaha\, NE\, 68106\, United States
CATEGORIES:Alcathon,Committees,Service
END:VEVENT
BEGIN:VEVENT
DTSTART;VALUE=DATE:20251002
DTEND;VALUE=DATE:20251005
DTSTAMP:20260419T105346
CREATED:20250827T150752Z
LAST-MODIFIED:20251002T052538Z
UID:145383-1759363200-1759622399@www.omahaaa.org
SUMMARY:2025-2026 Alcathon - Meeting room bookings and donation/volunteer signups go live!
DESCRIPTION:Meeting room bookings and donation/volunteer signups go live on October 2\, 2025 at 12:01 AM! First come\, first served.  \n🔗 Meeting Room Booking\n🔗 Donation and Volunteer Signups \nVisit our Committee/Event page (omahaaa.org/alcathon) for all event details\, to date!
URL:https://www.omahaaa.org/event/2025-alcathon-bookings/
LOCATION:🛜 Virtual
CATEGORIES:Alcathon,Committees,Events
END:VEVENT
BEGIN:VEVENT
DTSTART;TZID=America/Chicago:20250917T180000
DTEND;TZID=America/Chicago:20250917T190000
DTSTAMP:20260419T105346
CREATED:20250627T183824Z
LAST-MODIFIED:20250716T205634Z
UID:144537-1758132000-1758135600@www.omahaaa.org
SUMMARY:Alcathon Committee Monthly Meeting
DESCRIPTION:Omaha Metro Intergroup – Alcathon Committee\nMonthly on the third Wednesday at 6:00pm \nIn Person and Virtual\nOmaha Central Office\, 6831 Grover St\, Omaha\, NE 68106\nZoom Meeting ID: To be confirmed. \nAny member of Alcoholics Anonymous in the Omaha metropolitan area may participate in a Standing Committee\, regardless of whether being a voting member at Intergroup. \nView committee page/contact: omahaaa.org/alcathon
URL:https://www.omahaaa.org/event/alcathon-25-09/
LOCATION:Omaha Central Office\, 6831 Grover St\, Omaha\, NE\, 68106\, United States
CATEGORIES:Alcathon,Committees,Service
END:VEVENT
BEGIN:VEVENT
DTSTART;TZID=America/Chicago:20250820T180000
DTEND;TZID=America/Chicago:20250820T190000
DTSTAMP:20260419T105346
CREATED:20250627T183751Z
LAST-MODIFIED:20250716T205620Z
UID:144536-1755712800-1755716400@www.omahaaa.org
SUMMARY:Alcathon Committee Monthly Meeting
DESCRIPTION:Omaha Metro Intergroup – Alcathon Committee\nMonthly on the third Wednesday at 6:00pm \nIn Person and Virtual\nOmaha Central Office\, 6831 Grover St\, Omaha\, NE 68106\nZoom Meeting ID: To be confirmed. \nAny member of Alcoholics Anonymous in the Omaha metropolitan area may participate in a Standing Committee\, regardless of whether being a voting member at Intergroup. \nView committee page/contact: omahaaa.org/alcathon
URL:https://www.omahaaa.org/event/alcathon-25-08/
LOCATION:Omaha Central Office\, 6831 Grover St\, Omaha\, NE\, 68106\, United States
CATEGORIES:Alcathon,Committees,Service
END:VEVENT
BEGIN:VEVENT
DTSTART;TZID=America/Chicago:20250716T180000
DTEND;TZID=America/Chicago:20250716T190000
DTSTAMP:20260419T105346
CREATED:20250627T183800Z
LAST-MODIFIED:20250716T205447Z
UID:144532-1752688800-1752692400@www.omahaaa.org
SUMMARY:Alcathon Committee Monthly Meeting
DESCRIPTION:Omaha Metro Intergroup – Alcathon Committee\nMonthly on the third Wednesday at 6:00pm \nIn Person and Virtual\nOmaha Central Office\, 6831 Grover St\, Omaha\, NE 68106\nZoom Meeting ID 862 0807 3793\nPasscode 699051 \nAny member of Alcoholics Anonymous in the Omaha metropolitan area may participate in a Standing Committee\, regardless of whether being a voting member at Intergroup. \nView committee page/contact: omahaaa.org/alcathon
URL:https://www.omahaaa.org/event/alcathon-25-07/
LOCATION:Omaha Central Office\, 6831 Grover St\, Omaha\, NE\, 68106\, United States
CATEGORIES:Alcathon,Committees,Service
END:VEVENT
END:VCALENDAR