BEGIN:VCALENDAR
VERSION:2.0
PRODID:-//OmahaAA.org - ECPv6.15.20//NONSGML v1.0//EN
CALSCALE:GREGORIAN
METHOD:PUBLISH
X-ORIGINAL-URL:https://www.omahaaa.org
X-WR-CALDESC:Events for OmahaAA.org
REFRESH-INTERVAL;VALUE=DURATION:PT1H
X-Robots-Tag:noindex
X-PUBLISHED-TTL:PT1H
BEGIN:VTIMEZONE
TZID:America/Chicago
BEGIN:DAYLIGHT
TZOFFSETFROM:-0600
TZOFFSETTO:-0500
TZNAME:CDT
DTSTART:20240310T080000
END:DAYLIGHT
BEGIN:STANDARD
TZOFFSETFROM:-0500
TZOFFSETTO:-0600
TZNAME:CST
DTSTART:20241103T070000
END:STANDARD
BEGIN:DAYLIGHT
TZOFFSETFROM:-0600
TZOFFSETTO:-0500
TZNAME:CDT
DTSTART:20250309T080000
END:DAYLIGHT
BEGIN:STANDARD
TZOFFSETFROM:-0500
TZOFFSETTO:-0600
TZNAME:CST
DTSTART:20251102T070000
END:STANDARD
BEGIN:DAYLIGHT
TZOFFSETFROM:-0600
TZOFFSETTO:-0500
TZNAME:CDT
DTSTART:20260308T080000
END:DAYLIGHT
BEGIN:STANDARD
TZOFFSETFROM:-0500
TZOFFSETTO:-0600
TZNAME:CST
DTSTART:20261101T070000
END:STANDARD
BEGIN:DAYLIGHT
TZOFFSETFROM:-0600
TZOFFSETTO:-0500
TZNAME:CDT
DTSTART:20270314T080000
END:DAYLIGHT
BEGIN:STANDARD
TZOFFSETFROM:-0500
TZOFFSETTO:-0600
TZNAME:CST
DTSTART:20271107T070000
END:STANDARD
END:VTIMEZONE
BEGIN:VEVENT
DTSTART;TZID=America/Chicago:20260416T181500
DTEND;TZID=America/Chicago:20260416T191500
DTSTAMP:20260421T204757
CREATED:20260209T232953Z
LAST-MODIFIED:20260209T232953Z
UID:147050-1776363300-1776366900@www.omahaaa.org
SUMMARY:Bridging the Gap Committee Monthly Meeting
DESCRIPTION:Monthly on the third Thursday at 6:15pm In Person and Virtual \n\nOmaha Central Office\n6831 Grover St\, Omaha\, NE 68106 (Directions)\n\n\n\n\nJoin Virtually\n\n\n\nZoom Meeting ID: 862 2199 4785\n\n\n\nPasscode: 140597\n\n  \nAny member of Alcoholics Anonymous in the Omaha metropolitan area may participate in a Standing Committee\, regardless of whether being a voting member at Intergroup. View committee page/contact: omahaaa.org/btg
URL:https://www.omahaaa.org/event/bridging-the-gap-committee-monthly-meeting/
LOCATION:Omaha Central Office\, 6831 Grover St\, Omaha\, NE\, 68106\, United States
CATEGORIES:Bridging the Gap,Committees,Service
END:VEVENT
BEGIN:VEVENT
DTSTART;TZID=America/Chicago:20260319T181500
DTEND;TZID=America/Chicago:20260319T191500
DTSTAMP:20260421T204757
CREATED:20251022T182238Z
LAST-MODIFIED:20260209T232748Z
UID:146084-1773944100-1773947700@www.omahaaa.org
SUMMARY:Bridging the Gap Committee Monthly Meeting
DESCRIPTION:Monthly on the third Thursday at 6:15pm In Person and Virtual \n\nOmaha Central Office\n6831 Grover St\, Omaha\, NE 68106 (Directions)\n\n\n\n\nJoin Virtually\n\n\n\nZoom Meeting ID: 862 2199 4785\n\n\n\nPasscode: 140597\n\n  \nAny member of Alcoholics Anonymous in the Omaha metropolitan area may participate in a Standing Committee\, regardless of whether being a voting member at Intergroup. View committee page/contact: omahaaa.org/btg
URL:https://www.omahaaa.org/event/btg-26-03/
LOCATION:Omaha Central Office\, 6831 Grover St\, Omaha\, NE\, 68106\, United States
CATEGORIES:Bridging the Gap,Committees,Service
END:VEVENT
BEGIN:VEVENT
DTSTART;TZID=America/Chicago:20260219T181500
DTEND;TZID=America/Chicago:20260219T191500
DTSTAMP:20260421T204757
CREATED:20251022T182319Z
LAST-MODIFIED:20260209T232538Z
UID:146083-1771524900-1771528500@www.omahaaa.org
SUMMARY:Bridging the Gap Committee Monthly Meeting
DESCRIPTION:Monthly on the third Thursday at 6:15pm In Person and Virtual \n\nOmaha Central Office\n6831 Grover St\, Omaha\, NE 68106 (Directions)\n\n\n\n\nJoin Virtually\n\n\n\nZoom Meeting ID: 862 2199 4785\n\n\n\nPasscode: 140597\n\n  \nAny member of Alcoholics Anonymous in the Omaha metropolitan area may participate in a Standing Committee\, regardless of whether being a voting member at Intergroup. View committee page/contact: omahaaa.org/btg
URL:https://www.omahaaa.org/event/btg-26-02/
LOCATION:Omaha Central Office\, 6831 Grover St\, Omaha\, NE\, 68106\, United States
CATEGORIES:Bridging the Gap,Committees,Service
END:VEVENT
BEGIN:VEVENT
DTSTART;TZID=America/Chicago:20260115T181500
DTEND;TZID=America/Chicago:20260115T191500
DTSTAMP:20260421T204757
CREATED:20251022T182154Z
LAST-MODIFIED:20251022T183131Z
UID:146082-1768500900-1768504500@www.omahaaa.org
SUMMARY:Bridging the Gap Committee Monthly Meeting
DESCRIPTION:Omaha Metro Intergroup – Bridging the Gap Committee\nMonthly on the third Thursday at 6:15pm \nIn Person and Virtual\nOmaha Central Office\, 6831 Grover St\, Omaha\, NE 68106\nZoom Meeting ID: 862 2199 4785\nPasscode: 140597 \nAny member of Alcoholics Anonymous in the Omaha metropolitan area may participate in a Standing Committee\, regardless of whether being a voting member at Intergroup. \nView committee page/contact: omahaaa.org/btg
URL:https://www.omahaaa.org/event/btg-26-01/
LOCATION:Omaha Central Office\, 6831 Grover St\, Omaha\, NE\, 68106\, United States
CATEGORIES:Bridging the Gap,Committees,Service
END:VEVENT
BEGIN:VEVENT
DTSTART;TZID=America/Chicago:20251231T120000
DTEND;TZID=America/Chicago:20260101T180000
DTSTAMP:20260421T204757
CREATED:20250527T025317Z
LAST-MODIFIED:20251122T184043Z
UID:143788-1767182400-1767290400@www.omahaaa.org
SUMMARY:2025-2026 Alcathon
DESCRIPTION:Mark your calendars for this year’s Alcathon!\nFrom noon on December 31\, 2025 to 6PM on January 1\, 2026.\nWestside Community Center\n3534 S 108th St\, Omaha\, NE 68144 \nVisit our Committee/Event page (omahaaa.org/alcathon) for all event details\, to date!
URL:https://www.omahaaa.org/event/omaha-alcathon-save-the-date/
LOCATION:Westside Community Center-Omaha\, 3534 S 108th St\, Omaha\, NE\, 68144\, United States
CATEGORIES:Alcathon,Archives,Bridging the Gap,CPC/PI,District 1,District 18,District 19,District 2,District 20,District 23,District 25,District 28,District 6 (Iowa),Events,Grapevine,Hotline,Technology
END:VEVENT
BEGIN:VEVENT
DTSTART;TZID=America/Chicago:20251218T181500
DTEND;TZID=America/Chicago:20251218T191500
DTSTAMP:20260421T204757
CREATED:20251022T182135Z
LAST-MODIFIED:20251022T183127Z
UID:146081-1766081700-1766085300@www.omahaaa.org
SUMMARY:Bridging the Gap Committee Monthly Meeting
DESCRIPTION:Omaha Metro Intergroup – Bridging the Gap Committee\nMonthly on the third Thursday at 6:15pm \nIn Person and Virtual\nOmaha Central Office\, 6831 Grover St\, Omaha\, NE 68106\nZoom Meeting ID: 862 2199 4785\nPasscode: 140597 \nAny member of Alcoholics Anonymous in the Omaha metropolitan area may participate in a Standing Committee\, regardless of whether being a voting member at Intergroup. \nView committee page/contact: omahaaa.org/btg
URL:https://www.omahaaa.org/event/btg-25-12/
LOCATION:Omaha Central Office\, 6831 Grover St\, Omaha\, NE\, 68106\, United States
CATEGORIES:Bridging the Gap,Committees,Service
END:VEVENT
BEGIN:VEVENT
DTSTART;TZID=America/Chicago:20251213T170000
DTEND;TZID=America/Chicago:20251213T230000
DTSTAMP:20260421T204757
CREATED:20250531T052947Z
LAST-MODIFIED:20251107T181821Z
UID:144145-1765645200-1765666800@www.omahaaa.org
SUMMARY:2025 Christmas Party
DESCRIPTION:2025 Christmas Party tickets are now on sale!\nVisit our Committee/Event page (omahaaa.org/party) for event details\, or hop straight to the ticket purchase form! \n \n2025 Christmas Party\n& Central Office Fundraiser\nSaturday\, December 13\, 2025\nThe Steppe Center\, 11730 Peel Circle\, La Vista\, NE \nFull Dinner Event\, 5 PM-11 PM\, table seating\nSpeaker Only\, 7 PM-11 PM\, perimeter seating \nEvent page: omahaaa.org/party
URL:https://www.omahaaa.org/event/2025-christmas-party/
LOCATION:The Steppe Center-La Vista\, 11730 Peel Cir\, La Vista\, NE\, 68128\, United States
CATEGORIES:Archives,Bridging the Gap,Central Office,Christmas Party,Committees,CPC/PI,District 1,District 18,District 19,District 2,District 20,District 23,District 25,District 28,District 6 (Iowa),Events,Grapevine,Hotline,Technology
END:VEVENT
BEGIN:VEVENT
DTSTART;TZID=America/Chicago:20251120T181500
DTEND;TZID=America/Chicago:20251120T191500
DTSTAMP:20260421T204757
CREATED:20251022T182005Z
LAST-MODIFIED:20251022T183123Z
UID:146078-1763662500-1763666100@www.omahaaa.org
SUMMARY:Bridging the Gap Committee Monthly Meeting
DESCRIPTION:Omaha Metro Intergroup – Bridging the Gap Committee\nMonthly on the third Thursday at 6:15pm \nIn Person and Virtual\nOmaha Central Office\, 6831 Grover St\, Omaha\, NE 68106\nZoom Meeting ID: 862 2199 4785\nPasscode: 140597 \nAny member of Alcoholics Anonymous in the Omaha metropolitan area may participate in a Standing Committee\, regardless of whether being a voting member at Intergroup. \nView committee page/contact: omahaaa.org/btg
URL:https://www.omahaaa.org/event/btg-25-11/
LOCATION:Omaha Central Office\, 6831 Grover St\, Omaha\, NE\, 68106\, United States
CATEGORIES:Bridging the Gap,Committees,Service
END:VEVENT
END:VCALENDAR