BEGIN:VCALENDAR
VERSION:2.0
PRODID:-//OmahaAA.org - ECPv6.15.20//NONSGML v1.0//EN
CALSCALE:GREGORIAN
METHOD:PUBLISH
X-ORIGINAL-URL:https://www.omahaaa.org
X-WR-CALDESC:Events for OmahaAA.org
REFRESH-INTERVAL;VALUE=DURATION:PT1H
X-Robots-Tag:noindex
X-PUBLISHED-TTL:PT1H
BEGIN:VTIMEZONE
TZID:America/Chicago
BEGIN:DAYLIGHT
TZOFFSETFROM:-0600
TZOFFSETTO:-0500
TZNAME:CDT
DTSTART:20240310T080000
END:DAYLIGHT
BEGIN:STANDARD
TZOFFSETFROM:-0500
TZOFFSETTO:-0600
TZNAME:CST
DTSTART:20241103T070000
END:STANDARD
BEGIN:DAYLIGHT
TZOFFSETFROM:-0600
TZOFFSETTO:-0500
TZNAME:CDT
DTSTART:20250309T080000
END:DAYLIGHT
BEGIN:STANDARD
TZOFFSETFROM:-0500
TZOFFSETTO:-0600
TZNAME:CST
DTSTART:20251102T070000
END:STANDARD
BEGIN:DAYLIGHT
TZOFFSETFROM:-0600
TZOFFSETTO:-0500
TZNAME:CDT
DTSTART:20260308T080000
END:DAYLIGHT
BEGIN:STANDARD
TZOFFSETFROM:-0500
TZOFFSETTO:-0600
TZNAME:CST
DTSTART:20261101T070000
END:STANDARD
BEGIN:DAYLIGHT
TZOFFSETFROM:-0600
TZOFFSETTO:-0500
TZNAME:CDT
DTSTART:20270314T080000
END:DAYLIGHT
BEGIN:STANDARD
TZOFFSETFROM:-0500
TZOFFSETTO:-0600
TZNAME:CST
DTSTART:20271107T070000
END:STANDARD
END:VTIMEZONE
BEGIN:VEVENT
DTSTART;TZID=America/Chicago:20260326T180000
DTEND;TZID=America/Chicago:20260326T190000
DTSTAMP:20260422T082156
CREATED:20251022T192054Z
LAST-MODIFIED:20260208T235018Z
UID:146143-1774548000-1774551600@www.omahaaa.org
SUMMARY:Grapevine Committee Monthly Meeting
DESCRIPTION:Omaha Metro Intergroup – Grapevine and La Viña Committee\nMonthly on the last Thursday at 6:00pm \nIn Person and Virtual\nOmaha Central Office\, 6831 Grover St\, Omaha\, NE 68106\nZoom Meeting ID 850 7956 2237\nPasscode 917058 \nAny member of Alcoholics Anonymous in the Omaha metropolitan area may participate in a Standing Committee\, regardless of whether being a voting member at Intergroup. \nView committee page/contact: omahaaa.org/grapevine
URL:https://www.omahaaa.org/event/grapevine-26-03/
LOCATION:Omaha Central Office\, 6831 Grover St\, Omaha\, NE\, 68106\, United States
CATEGORIES:Committees,Grapevine,Service
END:VEVENT
BEGIN:VEVENT
DTSTART;TZID=America/Chicago:20260226T180000
DTEND;TZID=America/Chicago:20260226T190000
DTSTAMP:20260422T082156
CREATED:20251022T192026Z
LAST-MODIFIED:20260208T234825Z
UID:146142-1772128800-1772132400@www.omahaaa.org
SUMMARY:Grapevine Committee Monthly Meeting
DESCRIPTION:Omaha Metro Intergroup – Grapevine and La Viña Committee\nMonthly on the last Thursday at 6:00pm \nIn Person and Virtual\nOmaha Central Office\, 6831 Grover St\, Omaha\, NE 68106\nZoom Meeting ID 850 7956 2237\nPasscode 917058 \nAny member of Alcoholics Anonymous in the Omaha metropolitan area may participate in a Standing Committee\, regardless of whether being a voting member at Intergroup. \nView committee page/contact: omahaaa.org/grapevine
URL:https://www.omahaaa.org/event/grapevine-26-02/
LOCATION:Omaha Central Office\, 6831 Grover St\, Omaha\, NE\, 68106\, United States
CATEGORIES:Committees,Grapevine,Service
END:VEVENT
BEGIN:VEVENT
DTSTART;TZID=America/Chicago:20260129T180000
DTEND;TZID=America/Chicago:20260129T180000
DTSTAMP:20260422T082156
CREATED:20251022T192010Z
LAST-MODIFIED:20260130T000559Z
UID:146141-1769709600-1769709600@www.omahaaa.org
SUMMARY:Grapevine Committee Monthly Meeting
DESCRIPTION:Omaha Metro Intergroup – Grapevine and La Viña Committee\nMonthly on the last Thursday at 6:00pm \nIn Person and Virtual\nOmaha Central Office\, 6831 Grover St\, Omaha\, NE 68106\nZoom Meeting ID 844 8452 3225\nPasscode GV \nAny member of Alcoholics Anonymous in the Omaha metropolitan area may participate in a Standing Committee\, regardless of whether being a voting member at Intergroup. \nView committee page/contact: omahaaa.org/grapevine
URL:https://www.omahaaa.org/event/grapevine-26-01/
LOCATION:Omaha Central Office\, 6831 Grover St\, Omaha\, NE\, 68106\, United States
CATEGORIES:Committees,Grapevine,Service
END:VEVENT
BEGIN:VEVENT
DTSTART;TZID=America/Chicago:20251231T120000
DTEND;TZID=America/Chicago:20260101T180000
DTSTAMP:20260422T082156
CREATED:20250527T025317Z
LAST-MODIFIED:20251122T184043Z
UID:143788-1767182400-1767290400@www.omahaaa.org
SUMMARY:2025-2026 Alcathon
DESCRIPTION:Mark your calendars for this year’s Alcathon!\nFrom noon on December 31\, 2025 to 6PM on January 1\, 2026.\nWestside Community Center\n3534 S 108th St\, Omaha\, NE 68144 \nVisit our Committee/Event page (omahaaa.org/alcathon) for all event details\, to date!
URL:https://www.omahaaa.org/event/omaha-alcathon-save-the-date/
LOCATION:Westside Community Center-Omaha\, 3534 S 108th St\, Omaha\, NE\, 68144\, United States
CATEGORIES:Alcathon,Archives,Bridging the Gap,CPC/PI,District 1,District 18,District 19,District 2,District 20,District 23,District 25,District 28,District 6 (Iowa),Events,Grapevine,Hotline,Technology
END:VEVENT
BEGIN:VEVENT
DTSTART;TZID=America/Chicago:20251213T170000
DTEND;TZID=America/Chicago:20251213T230000
DTSTAMP:20260422T082156
CREATED:20250531T052947Z
LAST-MODIFIED:20251107T181821Z
UID:144145-1765645200-1765666800@www.omahaaa.org
SUMMARY:2025 Christmas Party
DESCRIPTION:2025 Christmas Party tickets are now on sale!\nVisit our Committee/Event page (omahaaa.org/party) for event details\, or hop straight to the ticket purchase form! \n \n2025 Christmas Party\n& Central Office Fundraiser\nSaturday\, December 13\, 2025\nThe Steppe Center\, 11730 Peel Circle\, La Vista\, NE \nFull Dinner Event\, 5 PM-11 PM\, table seating\nSpeaker Only\, 7 PM-11 PM\, perimeter seating \nEvent page: omahaaa.org/party
URL:https://www.omahaaa.org/event/2025-christmas-party/
LOCATION:The Steppe Center-La Vista\, 11730 Peel Cir\, La Vista\, NE\, 68128\, United States
CATEGORIES:Archives,Bridging the Gap,Central Office,Christmas Party,Committees,CPC/PI,District 1,District 18,District 19,District 2,District 20,District 23,District 25,District 28,District 6 (Iowa),Events,Grapevine,Hotline,Technology
END:VEVENT
BEGIN:VEVENT
DTSTART;TZID=America/Chicago:20251030T180000
DTEND;TZID=America/Chicago:20251030T190000
DTSTAMP:20260422T082156
CREATED:20251022T191904Z
LAST-MODIFIED:20251031T002013Z
UID:146139-1761847200-1761850800@www.omahaaa.org
SUMMARY:Grapevine Committee Monthly Meeting
DESCRIPTION:Omaha Metro Intergroup – Grapevine and La Viña Committee\nMonthly on the last Thursday at 6:00pm \nIn Person and Virtual\nOmaha Central Office\, 6831 Grover St\, Omaha\, NE 68106 \nAny member of Alcoholics Anonymous in the Omaha metropolitan area may participate in a Standing Committee\, regardless of whether being a voting member at Intergroup. \nView committee page/contact: omahaaa.org/grapevine
URL:https://www.omahaaa.org/event/grapevine-25-10/
LOCATION:Omaha Central Office\, 6831 Grover St\, Omaha\, NE\, 68106\, United States
CATEGORIES:Committees,Grapevine,Service
END:VEVENT
END:VCALENDAR