BEGIN:VCALENDAR
VERSION:2.0
PRODID:-//OmahaAA.org - ECPv6.15.20//NONSGML v1.0//EN
CALSCALE:GREGORIAN
METHOD:PUBLISH
X-ORIGINAL-URL:https://www.omahaaa.org
X-WR-CALDESC:Events for OmahaAA.org
REFRESH-INTERVAL;VALUE=DURATION:PT1H
X-Robots-Tag:noindex
X-PUBLISHED-TTL:PT1H
BEGIN:VTIMEZONE
TZID:America/Chicago
BEGIN:DAYLIGHT
TZOFFSETFROM:-0600
TZOFFSETTO:-0500
TZNAME:CDT
DTSTART:20250309T080000
END:DAYLIGHT
BEGIN:STANDARD
TZOFFSETFROM:-0500
TZOFFSETTO:-0600
TZNAME:CST
DTSTART:20251102T070000
END:STANDARD
BEGIN:DAYLIGHT
TZOFFSETFROM:-0600
TZOFFSETTO:-0500
TZNAME:CDT
DTSTART:20260308T080000
END:DAYLIGHT
BEGIN:STANDARD
TZOFFSETFROM:-0500
TZOFFSETTO:-0600
TZNAME:CST
DTSTART:20261101T070000
END:STANDARD
BEGIN:DAYLIGHT
TZOFFSETFROM:-0600
TZOFFSETTO:-0500
TZNAME:CDT
DTSTART:20270314T080000
END:DAYLIGHT
BEGIN:STANDARD
TZOFFSETFROM:-0500
TZOFFSETTO:-0600
TZNAME:CST
DTSTART:20271107T070000
END:STANDARD
END:VTIMEZONE
BEGIN:VEVENT
DTSTART;TZID=America/Chicago:20260117T170000
DTEND;TZID=America/Chicago:20260117T210000
DTSTAMP:20260421T152759
CREATED:20251111T231451Z
LAST-MODIFIED:20260111T231031Z
UID:146415-1768669200-1768683600@www.omahaaa.org
SUMMARY:53rd Annual Bellevue Anniversary
DESCRIPTION:Change of Venue to Bellevue WEST High School!!\n  \n \nScan QR code or click here to Pre- pay/register Bellevue Anniversary Venmo \n53rd Annual Bellevue Anniversary\nSaturday\, January 17\, 2026 \nBellevue East High School\, 1401 High School Dr.\, Bellevue\, NE \nBellevue WEST High School\, 1501 Thurston Avenue\, Bellevue\, NE 68123 \n$20 Registration for dinner and speakers\n5:00 p.m. Coffee\n5:30 – 6:00 p.m. Lasagna Dinner\n6:30 p.m. AFG speaker – Andy L.\, Des Moines\, IA\n7:30 p.m. Break\n8:00 p.m. AA speaker – Robert K.\, Los Angeles\, CA \n  \n*Multi-Focused Events may be attended by other twelve-step entities in addition to A.A. Therefore\, A.A. members are encouraged to consider their preferred level of personal anonymity accordingly.
URL:https://www.omahaaa.org/event/53rd-annual-bellevue-anniversary/
LOCATION:Bellevue West High School\, 1501 Thurston Ave\, Bellevue\, 68123\, United States
CATEGORIES:District 20,Events
END:VEVENT
END:VCALENDAR