BEGIN:VCALENDAR
VERSION:2.0
PRODID:-//OmahaAA.org - ECPv6.15.20//NONSGML v1.0//EN
CALSCALE:GREGORIAN
METHOD:PUBLISH
X-ORIGINAL-URL:https://www.omahaaa.org
X-WR-CALDESC:Events for OmahaAA.org
REFRESH-INTERVAL;VALUE=DURATION:PT1H
X-Robots-Tag:noindex
X-PUBLISHED-TTL:PT1H
BEGIN:VTIMEZONE
TZID:America/Chicago
BEGIN:DAYLIGHT
TZOFFSETFROM:-0600
TZOFFSETTO:-0500
TZNAME:CDT
DTSTART:20240310T080000
END:DAYLIGHT
BEGIN:STANDARD
TZOFFSETFROM:-0500
TZOFFSETTO:-0600
TZNAME:CST
DTSTART:20241103T070000
END:STANDARD
BEGIN:DAYLIGHT
TZOFFSETFROM:-0600
TZOFFSETTO:-0500
TZNAME:CDT
DTSTART:20250309T080000
END:DAYLIGHT
BEGIN:STANDARD
TZOFFSETFROM:-0500
TZOFFSETTO:-0600
TZNAME:CST
DTSTART:20251102T070000
END:STANDARD
BEGIN:DAYLIGHT
TZOFFSETFROM:-0600
TZOFFSETTO:-0500
TZNAME:CDT
DTSTART:20260308T080000
END:DAYLIGHT
BEGIN:STANDARD
TZOFFSETFROM:-0500
TZOFFSETTO:-0600
TZNAME:CST
DTSTART:20261101T070000
END:STANDARD
BEGIN:DAYLIGHT
TZOFFSETFROM:-0600
TZOFFSETTO:-0500
TZNAME:CDT
DTSTART:20270314T080000
END:DAYLIGHT
BEGIN:STANDARD
TZOFFSETFROM:-0500
TZOFFSETTO:-0600
TZNAME:CST
DTSTART:20271107T070000
END:STANDARD
END:VTIMEZONE
BEGIN:VEVENT
DTSTART;TZID=America/Chicago:20260329T130000
DTEND;TZID=America/Chicago:20260329T150000
DTSTAMP:20260424T095827
CREATED:20260314T021015Z
LAST-MODIFIED:20260324T191432Z
UID:147292-1774789200-1774796400@www.omahaaa.org
SUMMARY:District 23 Mini-Workshop
DESCRIPTION:
URL:https://www.omahaaa.org/event/district-23-mini-workshop-8/
LOCATION:Chapter VI Meeting Hall-Ralston\, 7703 Serum Ave\, Ralston\, NE\, 68127\, United States
CATEGORIES:District 23,Events
END:VEVENT
BEGIN:VEVENT
DTSTART;TZID=America/Chicago:20260222T130000
DTEND;TZID=America/Chicago:20260222T150000
DTSTAMP:20260424T095827
CREATED:20260215T161447Z
LAST-MODIFIED:20260215T161447Z
UID:147122-1771765200-1771772400@www.omahaaa.org
SUMMARY:District 23 Mini-Workshop
DESCRIPTION:
URL:https://www.omahaaa.org/event/district-23-mini-workshop-7/
LOCATION:Chapter VI Meeting Hall-Ralston\, 7703 Serum Ave\, Ralston\, NE\, 68127\, United States
CATEGORIES:District 23,Events
END:VEVENT
BEGIN:VEVENT
DTSTART;TZID=America/Chicago:20251231T120000
DTEND;TZID=America/Chicago:20260101T180000
DTSTAMP:20260424T095827
CREATED:20250527T025317Z
LAST-MODIFIED:20251122T184043Z
UID:143788-1767182400-1767290400@www.omahaaa.org
SUMMARY:2025-2026 Alcathon
DESCRIPTION:Mark your calendars for this year’s Alcathon!\nFrom noon on December 31\, 2025 to 6PM on January 1\, 2026.\nWestside Community Center\n3534 S 108th St\, Omaha\, NE 68144 \nVisit our Committee/Event page (omahaaa.org/alcathon) for all event details\, to date!
URL:https://www.omahaaa.org/event/omaha-alcathon-save-the-date/
LOCATION:Westside Community Center-Omaha\, 3534 S 108th St\, Omaha\, NE\, 68144\, United States
CATEGORIES:Alcathon,Archives,Bridging the Gap,CPC/PI,District 1,District 18,District 19,District 2,District 20,District 23,District 25,District 28,District 6 (Iowa),Events,Grapevine,Hotline,Technology
END:VEVENT
BEGIN:VEVENT
DTSTART;TZID=America/Chicago:20251224T220000
DTEND;TZID=America/Chicago:20251224T230000
DTSTAMP:20260424T095828
CREATED:20251222T005833Z
LAST-MODIFIED:20251222T005925Z
UID:146668-1766613600-1766617200@www.omahaaa.org
SUMMARY:Christmas Eve Candlelight Meeting
DESCRIPTION:
URL:https://www.omahaaa.org/event/christmas-eve-candlelight-meeting/
LOCATION:Chapter VI Meeting Hall-Ralston\, 7703 Serum Ave\, Ralston\, NE\, 68127\, United States
CATEGORIES:District 23
END:VEVENT
BEGIN:VEVENT
DTSTART;TZID=America/Chicago:20251221T130000
DTEND;TZID=America/Chicago:20251221T150000
DTSTAMP:20260424T095828
CREATED:20251209T182025Z
LAST-MODIFIED:20251209T182242Z
UID:146581-1766322000-1766329200@www.omahaaa.org
SUMMARY:District 23 Mini Workshop
DESCRIPTION:
URL:https://www.omahaaa.org/event/district-23-mini-workshop-6/
LOCATION:Chapter VI Meeting Hall-Ralston\, 7703 Serum Ave\, Ralston\, NE\, 68127\, United States
CATEGORIES:District 23
END:VEVENT
BEGIN:VEVENT
DTSTART;TZID=America/Chicago:20251213T170000
DTEND;TZID=America/Chicago:20251213T230000
DTSTAMP:20260424T095828
CREATED:20250531T052947Z
LAST-MODIFIED:20251107T181821Z
UID:144145-1765645200-1765666800@www.omahaaa.org
SUMMARY:2025 Christmas Party
DESCRIPTION:2025 Christmas Party tickets are now on sale!\nVisit our Committee/Event page (omahaaa.org/party) for event details\, or hop straight to the ticket purchase form! \n \n2025 Christmas Party\n& Central Office Fundraiser\nSaturday\, December 13\, 2025\nThe Steppe Center\, 11730 Peel Circle\, La Vista\, NE \nFull Dinner Event\, 5 PM-11 PM\, table seating\nSpeaker Only\, 7 PM-11 PM\, perimeter seating \nEvent page: omahaaa.org/party
URL:https://www.omahaaa.org/event/2025-christmas-party/
LOCATION:The Steppe Center-La Vista\, 11730 Peel Cir\, La Vista\, NE\, 68128\, United States
CATEGORIES:Archives,Bridging the Gap,Central Office,Christmas Party,Committees,CPC/PI,District 1,District 18,District 19,District 2,District 20,District 23,District 25,District 28,District 6 (Iowa),Events,Grapevine,Hotline,Technology
END:VEVENT
BEGIN:VEVENT
DTSTART;TZID=America/Chicago:20251115T170000
DTEND;TZID=America/Chicago:20251115T210000
DTSTAMP:20260424T095828
CREATED:20250719T233425Z
LAST-MODIFIED:20251030T160600Z
UID:144720-1763226000-1763240400@www.omahaaa.org
SUMMARY:District 23 Annual Feast\, Fling & Fellowship
DESCRIPTION:
URL:https://www.omahaaa.org/event/d23-2025-fff/
LOCATION:NE
CATEGORIES:Archives,District 23,Events
END:VEVENT
BEGIN:VEVENT
DTSTART;TZID=America/Chicago:20251012T130000
DTEND;TZID=America/Chicago:20251012T150000
DTSTAMP:20260424T095828
CREATED:20250906T160009Z
LAST-MODIFIED:20250917T180747Z
UID:145470-1760274000-1760281200@www.omahaaa.org
SUMMARY:District 23 Mini-Workshop
DESCRIPTION: 
URL:https://www.omahaaa.org/event/district-23-mini-workshop-5/
LOCATION:Chapter VI Meeting Hall-Ralston\, 7703 Serum Ave\, Ralston\, NE\, 68127\, United States
CATEGORIES:District 23,Events
END:VEVENT
BEGIN:VEVENT
DTSTART;TZID=America/Chicago:20250720T130000
DTEND;TZID=America/Chicago:20250720T150000
DTSTAMP:20260424T095828
CREATED:20250629T014500Z
LAST-MODIFIED:20250719T230153Z
UID:144584-1753016400-1753023600@www.omahaaa.org
SUMMARY:District 23 Mini Workshop
DESCRIPTION:
URL:https://www.omahaaa.org/event/district-23-mini-workshop-4/
LOCATION:Chapter VI Meeting Hall-Ralston\, 7703 Serum Ave\, Ralston\, NE\, 68127\, United States
CATEGORIES:District 23,Events
END:VEVENT
BEGIN:VEVENT
DTSTART;TZID=America/Chicago:20250503T103000
DTEND;TZID=America/Chicago:20250503T140000
DTSTAMP:20260424T095828
CREATED:20250407T010817Z
LAST-MODIFIED:20250719T181939Z
UID:143025-1746268200-1746280800@www.omahaaa.org
SUMMARY:District 23 Spring Fellowship
DESCRIPTION:
URL:https://www.omahaaa.org/event/district-23-sponsorship-service/
LOCATION:Chapter VI Meeting Hall-Ralston\, 7703 Serum Ave\, Ralston\, NE\, 68127\, United States
CATEGORIES:District 23
END:VEVENT
BEGIN:VEVENT
DTSTART;TZID=America/Chicago:20250406T130000
DTEND;TZID=America/Chicago:20250406T150000
DTSTAMP:20260424T095828
CREATED:20250324T130454Z
LAST-MODIFIED:20250719T205324Z
UID:142980-1743944400-1743951600@www.omahaaa.org
SUMMARY:District 23 Mini - Workshop
DESCRIPTION:
URL:https://www.omahaaa.org/event/the-aa-group-where-it-all-begins-district-23-workshop/
LOCATION:Chapter VI Meeting Hall-Ralston\, 7703 Serum Ave\, Ralston\, NE\, 68127\, United States
CATEGORIES:District 23
END:VEVENT
END:VCALENDAR