BEGIN:VCALENDAR
VERSION:2.0
PRODID:-//OmahaAA.org - ECPv6.15.20//NONSGML v1.0//EN
CALSCALE:GREGORIAN
METHOD:PUBLISH
X-WR-CALNAME:OmahaAA.org
X-ORIGINAL-URL:https://www.omahaaa.org
X-WR-CALDESC:Events for OmahaAA.org
REFRESH-INTERVAL;VALUE=DURATION:PT1H
X-Robots-Tag:noindex
X-PUBLISHED-TTL:PT1H
BEGIN:VTIMEZONE
TZID:America/Chicago
BEGIN:DAYLIGHT
TZOFFSETFROM:-0600
TZOFFSETTO:-0500
TZNAME:CDT
DTSTART:20240310T080000
END:DAYLIGHT
BEGIN:STANDARD
TZOFFSETFROM:-0500
TZOFFSETTO:-0600
TZNAME:CST
DTSTART:20241103T070000
END:STANDARD
BEGIN:DAYLIGHT
TZOFFSETFROM:-0600
TZOFFSETTO:-0500
TZNAME:CDT
DTSTART:20250309T080000
END:DAYLIGHT
BEGIN:STANDARD
TZOFFSETFROM:-0500
TZOFFSETTO:-0600
TZNAME:CST
DTSTART:20251102T070000
END:STANDARD
BEGIN:DAYLIGHT
TZOFFSETFROM:-0600
TZOFFSETTO:-0500
TZNAME:CDT
DTSTART:20260308T080000
END:DAYLIGHT
BEGIN:STANDARD
TZOFFSETFROM:-0500
TZOFFSETTO:-0600
TZNAME:CST
DTSTART:20261101T070000
END:STANDARD
BEGIN:DAYLIGHT
TZOFFSETFROM:-0600
TZOFFSETTO:-0500
TZNAME:CDT
DTSTART:20270314T080000
END:DAYLIGHT
BEGIN:STANDARD
TZOFFSETFROM:-0500
TZOFFSETTO:-0600
TZNAME:CST
DTSTART:20271107T070000
END:STANDARD
END:VTIMEZONE
BEGIN:VEVENT
DTSTART;TZID=America/Chicago:20260406T190000
DTEND;TZID=America/Chicago:20260406T200000
DTSTAMP:20260422T055336
CREATED:20260131T220715Z
LAST-MODIFIED:20260131T220715Z
UID:146946-1775502000-1775505600@www.omahaaa.org
SUMMARY:Monthly Intergroup Meeting
DESCRIPTION:We will be meeting in person at Hanscom Park United Methodist Church located on 4444 Frances Street\, Omaha\, NE. IF school is closed due to inclement weather\, the Intergroup Chair will send out an email around noon the day of the meeting if the meeting is moved to Zoom.   \nCommunication:\nWelcome to all the new Intergroup Representatives!!  If you are a new representative to this meeting and have not registered.  Please register by sending your information in an email to secretary@omahaaa.net:\n• Your Name\n• Group Representing\n• District\n• Your email\n• Your phone  \nRegistering this information allows us to determine whether you are allowed to vote as your group rep.  If you are not registered\, you can’t vote. One vote per group as per the By-Laws. Anyone can attend Intergroup but only representatives can vote.
URL:https://www.omahaaa.org/event/26-04-intergroup/
LOCATION:Hanscom Park United Methodist Church-Omaha\, 4444 Frances St\, Omaha\, NE\, 68105\, United States
CATEGORIES:Committees,Districts,Intergroup,Service
END:VEVENT
BEGIN:VEVENT
DTSTART;TZID=America/Chicago:20260302T190000
DTEND;TZID=America/Chicago:20260302T200000
DTSTAMP:20260422T055336
CREATED:20260131T220651Z
LAST-MODIFIED:20260131T220651Z
UID:146945-1772478000-1772481600@www.omahaaa.org
SUMMARY:Monthly Intergroup Meeting
DESCRIPTION:We will be meeting in person at Hanscom Park United Methodist Church located on 4444 Frances Street\, Omaha\, NE. IF school is closed due to inclement weather\, the Intergroup Chair will send out an email around noon the day of the meeting if the meeting is moved to Zoom.   \nCommunication:\nWelcome to all the new Intergroup Representatives!!  If you are a new representative to this meeting and have not registered.  Please register by sending your information in an email to secretary@omahaaa.net:\n• Your Name\n• Group Representing\n• District\n• Your email\n• Your phone  \nRegistering this information allows us to determine whether you are allowed to vote as your group rep.  If you are not registered\, you can’t vote. One vote per group as per the By-Laws. Anyone can attend Intergroup but only representatives can vote.
URL:https://www.omahaaa.org/event/26-03-intergroup/
LOCATION:Hanscom Park United Methodist Church-Omaha\, 4444 Frances St\, Omaha\, NE\, 68105\, United States
CATEGORIES:Committees,Districts,Intergroup,Service
END:VEVENT
BEGIN:VEVENT
DTSTART;TZID=America/Chicago:20260202T190000
DTEND;TZID=America/Chicago:20260202T200000
DTSTAMP:20260422T055336
CREATED:20260131T220524Z
LAST-MODIFIED:20260131T220524Z
UID:146943-1770058800-1770062400@www.omahaaa.org
SUMMARY:Monthly Intergroup Meeting
DESCRIPTION:We will be meeting in person at Hanscom Park United Methodist Church located on 4444 Frances Street\, Omaha\, NE. IF school is closed due to inclement weather\, the Intergroup Chair will send out an email around noon the day of the meeting if the meeting is moved to Zoom.   \nCommunication:\nWelcome to all the new Intergroup Representatives!!  If you are a new representative to this meeting and have not registered.  Please register by sending your information in an email to secretary@omahaaa.net:\n• Your Name\n• Group Representing\n• District\n• Your email\n• Your phone  \nRegistering this information allows us to determine whether you are allowed to vote as your group rep.  If you are not registered\, you can’t vote. One vote per group as per the By-Laws. Anyone can attend Intergroup but only representatives can vote.
URL:https://www.omahaaa.org/event/26-02-intergroup/
LOCATION:Hanscom Park United Methodist Church-Omaha\, 4444 Frances St\, Omaha\, NE\, 68105\, United States
CATEGORIES:Committees,Districts,Intergroup,Service
END:VEVENT
BEGIN:VEVENT
DTSTART;TZID=America/Chicago:20260105T190000
DTEND;TZID=America/Chicago:20260105T200000
DTSTAMP:20260422T055336
CREATED:20260105T170316Z
LAST-MODIFIED:20260105T170316Z
UID:146766-1767639600-1767643200@www.omahaaa.org
SUMMARY:Monthly Intergroup Meeting
DESCRIPTION:We will meet for Intergroup Monday\, January 5\, at 7 PM at Hanscom Park United Methodist Church\, 4444 Frances Street. I have received a few of the new reps’ info\, but if you know who your rep is please give them the info about registering for Intergroup.  \nSend the following information to secretary@omahaaa.net as follows:\n• Your Name\n• Group Representing\n• District\n• Your email\n• Your phone \nRegistering this information allows us to determine whether the rep is allowed to vote for their group. If they are not registered\, they can’t vote. One vote per group\, per the By-Laws.  Anyone can attend Intergroup but only representatives can vote. \nIn Service\,\nPeggy G.\nSecretary
URL:https://www.omahaaa.org/event/monthly-intergroup-meeting/
LOCATION:Hanscom Park United Methodist Church-Omaha\, 4444 Frances St\, Omaha\, NE\, 68105\, United States
CATEGORIES:Committees,Districts,Intergroup,Service
END:VEVENT
BEGIN:VEVENT
DTSTART;TZID=America/Chicago:20251201T190000
DTEND;TZID=America/Chicago:20251201T200000
DTSTAMP:20260422T055336
CREATED:20251201T224328Z
LAST-MODIFIED:20251201T224353Z
UID:146514-1764615600-1764619200@www.omahaaa.org
SUMMARY:Monthly Intergroup Meeting
DESCRIPTION:As decided at our last meeting\, we will meet on ZOOM at 7 PM instead in-person. If you have a report to give please send the Secretary a copy ASAP.  When signing in to the meeting please put your name and then your group/district or committee.    \nIntergroup Zoom Meeting\nMeeting ID: 970 2539 7697\nPasscode: 585472 \nCommunication:\nWelcome to all the new Intergroup Representatives!!  If you are a new representative to this meeting and have not registered.  Please register by sending your information in a response to this email or separate secretary@omahaaa.net. as follows:\n• Your Name\n• Group Representing\n• District\n• Your email\n• Your phone\nRegistering this information allows us to determine whether you are allowed to vote for your group. If you are not registered\, you can’t vote. One vote per group\, per the By-Laws. Anyone can attend Intergroup but only representatives can vote.
URL:https://www.omahaaa.org/event/25-12-intergroup/
LOCATION:🛜 Virtual
CATEGORIES:Intergroup,Service
END:VEVENT
BEGIN:VEVENT
DTSTART;TZID=America/Chicago:20251103T190000
DTEND;TZID=America/Chicago:20251103T200000
DTSTAMP:20260422T055336
CREATED:20251022T174304Z
LAST-MODIFIED:20251022T174304Z
UID:146057-1762196400-1762200000@www.omahaaa.org
SUMMARY:Monthly Intergroup Meeting
DESCRIPTION:***The next Intergroup meeting will be held on Monday\, November 3 @ 7 p.m.  A reminder will be sent on the Wednesday before the meeting\, by the Secretary.\nWe will be meeting in person at Hanscom Park United Methodist Church located on 4444 Frances Street\, Omaha\, NE unless school is closed due to inclement weather. The Intergroup Chair will send out an email around noon the day of the meeting if the meeting is moved to Zoom.   \nIntergroup Zoom Meeting\nMeeting ID: 956 9281 7110\nPasscode: 980252  \nCommunication:\nWelcome to all the new Intergroup Representatives!!  If you are a new representative to this meeting and have not registered.  Please register by sending your information in a response to this email or separate secretary@omahaaa.net. as follows:\n• Your Name\n• Group Representing\n• District\n• Your email\n• Your phone\nRegistering this information allows us to determine whether you are allowed to vote for your group. If you are not registered\, you can’t vote. One vote per group\, per the By-Laws. Anyone can attend Intergroup but only representatives can vote.\nWe are in the process of updating the registry.
URL:https://www.omahaaa.org/event/intergroup-25-11/
LOCATION:Hanscom Park United Methodist Church-Omaha\, 4444 Frances St\, Omaha\, NE\, 68105\, United States
CATEGORIES:Intergroup,Service
END:VEVENT
END:VCALENDAR