BEGIN:VCALENDAR
VERSION:2.0
PRODID:-//OmahaAA.org - ECPv6.15.20//NONSGML v1.0//EN
CALSCALE:GREGORIAN
METHOD:PUBLISH
X-WR-CALNAME:OmahaAA.org
X-ORIGINAL-URL:https://www.omahaaa.org
X-WR-CALDESC:Events for OmahaAA.org
REFRESH-INTERVAL;VALUE=DURATION:PT1H
X-Robots-Tag:noindex
X-PUBLISHED-TTL:PT1H
BEGIN:VTIMEZONE
TZID:America/Chicago
BEGIN:DAYLIGHT
TZOFFSETFROM:-0600
TZOFFSETTO:-0500
TZNAME:CDT
DTSTART:20230312T080000
END:DAYLIGHT
BEGIN:STANDARD
TZOFFSETFROM:-0500
TZOFFSETTO:-0600
TZNAME:CST
DTSTART:20231105T070000
END:STANDARD
BEGIN:DAYLIGHT
TZOFFSETFROM:-0600
TZOFFSETTO:-0500
TZNAME:CDT
DTSTART:20240310T080000
END:DAYLIGHT
BEGIN:STANDARD
TZOFFSETFROM:-0500
TZOFFSETTO:-0600
TZNAME:CST
DTSTART:20241103T070000
END:STANDARD
BEGIN:DAYLIGHT
TZOFFSETFROM:-0600
TZOFFSETTO:-0500
TZNAME:CDT
DTSTART:20250309T080000
END:DAYLIGHT
BEGIN:STANDARD
TZOFFSETFROM:-0500
TZOFFSETTO:-0600
TZNAME:CST
DTSTART:20251102T070000
END:STANDARD
END:VTIMEZONE
BEGIN:VEVENT
DTSTART;VALUE=DATE:20240301
DTEND;VALUE=DATE:20240304
DTSTAMP:20260423T104427
CREATED:20231130T145947Z
LAST-MODIFIED:20250526T201657Z
UID:136380-1709251200-1709510399@www.omahaaa.org
SUMMARY:Sioux City Tri-State Roundup
DESCRIPTION:16th Anniversary\nSioux City Tri-State Roundup\n“We are not a Glum Lot”\nFriday March 1st – Sunday March 3rd\, 2024 \nNew Location!! \nMarriott Riverfront \n385 E 4th Street \nSouth Sioux City\, NE \nSpeakers\, Events\, Hospitality Rooms \n*** No one under 11 yrs will be allowed to attend meetings *** \nPre-registration $25 – At the door $30 \nPre-registration deadline must be received by Feb 28th. \nVisit www.siouxcitytristateroundup.com \nQuestions: \nTonya M (712) 898-7761 \nWill M (712) 898-7768
URL:https://www.omahaaa.org/event/sioux-city-tri-state-roundup/
LOCATION:South Sioux City Marriott Riverfront\, 385 E 4th St\, South Sioux City\, NE\, 68776\, United States
END:VEVENT
BEGIN:VEVENT
DTSTART;TZID=America/Chicago:20240302T170000
DTEND;TZID=America/Chicago:20240302T210000
DTSTAMP:20260423T104427
CREATED:20231205T003758Z
LAST-MODIFIED:20231205T091012Z
UID:136440-1709398800-1709413200@www.omahaaa.org
SUMMARY:HOG ROAST FREMONT NE.
DESCRIPTION:ANNUAL YOUNG PEOPLE’S HOG ROAST\nSATURDAY MARCH 2\,  2024\nCHRISTENSEN FIELD\n1710 WEST 16TH FREMONT NE. \nCOFFEE & FELLOWSHIP 5:00PM \nEAT 6:00 PM \nSPEAKER AT 7:00PM\nMATT C.\nRAFFLES AND DRAWINGS \n$10.00 AT THE DOOR \n(NO ONE WILL BE TURNED AWAY) \nQUESTIONS CALL CORY A \n402 719 6666 \n 
URL:https://www.omahaaa.org/event/hog-roast-fremont-ne/
LOCATION:Christensen Field-Fremont\, 1710 W 16th St\, Fremont\, NE\, 68025\, United States
END:VEVENT
BEGIN:VEVENT
DTSTART;TZID=America/Chicago:20240314T183000
DTEND;TZID=America/Chicago:20240314T210000
DTSTAMP:20260423T104427
CREATED:20240303T035826Z
LAST-MODIFIED:20240303T154447Z
UID:138329-1710441000-1710450000@www.omahaaa.org
SUMMARY:The Des Moines Foxhall Groups 34th Anniversary Celebration  Meeting
DESCRIPTION:The Des Moines Foxhall Groups \n34th Anniversary Celebration Meeting\nThursday  March 14th 2024\nCake Punch And Fellowship at 630pm \nSpeaker is Cheryl B. from Ames\, Iowa \nLocation 5201 Urbandale Ave\, DSM\,IA \nIf you cannot attend in person join us via zoom. \nPlease go to https://aadesmoines.org \n 
URL:https://www.omahaaa.org/event/the-des-moines-foxhall-groups-34th-anniversary-celebration-meetin/
LOCATION:Grace Lutheran Church-Des Moines\, 5201 Urbandale Ave\, Des Moines\, IA\, 50310\, United States
END:VEVENT
BEGIN:VEVENT
DTSTART;TZID=America/Chicago:20240316T110000
DTEND;TZID=America/Chicago:20240316T150000
DTSTAMP:20260423T104427
CREATED:20240216T143658Z
LAST-MODIFIED:20240220T183223Z
UID:138207-1710586800-1710601200@www.omahaaa.org
SUMMARY:Alano Club St. Patty's Fellowship luncheon
DESCRIPTION:  \nPot Luck\nAlano Club St. Patty’s Fellowship Luncheon\nMarch 16 2024 at 11:00\nImmediately following the 10:00 Am meeting\n1523 Vinton St. Omaha NE\nCorned Beef With Cooked Cabbage\, Carrots and Potatoes \nServed by the Alono Club\nDonations Accepted\nPlease bring a side dish\, drinks or dessert\n \n 
URL:https://www.omahaaa.org/event/alono-club-st-pattys-fellowship-luncheon/
LOCATION:Alano Club-Omaha\, 1523 Vinton St\, Omaha\, NE\, 68108\, United States
END:VEVENT
BEGIN:VEVENT
DTSTART;TZID=America/Chicago:20240316T110000
DTEND;TZID=America/Chicago:20240316T183000
DTSTAMP:20260423T104427
CREATED:20240119T035130Z
LAST-MODIFIED:20240119T035130Z
UID:138077-1710586800-1710613800@www.omahaaa.org
SUMMARY:District 30 Potluck Speaker Meetings
DESCRIPTION:District 30\nPotluck Speaker Meetings\nMarch 16th\, 2024\nWear your St Patrick’s Day attire!\n  \nNick K (Omaha) \nCharlie H (Lincoln) \nErika H (Lincoln) \n  \nAmbry Club \n15 East 26th Street \nKearney\, NE 68847 \n \nQuestions – Kevin K (308) 224-5166
URL:https://www.omahaaa.org/event/district-30-potluck-speaker-meetings/
LOCATION:Ambry Club-Kearney\, 15 E 26th St\, Kearney\, NE\, 68847\, United States
END:VEVENT
BEGIN:VEVENT
DTSTART;TZID=America/Chicago:20240321T173000
DTEND;TZID=America/Chicago:20240321T220000
DTSTAMP:20260423T104427
CREATED:20240211T233909Z
LAST-MODIFIED:20240212T000901Z
UID:138184-1711042200-1711058400@www.omahaaa.org
SUMMARY:Foxhall Mens Big Book Study - 47th Annual Feast and Fellowship
DESCRIPTION:Foxhall Men’s Big Book Study\n47th Annual Feast and Fellowship\nThursday\, March 21st \nCroatian Cultural Society \n8711 S 36th Street\, Bellevue NE 68147 \nCoffee\, Ribeye Steak Dinner and Gary T as speaker! \nRSVP by Thursday\, March 14th \nQuestions?…contact Mike F (402-320-1385) or Gail K (402-677-4417) \nThis is a STAG event!
URL:https://www.omahaaa.org/event/foxhall-mens-big-book-study-47th-annual-feast-and-fellowship/
LOCATION:Croatian Cultural Society-Bellevue\, 8711 S 36th St\, Bellevue\, NE\, 68147\, United States
END:VEVENT
BEGIN:VEVENT
DTSTART;VALUE=DATE:20240322
DTEND;VALUE=DATE:20240325
DTSTAMP:20260423T104427
CREATED:20230918T202226Z
LAST-MODIFIED:20231203T182348Z
UID:133813-1711065600-1711324799@www.omahaaa.org
SUMMARY:Aim for Ames Roundup "Follow the Path" 2024
DESCRIPTION:2024 Aim for Ames Roundup\n“Follow the Path”\n  \nFriday\, March 22nd – 24th \nQuality Inn & Suites\, Ames IA \n  \nSpeakers\, Big Book Trivia\, Ice Cream Social\, Dance…and more!\n  \nPre-register for the conference at www.AimForAmes.org \nHotel Reservations: (515) 232-9260 \nAsk for  hotel “roundup rates” \n  \nRoundup and Hotel registrations deadline is \nWednesday\, March 13 2024\n \nPDF Flyer \nNo Vendors Allowed
URL:https://www.omahaaa.org/event/aim-for-ames-roundup-follow-the-path-2024/
LOCATION:Quality Inn & Suites Ames Conference Center\, 2601 E 13th St\, Ames\, IA\, 50010\, United States
END:VEVENT
BEGIN:VEVENT
DTSTART;TZID=America/Chicago:20240323T120000
DTEND;TZID=America/Chicago:20240323T160000
DTSTAMP:20260423T104427
CREATED:20231203T145705Z
LAST-MODIFIED:20240228T035848Z
UID:136394-1711195200-1711209600@www.omahaaa.org
SUMMARY:Institutions Workshop
DESCRIPTION:Institutions Workshop\nSaturday\, March 23rd \n12 to 4 pm \n2222 Binney Street \nSpeakers Derdra & Dave \nFood at noon \nQuestions?… \naubriejo.ryno@gmail.com
URL:https://www.omahaaa.org/event/institutions-workshop/
LOCATION:Heart Ministry Center-Omaha\, 2222 Binney St\, Omaha\, NE\, 68110\, United States
END:VEVENT
END:VCALENDAR