BEGIN:VCALENDAR
VERSION:2.0
PRODID:-//OmahaAA.org - ECPv6.15.20//NONSGML v1.0//EN
CALSCALE:GREGORIAN
METHOD:PUBLISH
X-ORIGINAL-URL:https://www.omahaaa.org
X-WR-CALDESC:Events for OmahaAA.org
REFRESH-INTERVAL;VALUE=DURATION:PT1H
X-Robots-Tag:noindex
X-PUBLISHED-TTL:PT1H
BEGIN:VTIMEZONE
TZID:America/Chicago
BEGIN:DAYLIGHT
TZOFFSETFROM:-0600
TZOFFSETTO:-0500
TZNAME:CDT
DTSTART:20230312T080000
END:DAYLIGHT
BEGIN:STANDARD
TZOFFSETFROM:-0500
TZOFFSETTO:-0600
TZNAME:CST
DTSTART:20231105T070000
END:STANDARD
BEGIN:DAYLIGHT
TZOFFSETFROM:-0600
TZOFFSETTO:-0500
TZNAME:CDT
DTSTART:20240310T080000
END:DAYLIGHT
BEGIN:STANDARD
TZOFFSETFROM:-0500
TZOFFSETTO:-0600
TZNAME:CST
DTSTART:20241103T070000
END:STANDARD
BEGIN:DAYLIGHT
TZOFFSETFROM:-0600
TZOFFSETTO:-0500
TZNAME:CDT
DTSTART:20250309T080000
END:DAYLIGHT
BEGIN:STANDARD
TZOFFSETFROM:-0500
TZOFFSETTO:-0600
TZNAME:CST
DTSTART:20251102T070000
END:STANDARD
END:VTIMEZONE
BEGIN:VEVENT
DTSTART;TZID=America/Chicago:20240504T180000
DTEND;TZID=America/Chicago:20240504T210000
DTSTAMP:20260423T154200
CREATED:20240403T212427Z
LAST-MODIFIED:20240410T034127Z
UID:138496-1714845600-1714856400@www.omahaaa.org
SUMMARY:47th Annual Al-Anon Information Service Office Birthday Celebration
DESCRIPTION:47th Annual Al-Anon Information Service Office\nBirthday Celebration\nPotluck & Speaker Meeting \nSaturday May 4th 2024 \nFree – No Charge – 6:00pm – 9:00pm \nAFG Speaker: Barbie M. \nAA Speaker: Clete M. \nDevine Shepherd Lutheran Church \n15005 Q St. Omaha  NE. 68137 \nBring your Favorite Dish/Side/Dessert \nDrinks will be Provided Free Literature Raffle \nAny questions Email Jordan at \njplagman@gmail.com \nor call \n402 415 5050 \n \n  \nDirection below \n 
URL:https://www.omahaaa.org/event/47th-annual-al-anon-information-service-office-birthday-celebration/
LOCATION:Divine Shepherd Lutheran Church-Omaha\, 15005 Q St\, Omaha\, NE\, 68137\, United States
END:VEVENT
BEGIN:VEVENT
DTSTART;TZID=America/Chicago:20240505T080000
DTEND;TZID=America/Chicago:20240505T170000
DTSTAMP:20260423T154200
CREATED:20240506T013920Z
LAST-MODIFIED:20240506T014456Z
UID:138662-1714896000-1714928400@www.omahaaa.org
SUMMARY:Alano Club 80th Anniversary Poker Run
DESCRIPTION:Alano Club Poker Run\n9Am Breakfast \n10Am Kickstands up \n3Pm potluck Lunch \nBegin Alano Club 1523 Vinton St. Omaha NE \nGlenwood \nMcClelland \nCrescent \nReturn to Alano \nAprox 3 hours 84 miles \nQusstions Reach out to: \nTim W. 1402 639 3992 \nRodger R\, 1402 657 3210 \nHoodies and T-Shirts available for \npre order at the Alano Club and day of event \nFree will Offering for the Poker Run
URL:https://www.omahaaa.org/event/alano-club-80th-anniversary-poker-run/
LOCATION:Alano Club-Omaha\, 1523 Vinton St\, Omaha\, NE\, 68108\, United States
END:VEVENT
BEGIN:VEVENT
DTSTART;TZID=America/Chicago:20240505T180000
DTEND;TZID=America/Chicago:20240505T210000
DTSTAMP:20260423T154200
CREATED:20240331T205803Z
LAST-MODIFIED:20240331T210029Z
UID:138452-1714932000-1714942800@www.omahaaa.org
SUMMARY:Stanton Group 21 years carrying the message of AA
DESCRIPTION:The Stanton Change of Pace Group\nWill Be Celebrating 21 years of Carrying The Message of AA\nSunday May 5 2024 \nST. LUKES LUTHERAN CHURCH \n1500 Veterans ave Stanton NE 68779 \nCoffee and Fellowship and Treats 6:00 pm \nRaffle 6:45 \nOpen AA Meeting 7:00pm \nCake and Ice Cream to follow meeting \nPlease join us bring a freind or family
URL:https://www.omahaaa.org/event/stanton-group-21-years-carrying-the-message-of-aa/
LOCATION:St Luke’s Lutheran Church-Stanton\, 1500 Veterans Ave\, Stanton\, NE\, 68779\, United States
END:VEVENT
BEGIN:VEVENT
DTSTART;VALUE=DATE:20240517
DTEND;VALUE=DATE:20240520
DTSTAMP:20260423T154200
CREATED:20231124T231942Z
LAST-MODIFIED:20240410T034405Z
UID:136278-1715904000-1716163199@www.omahaaa.org
SUMMARY:HACYPAA VIII Conference
DESCRIPTION:HACYPAA VIII Conference\nMay 17th-19th at the Wyndham Omaha \n655 North 108th Ave.  Omaha\, NE 68154 \n  \nFor more information and registration\, go to… \nwww.hacypaa8.com \n \nMention HACYPAA and get $89 room rate \nDirection below
URL:https://www.omahaaa.org/event/hacypaa-viii-conference/
LOCATION:Wyndham Omaha/West Dodge\, 655 N 108th Ave\, Omaha\, NE\, 68154\, United States
END:VEVENT
BEGIN:VEVENT
DTSTART;TZID=America/Chicago:20240518T100000
DTEND;TZID=America/Chicago:20240518T140000
DTSTAMP:20260423T154200
CREATED:20240321T132639Z
LAST-MODIFIED:20250526T201811Z
UID:138421-1716026400-1716040800@www.omahaaa.org
SUMMARY:District 18 Picnic in the Park
DESCRIPTION:Picnic in the Park\nSaturday May 18 10:00am – 2:00pm \nTa-Ha-Zouka Park \n905 Elkhorn Drive \nElkhorn\, NE 68022 \nJoin us for fun and games \nBring your Family\, chairs and a side dish \nDistrict 18 will provide chicken and drinks \nMeeting @ 10:30 am \nLunch @ 11:30 am \nQuestions or to provide service contact \nBethany S.308 627 2803 \n \n  \nDirection below \n  \n  \n 
URL:https://www.omahaaa.org/event/district-18-picnic-in-the-park/
LOCATION:Ta-Ha-Zouka Park-Elkhorn\, 905 Elkhorn Dr\, Elkhorn\, NE\, 68022\, United States
END:VEVENT
BEGIN:VEVENT
DTSTART;TZID=America/Chicago:20240519T130000
DTEND;TZID=America/Chicago:20240519T150000
DTSTAMP:20260423T154200
CREATED:20240422T155703Z
LAST-MODIFIED:20240422T155848Z
UID:138603-1716123600-1716130800@www.omahaaa.org
SUMMARY:District 23 Mini Workshop
DESCRIPTION:District 23 Mini Workshop\nChapter VI Hillcrest Landing\n7559 Main St \, Suite 304 Ralston NE 68127 \nTopic: ” The Doctors Opinion” \nSpeaker: Matt L. \nDate: May 19th 2024   1:00 – 4:00 PM \nFree Lunch\, Pop & Coffee. Bring a dessert if you wish
URL:https://www.omahaaa.org/event/district-23-mini-workshop-2/
LOCATION:NE
END:VEVENT
BEGIN:VEVENT
DTSTART;TZID=America/Chicago:20240531T160000
DTEND;TZID=America/Chicago:20240602T220000
DTSTAMP:20260423T154200
CREATED:20240402T032713Z
LAST-MODIFIED:20240402T035817Z
UID:138468-1717171200-1717365600@www.omahaaa.org
SUMMARY:16th Annual Woman to Woman Retreat
DESCRIPTION:May 31st- June 2nd 2024\nSt Benedict Center Schuyler NE 68661\nBeautiful Surroundings * Reflection*Fellowship * Delicious Food \nRetreat Detalls \nFriday Evening Registration  4-6 pm \nAll meals included \nSpeaker and Group Discussion Meetings \nFree time to read\,reflect\,walk\,talk\,games\,crafts and fun times \nRegistration \n$147 Covers double accommodation \n$162 covers single accommodation* \nA Non-Refundable $50 deposit \nBalance due May 15\,2024 \nChecks\, Venmo (@WomantoWomanRetreat) \nor money orders accepted only at P.O. Box \nWoman To Womaqn Retreat \nP.O Box 24515 \n8451West Center Road \nOmaha NE 68124 \nwomantowomanretreat@gmail.com
URL:https://www.omahaaa.org/event/16th-annual-woman-to-woman-retreat/
LOCATION:St. Benedict Center-Schuyler\, 1126 Co Rd I\, Schuyler\, NE\, 68661\, United States
END:VEVENT
END:VCALENDAR