BEGIN:VCALENDAR
VERSION:2.0
PRODID:-//OmahaAA.org - ECPv6.15.20//NONSGML v1.0//EN
CALSCALE:GREGORIAN
METHOD:PUBLISH
X-ORIGINAL-URL:https://www.omahaaa.org
X-WR-CALDESC:Events for OmahaAA.org
REFRESH-INTERVAL;VALUE=DURATION:PT1H
X-Robots-Tag:noindex
X-PUBLISHED-TTL:PT1H
BEGIN:VTIMEZONE
TZID:America/Chicago
BEGIN:DAYLIGHT
TZOFFSETFROM:-0600
TZOFFSETTO:-0500
TZNAME:CDT
DTSTART:20230312T080000
END:DAYLIGHT
BEGIN:STANDARD
TZOFFSETFROM:-0500
TZOFFSETTO:-0600
TZNAME:CST
DTSTART:20231105T070000
END:STANDARD
BEGIN:DAYLIGHT
TZOFFSETFROM:-0600
TZOFFSETTO:-0500
TZNAME:CDT
DTSTART:20240310T080000
END:DAYLIGHT
BEGIN:STANDARD
TZOFFSETFROM:-0500
TZOFFSETTO:-0600
TZNAME:CST
DTSTART:20241103T070000
END:STANDARD
BEGIN:DAYLIGHT
TZOFFSETFROM:-0600
TZOFFSETTO:-0500
TZNAME:CDT
DTSTART:20250309T080000
END:DAYLIGHT
BEGIN:STANDARD
TZOFFSETFROM:-0500
TZOFFSETTO:-0600
TZNAME:CST
DTSTART:20251102T070000
END:STANDARD
END:VTIMEZONE
BEGIN:VEVENT
DTSTART;TZID=America/Chicago:20240531T160000
DTEND;TZID=America/Chicago:20240602T220000
DTSTAMP:20260424T095538
CREATED:20240402T032713Z
LAST-MODIFIED:20240402T035817Z
UID:138468-1717171200-1717365600@www.omahaaa.org
SUMMARY:16th Annual Woman to Woman Retreat
DESCRIPTION:May 31st- June 2nd 2024\nSt Benedict Center Schuyler NE 68661\nBeautiful Surroundings * Reflection*Fellowship * Delicious Food \nRetreat Detalls \nFriday Evening Registration  4-6 pm \nAll meals included \nSpeaker and Group Discussion Meetings \nFree time to read\,reflect\,walk\,talk\,games\,crafts and fun times \nRegistration \n$147 Covers double accommodation \n$162 covers single accommodation* \nA Non-Refundable $50 deposit \nBalance due May 15\,2024 \nChecks\, Venmo (@WomantoWomanRetreat) \nor money orders accepted only at P.O. Box \nWoman To Womaqn Retreat \nP.O Box 24515 \n8451West Center Road \nOmaha NE 68124 \nwomantowomanretreat@gmail.com
URL:https://www.omahaaa.org/event/16th-annual-woman-to-woman-retreat/
LOCATION:St. Benedict Center-Schuyler\, 1126 Co Rd I\, Schuyler\, NE\, 68661\, United States
END:VEVENT
BEGIN:VEVENT
DTSTART;TZID=America/Chicago:20240602T110000
DTEND;TZID=America/Chicago:20240602T150000
DTSTAMP:20260424T095538
CREATED:20240417T205859Z
LAST-MODIFIED:20240417T210404Z
UID:138595-1717326000-1717340400@www.omahaaa.org
SUMMARY:500 Club Annual Picnic/ BBQ
DESCRIPTION:500 Club Annual Picnic/BBQ\nSunday June 2 2224\n11:00am – 3:00pm\nlake Manawa State Park Shelter 6 \nLake Manawa Picnic and BBQ \nTime to get this summer started with the 500 Club’s 30+year’s annual picnic and BBQ \nwe will supply the burgers\, brat’s and bean’s and all the fixings \nFun\, Friends\, Fellowship and some real good raffle items
URL:https://www.omahaaa.org/event/500-club-annual-picnic-bbq/
LOCATION:Lake Manawa State Park Shelter 6-Council Bluffs\, 1100 S Shore Dr\, Council Bluffs\, IA\, 51501\, United States
END:VEVENT
BEGIN:VEVENT
DTSTART;VALUE=DATE:20240607
DTEND;VALUE=DATE:20240610
DTSTAMP:20260424T095538
CREATED:20231117T121636Z
LAST-MODIFIED:20240410T034824Z
UID:136224-1717718400-1717977599@www.omahaaa.org
SUMMARY:65th Annual Area 41 Reunion
DESCRIPTION:65th Annual\nArea 41 Reunion\nConnecting with Love\, Unity and Service\nJune 7th – 9th 2024\nQuality Inn & Conference Center\, Grand Island NE \nSpeakers\, Delegate Report and Workshop \nIce Cream Social\, Movie Night/Pajama Party and Hospitality Room \nEarly Registration $25\, On-Site $30 \nSee flyer for registration form \n \nHosted by Districts 7\, 8 and 13 \nHotel/Accommodations: (308) 384-7770 \nDirection below
URL:https://www.omahaaa.org/event/65th-annual-area-41-reunion/
LOCATION:Quality Inn and Conference Center I-80 Grand Island\, 7838 US-281 Building A\, Grand Island\, NE\, 68803\, United States
END:VEVENT
BEGIN:VEVENT
DTSTART;TZID=America/Chicago:20240607T200000
DTEND;TZID=America/Chicago:20240607T210000
DTSTAMP:20260424T095538
CREATED:20240514T172959Z
LAST-MODIFIED:20240514T173449Z
UID:138740-1717790400-1717794000@www.omahaaa.org
SUMMARY:HAMILTON CLUB HOPE TALES
DESCRIPTION:HAMILTON CLUB\nHope Tales \nSpeaker Pat C. \nExperience Strength Hope \nHear the before and after adventures \nfrom some of our members \nwho are living proof that \nAA works \n8pm June 7th
URL:https://www.omahaaa.org/event/hamilton-club-hope-tales/
LOCATION:Hamilton Club-Omaha\, 4119 Center St\, Omaha\, NE\, 68105\, United States
END:VEVENT
BEGIN:VEVENT
DTSTART;TZID=America/Chicago:20240608T120000
DTEND;TZID=America/Chicago:20240608T200000
DTSTAMP:20260424T095538
CREATED:20240225T175155Z
LAST-MODIFIED:20250719T224021Z
UID:138302-1717848000-1717876800@www.omahaaa.org
SUMMARY:Eat the Big Pig 2024 (Pre-Pig)
DESCRIPTION:Eat the Big Pig Committee Presents \nPre-Pig 2024\nSaturday\, June 8th\nNoon to 8:00 pm \n  \nLouisville State Recreational Area \n15810 Hwy 50\, Louisville NE 68037 \n  \nCome out and enjoy some food\, fun and fellowship! \nBattle ETBP Cornhole Champs for Bragging Rights! \nVolleyball net set up for pickup games! \nFREE Dinner – Bring a side to share \nFireside Meeting at 7:00pm! \n  \n \nOfficial ETBP Merchandise will be available for purchase! \nQuestions?…contact Carly F 531-205-0253\, Aubrie 402-983-1465 or Bryan V 402-213-3125 \nDirection below
URL:https://www.omahaaa.org/event/2024-06-08-etbp-pre-pig/
LOCATION:Louisville State Recreation Area\, 15810 Highway 50\, Louisville\, NE\, 68037\, United States
CATEGORIES:Events
END:VEVENT
BEGIN:VEVENT
DTSTART;VALUE=DATE:20240613
DTEND;VALUE=DATE:20240617
DTSTAMP:20260424T095538
CREATED:20231117T130016Z
LAST-MODIFIED:20250526T201409Z
UID:136231-1718236800-1718582399@www.omahaaa.org
SUMMARY:16th Annual Sober Float
DESCRIPTION:16th Annual\nSober Float\nJune 13 – 16\, 2024\n  \nJoin us in District 14 for a weekend of food\, fun\, fellowship and floating down the Niobrara River! \nNear Valentine at Sharp’s Campground\, Sparks NE \nCome as early as you like and stay as long as you want! BBQ grills and cooking utensils available for use. \n  \nEveryone MUST CALL SHARP’S OUTFITTERS to register and reserve equipment/campsite! \n(402) 376-2506 or \n(402) 322-5606 \n  \nFor Sober Float questions: \nCall Dan (308) 645-2423 or \nemail soberfloat@gmail.com \nService opportunities available June 9th and June 12th \n \nDirection below
URL:https://www.omahaaa.org/event/16th-annual-sober-float/
LOCATION:Sharp’s Campground\, 90048 Sparks River Rd\, Sparks\, NE\, 69220\, United States
END:VEVENT
BEGIN:VEVENT
DTSTART;TZID=America/Chicago:20240615T080000
DTEND;TZID=America/Chicago:20240615T170000
DTSTAMP:20260424T095538
CREATED:20240502T203924Z
LAST-MODIFIED:20240506T185016Z
UID:138630-1718438400-1718470800@www.omahaaa.org
SUMMARY:ALANO 80th ANNIVERSARY & POKER RUN
DESCRIPTION:ALANO CLUB 80TH CELEBRATION & POKER RUN\nJune 15th 2024 \nAlano Club 1523 Vinton St Omaha NE \nCelebrating 80 years of experience strength and hope \nof what it was like\, what happened\,and where we are now \nPlease join us for Food Fellowship and Fun \n8AM Freash Air meeting \n9AM Breakfast \n             11AM Poker Run Kickstands up \n                                 3PM Potluck Lunch   (Burgers & Hot Dogs) \n4PM 50/50 Drawing \n430PM Bill W. Story \nService work opportunites contact Karl B. 402 659 2521 \nPOKER RUN\n9AM Kickstands up \nAlano Club \nMcClelland \nGlenwood \nCrescent \nAlano \nApprox 3hr 84 miles \nQuestions about Poker Run Contact \nTim W. 14026393992 \nRodger R. 14026573210 \nHoodies & T-shirts available for pre order or \nat the Alano Club and Day of event \n \n \n \n 
URL:https://www.omahaaa.org/event/save-the-date-alano-80th-anniversary/
LOCATION:Alano Club-Omaha\, 1523 Vinton St\, Omaha\, NE\, 68108\, United States
END:VEVENT
BEGIN:VEVENT
DTSTART;TZID=America/Chicago:20240621T080000
DTEND;TZID=America/Chicago:20240623T230000
DTSTAMP:20260424T095538
CREATED:20240403T204727Z
LAST-MODIFIED:20240410T035218Z
UID:138492-1718956800-1719183600@www.omahaaa.org
SUMMARY:Pocket of Enthusiasm
DESCRIPTION:Pocket of Enthusiasm\nJune 21-23 2024 \nEugene T Mahoney State Park \n28500 W Park Hwy \nAshland NE 68003 \n  \nSpeakers\nFriday 8pm – Phil S.  Ames IA \nSaturday 9:30 am – Dave R. Brookings SD \nALANON 6pm – Diane A. Nashville TN \nSaturday 7:30 pm – Mike A Nashville TN \nSunday – 9:30 – Jackie R. Brookings SD \n  \nRegistration:  $25 \nState Park fee required to enter Mahoney State Park \n$7  per day \n  \nFor lodging questions\,  call \nRobert Fredrickson 402 598 2058 \nColleen Fredrickson 402 490 5707 \n \nDirection below
URL:https://www.omahaaa.org/event/pocket-of-enthusiasm/
LOCATION:Eugene T. Mahoney State Park-Ashland\, 28500 W Park Hwy\, Ashland\, NE\, 68003\, United States
END:VEVENT
BEGIN:VEVENT
DTSTART;TZID=America/Chicago:20240626T000000
DTEND;TZID=America/Chicago:20240626T000000
DTSTAMP:20260424T095538
CREATED:20240627T033736Z
LAST-MODIFIED:20240627T034100Z
UID:138996-1719360000-1719360000@www.omahaaa.org
SUMMARY:3rd Annual Mike T. Memorial Picnic
DESCRIPTION:District 19 Picnic\nSunday August 25th 1:00 – 4:00 \nHitchcock Park\, 4220 Qst. Omaha NE \nHotdogs\, Hamburgers\, Iced Tea and Lemonade Provided. \nBring a side dish or dessert to share \nBring a chair and a newcomer too! \nAA meeting held at 3:00pm \nQuestions about the event? \ncall Joel B.   4026514024
URL:https://www.omahaaa.org/event/3rd-annual-mike-t-memorial-picnic/
LOCATION:Hitchcock Park-Omaha\, 4220 Q St\, Omaha\, NE\, 68117\, United States
END:VEVENT
END:VCALENDAR