BEGIN:VCALENDAR
VERSION:2.0
PRODID:-//OmahaAA.org - ECPv6.15.20//NONSGML v1.0//EN
CALSCALE:GREGORIAN
METHOD:PUBLISH
X-WR-CALNAME:OmahaAA.org
X-ORIGINAL-URL:https://www.omahaaa.org
X-WR-CALDESC:Events for OmahaAA.org
REFRESH-INTERVAL;VALUE=DURATION:PT1H
X-Robots-Tag:noindex
X-PUBLISHED-TTL:PT1H
BEGIN:VTIMEZONE
TZID:America/Chicago
BEGIN:DAYLIGHT
TZOFFSETFROM:-0600
TZOFFSETTO:-0500
TZNAME:CDT
DTSTART:20230312T080000
END:DAYLIGHT
BEGIN:STANDARD
TZOFFSETFROM:-0500
TZOFFSETTO:-0600
TZNAME:CST
DTSTART:20231105T070000
END:STANDARD
BEGIN:DAYLIGHT
TZOFFSETFROM:-0600
TZOFFSETTO:-0500
TZNAME:CDT
DTSTART:20240310T080000
END:DAYLIGHT
BEGIN:STANDARD
TZOFFSETFROM:-0500
TZOFFSETTO:-0600
TZNAME:CST
DTSTART:20241103T070000
END:STANDARD
BEGIN:DAYLIGHT
TZOFFSETFROM:-0600
TZOFFSETTO:-0500
TZNAME:CDT
DTSTART:20250309T080000
END:DAYLIGHT
BEGIN:STANDARD
TZOFFSETFROM:-0500
TZOFFSETTO:-0600
TZNAME:CST
DTSTART:20251102T070000
END:STANDARD
END:VTIMEZONE
BEGIN:VEVENT
DTSTART;VALUE=DATE:20240802
DTEND;VALUE=DATE:20240805
DTSTAMP:20260422T094914
CREATED:20240225T175629Z
LAST-MODIFIED:20240727T035943Z
UID:138305-1722556800-1722815999@www.omahaaa.org
SUMMARY:Eat the Big Pig Campout 2024
DESCRIPTION:Eat the Big Pig\nFreedom from Bondage of Self\nThursday August 2nd – 4th\, 2024\nLake McConaughy – Beach 12 on Northshore Drive\nSpeaker – Jessica B (Omaha)\n \nQuestions…or get lost\, call Bryan V 402-213-3125 or Aubrie 402-983-1465. \nReserve your campsite at www.outdoornebraska.gov. \nSee us on Facebook Eat the Big Pig
URL:https://www.omahaaa.org/event/2024-08-02-eat-the-big-pig-2024/
LOCATION:Lake McConaughy SRA\, Beach Area 12-Lemoyne\, 7725+33\, Lemoyne\, NE\, 69146\, United States
END:VEVENT
BEGIN:VEVENT
DTSTART;VALUE=DATE:20240809
DTEND;VALUE=DATE:20240812
DTSTAMP:20260422T094914
CREATED:20240507T032207Z
LAST-MODIFIED:20240507T145214Z
UID:138677-1723161600-1723420799@www.omahaaa.org
SUMMARY:Bad Axe Weekend Men's Retreat
DESCRIPTION:Bad Axe Weekend Men’s Retreat\nAugust 9 – 11\, 2024\n  \nCamp Wilderness\n29984 Journey Trail \nPark Rapids\, Minnesota 56470\n  \nBad Axe Men’s Weekend is an annual event for men in recovery from alcoholism. Spend time in the beautiful forests of Northern Minnesota while focusing on their recovery. \n  \nSpeakers\nMike A – Nashville\, TN \nPaul G – Akron\, OH \n  \nSee website for more information and registration. \nhttps://badaxeweekend.com/
URL:https://www.omahaaa.org/event/bad-axe-weekend-mens-retreat/
LOCATION:Camp Wilderness BSA-Park Rapids\, 29984 Journey Trail\, Park Rapids\, MN\, 56470\, United States
END:VEVENT
BEGIN:VEVENT
DTSTART;VALUE=DATE:20240816
DTEND;VALUE=DATE:20240819
DTSTAMP:20260422T094914
CREATED:20230920T180019Z
LAST-MODIFIED:20240410T035516Z
UID:133831-1723766400-1724025599@www.omahaaa.org
SUMMARY:28th Annual SE Woman to Woman Conference 2024
DESCRIPTION:28th Annual\nSoutheast Woman to Woman Conference\n“Our Common Bond”\n  \nFriday August 16th – 18th\, 2024 \n  \nHilton Charlotte University Place \n8629 JM Keynes Drive \nCharlotte\, NC 28262 \n  \nRegister online: www.sewomantowoman.org \nHotel reservations\, call: (704) 547-7444 \n  \nCutoff date for Online and Mail Registration is \n7/31/2024\nRegistration questions\, contact Claudia H \nRegisSEW2W24@gmail.com \nPDF Flyer \nDirection below
URL:https://www.omahaaa.org/event/28th-annual-se-woman-to-woman-conference-2024/
LOCATION:Hilton Charlotte University Place\, 8629 J M Keynes Dr\, Charlotte\, NC\, 28262\, United States
END:VEVENT
BEGIN:VEVENT
DTSTART;VALUE=DATE:20240816
DTEND;VALUE=DATE:20240819
DTSTAMP:20260422T094914
CREATED:20240207T184018Z
LAST-MODIFIED:20240719T141334Z
UID:138163-1723766400-1724025599@www.omahaaa.org
SUMMARY:47th Annual Cornhusker Roundup
DESCRIPTION:47th Annual\nCornhusker Roundup!!\nAugust 16-18\, 2024 \nLiberty First Credit Union Arena \n7300 Q Street\, Ralston NE \n \n\nwww.AA-Cornhusker.org \nCornhuskerAARoundup@gmail.com \n  \nService Opportunities: \nRegistration Table – contact Bev H bevhill6647@cox.net \nGreeters/Security – Robert Todd W robert.wilcke@gmail.com \nDonate Tickets to Treatment Centers – Molly S (402) 714-6541
URL:https://www.omahaaa.org/event/47th-annual-cornhusker-roundup/
LOCATION:Liberty First Credit Union Arena-Ralston\, 7300 Q St\, Ralston\, NE\, 68127\, United States
END:VEVENT
BEGIN:VEVENT
DTSTART;TZID=America/Chicago:20240818T130000
DTEND;TZID=America/Chicago:20240818T150000
DTSTAMP:20260422T094915
CREATED:20240716T033320Z
LAST-MODIFIED:20240808T182753Z
UID:139518-1723986000-1723993200@www.omahaaa.org
SUMMARY:Peggy Martin Celebration of Life
DESCRIPTION:Celebration of Life\nPeggy Martin\nSunday\, August 18th\n1:00 pm – 3:00 pm CST\nSt Martha’s Episcopal Church\n780 Pinnacle Dr\, Papillion NE 68046 \nProgram will begin at 1:30 pm (CST) with ZOOM available. \nMeeting ID: 841 2382 1298 \nPasscode: 020464 \n \nGoogle Maps Directions \nNote: Please enter the church from the back side (lower) parking lot and not upstairs as there will be a church service going on and we want to be respectful of that. Thank you!
URL:https://www.omahaaa.org/event/peggy-martin-celebration-of-life/
LOCATION:St. Martha’s Episcopal Church-Papillion\, 780 Pinnacle Dr\, Papillion\, NE\, 68046\, United States
END:VEVENT
BEGIN:VEVENT
DTSTART;TZID=America/Chicago:20240825T130000
DTEND;TZID=America/Chicago:20240825T160000
DTSTAMP:20260422T094915
CREATED:20240629T173225Z
LAST-MODIFIED:20240716T035047Z
UID:139445-1724590800-1724601600@www.omahaaa.org
SUMMARY:3rd Annual Mike T. Memorial Picnic
DESCRIPTION:District 19\n3rd Annual Mike T. Memorial Picnic\nSunday August 25th \n1:00 – 4:00 \nHitchcock Park 4220 Qst Omaha NE \nHot dogs Hamburgers Iced tea & Lemonade provided \nBring a side dish or dessert \nbring your own chair \nAA meeting @ 3:00pm \nQuestions call Joel B. 4026514024 \n 
URL:https://www.omahaaa.org/event/3rd-annual-mike-t-memorial-picnic-2/
LOCATION:Hitchcock Park-Omaha\, 4220 Q St\, Omaha\, NE\, 68117\, United States
END:VEVENT
END:VCALENDAR