BEGIN:VCALENDAR
VERSION:2.0
PRODID:-//OmahaAA.org - ECPv6.15.20//NONSGML v1.0//EN
CALSCALE:GREGORIAN
METHOD:PUBLISH
X-WR-CALNAME:OmahaAA.org
X-ORIGINAL-URL:https://www.omahaaa.org
X-WR-CALDESC:Events for OmahaAA.org
REFRESH-INTERVAL;VALUE=DURATION:PT1H
X-Robots-Tag:noindex
X-PUBLISHED-TTL:PT1H
BEGIN:VTIMEZONE
TZID:America/Chicago
BEGIN:DAYLIGHT
TZOFFSETFROM:-0600
TZOFFSETTO:-0500
TZNAME:CDT
DTSTART:20230312T080000
END:DAYLIGHT
BEGIN:STANDARD
TZOFFSETFROM:-0500
TZOFFSETTO:-0600
TZNAME:CST
DTSTART:20231105T070000
END:STANDARD
BEGIN:DAYLIGHT
TZOFFSETFROM:-0600
TZOFFSETTO:-0500
TZNAME:CDT
DTSTART:20240310T080000
END:DAYLIGHT
BEGIN:STANDARD
TZOFFSETFROM:-0500
TZOFFSETTO:-0600
TZNAME:CST
DTSTART:20241103T070000
END:STANDARD
BEGIN:DAYLIGHT
TZOFFSETFROM:-0600
TZOFFSETTO:-0500
TZNAME:CDT
DTSTART:20250309T080000
END:DAYLIGHT
BEGIN:STANDARD
TZOFFSETFROM:-0500
TZOFFSETTO:-0600
TZNAME:CST
DTSTART:20251102T070000
END:STANDARD
END:VTIMEZONE
BEGIN:VEVENT
DTSTART;TZID=America/Chicago:20241005T080000
DTEND;TZID=America/Chicago:20241005T130000
DTSTAMP:20260422T063749
CREATED:20240716T030444Z
LAST-MODIFIED:20240717T120332Z
UID:139508-1728115200-1728133200@www.omahaaa.org
SUMMARY:Al-Anon Stepping Stones to Serenity Workshop
DESCRIPTION:Al-Anon 19th Annual\nStepping Stones to Serenity Workshop\nSaturday\, October 5th \n8:00 am – 1:00 pm \nSt. Martha’s Episcopal Church
URL:https://www.omahaaa.org/event/2024-al-anon-stepping-stones-to-serenity-workshop/
LOCATION:St. Martha’s Episcopal Church-Papillion\, 780 Pinnacle Dr\, Papillion\, NE\, 68046\, United States
END:VEVENT
BEGIN:VEVENT
DTSTART;TZID=America/Chicago:20241005T103000
DTEND;TZID=America/Chicago:20241005T130000
DTSTAMP:20260422T063749
CREATED:20240822T021101Z
LAST-MODIFIED:20240822T021101Z
UID:139670-1728124200-1728133200@www.omahaaa.org
SUMMARY:DISTRICT 18 FALL BRUNCH
DESCRIPTION:DISTRICT 18 FALL BRUNCH\nSATURDAY OCTOBER 5th
URL:https://www.omahaaa.org/event/district-18-fall-brunch-3/
LOCATION:Covenant Presbyterian Church-Omaha\, 15002 Blondo St\, Omaha\, NE\, 68116\, United States
END:VEVENT
BEGIN:VEVENT
DTSTART;TZID=America/Chicago:20241006T120000
DTEND;TZID=America/Chicago:20241006T150000
DTSTAMP:20260422T063749
CREATED:20240914T214806Z
LAST-MODIFIED:20240914T214806Z
UID:139761-1728216000-1728226800@www.omahaaa.org
SUMMARY:Wed Night Big Book Big Frik'n Picnic
DESCRIPTION:Big Frik’n Picnic\nSunday Oct 6th 12pm – 3pm \nLake Zorinsky Lake
URL:https://www.omahaaa.org/event/wed-night-big-book-big-frikn-picnic/
LOCATION:Lake Zorinsky-Omaha\, 156th and F St\, Omaha\, NE\, 68135\, United States
END:VEVENT
BEGIN:VEVENT
DTSTART;VALUE=DATE:20241011
DTEND;VALUE=DATE:20241014
DTSTAMP:20260422T063749
CREATED:20241006T231155Z
LAST-MODIFIED:20241006T231155Z
UID:139836-1728604800-1728863999@www.omahaaa.org
SUMMARY:Area 41 Business Meeting - Grand Island
DESCRIPTION:Area 41 Business Meeting\nOctober 11-13\, 2024\nAgenda October 2024 \nPlease check with your DCM\, area41.org\, or email chairperson@area41.org for updated information\, as agenda information could be subject to change. \nGrand Island Quality Inn and Conference\n7838 S. Hwy 281\, Building A\,\nGrand Island\, NE\, 68803\n308-210-2124 \nIn order to get the Area 41 reduced rate\, you must reserve your room four weeks\nprior to the Area 41 meeting.
URL:https://www.omahaaa.org/event/area-41-business-meeting-grand-island/
LOCATION:Quality Inn and Conference Center I-80 Grand Island\, 7838 US-281 Building A\, Grand Island\, NE\, 68803\, United States
END:VEVENT
BEGIN:VEVENT
DTSTART;VALUE=DATE:20241012
DTEND;VALUE=DATE:20241013
DTSTAMP:20260422T063749
CREATED:20240711T022643Z
LAST-MODIFIED:20240908T171918Z
UID:139473-1728691200-1728777599@www.omahaaa.org
SUMMARY:District 20 presents AA History workshop
DESCRIPTION:  \n 
URL:https://www.omahaaa.org/event/district-20-seminar-save-the-date/
LOCATION:NE
END:VEVENT
BEGIN:VEVENT
DTSTART;TZID=America/Chicago:20241026T110000
DTEND;TZID=America/Chicago:20241026T140000
DTSTAMP:20260422T063749
CREATED:20241015T015608Z
LAST-MODIFIED:20241015T015608Z
UID:139892-1729940400-1729951200@www.omahaaa.org
SUMMARY:Alano Club Halloween Social Event
DESCRIPTION:
URL:https://www.omahaaa.org/event/alano-club-halloween-social-event/
LOCATION:Alano Club-Omaha\, 1523 Vinton St\, Omaha\, NE\, 68108\, United States
END:VEVENT
BEGIN:VEVENT
DTSTART;TZID=America/Chicago:20241030T090000
DTEND;TZID=America/Chicago:20241030T103000
DTSTAMP:20260422T063749
CREATED:20240918T234129Z
LAST-MODIFIED:20240918T235737Z
UID:139775-1730278800-1730284200@www.omahaaa.org
SUMMARY:From There To Here Anniversary Brunch
DESCRIPTION:From There To Here Anniversary Brunch\nOctober 30th \n9:00 am – 10:30 am \nPresbyterian Church of the Master \n17010 Corby Circle Omaha NE. 68164 \nb
URL:https://www.omahaaa.org/event/from-there-to-here-anniversary-brunch/
LOCATION:Presbyterian Church of the Master-Omaha\, 10710 Corby Cir\, Omaha\, NE\, 68164\, United States
END:VEVENT
END:VCALENDAR