BEGIN:VCALENDAR
VERSION:2.0
PRODID:-//OmahaAA.org - ECPv6.15.20//NONSGML v1.0//EN
CALSCALE:GREGORIAN
METHOD:PUBLISH
X-WR-CALNAME:OmahaAA.org
X-ORIGINAL-URL:https://www.omahaaa.org
X-WR-CALDESC:Events for OmahaAA.org
REFRESH-INTERVAL;VALUE=DURATION:PT1H
X-Robots-Tag:noindex
X-PUBLISHED-TTL:PT1H
BEGIN:VTIMEZONE
TZID:America/Chicago
BEGIN:DAYLIGHT
TZOFFSETFROM:-0600
TZOFFSETTO:-0500
TZNAME:CDT
DTSTART:20230312T080000
END:DAYLIGHT
BEGIN:STANDARD
TZOFFSETFROM:-0500
TZOFFSETTO:-0600
TZNAME:CST
DTSTART:20231105T070000
END:STANDARD
BEGIN:DAYLIGHT
TZOFFSETFROM:-0600
TZOFFSETTO:-0500
TZNAME:CDT
DTSTART:20240310T080000
END:DAYLIGHT
BEGIN:STANDARD
TZOFFSETFROM:-0500
TZOFFSETTO:-0600
TZNAME:CST
DTSTART:20241103T070000
END:STANDARD
BEGIN:DAYLIGHT
TZOFFSETFROM:-0600
TZOFFSETTO:-0500
TZNAME:CDT
DTSTART:20250309T080000
END:DAYLIGHT
BEGIN:STANDARD
TZOFFSETFROM:-0500
TZOFFSETTO:-0600
TZNAME:CST
DTSTART:20251102T070000
END:STANDARD
BEGIN:DAYLIGHT
TZOFFSETFROM:-0600
TZOFFSETTO:-0500
TZNAME:CDT
DTSTART:20260308T080000
END:DAYLIGHT
BEGIN:STANDARD
TZOFFSETFROM:-0500
TZOFFSETTO:-0600
TZNAME:CST
DTSTART:20261101T070000
END:STANDARD
END:VTIMEZONE
BEGIN:VEVENT
DTSTART;TZID=America/Chicago:20241207T180000
DTEND;TZID=America/Chicago:20241207T210000
DTSTAMP:20260422T034814
CREATED:20241003T010028Z
LAST-MODIFIED:20241003T011039Z
UID:139816-1733594400-1733605200@www.omahaaa.org
SUMMARY:North Platte Group of AA 80th Anniversary Celebration
DESCRIPTION:
URL:https://www.omahaaa.org/event/north-platte-group-of-aa-80th-anniversary/
LOCATION:Lincoln County Fairgrounds-North Platte\, 5015 Rodeo Rd\, North Platte\, NE\, 69101\, United States
END:VEVENT
BEGIN:VEVENT
DTSTART;TZID=America/Chicago:20241208T130000
DTEND;TZID=America/Chicago:20241208T150000
DTSTAMP:20260422T034814
CREATED:20241109T034818Z
LAST-MODIFIED:20241120T202417Z
UID:140157-1733662800-1733670000@www.omahaaa.org
SUMMARY:District 23 Mini-Workshop
DESCRIPTION:
URL:https://www.omahaaa.org/event/district-23-mini-workshop-3/
LOCATION:Chapter VI Meeting Hall-Ralston\, 7703 Serum Ave\, Ralston\, NE\, 68127\, United States
END:VEVENT
BEGIN:VEVENT
DTSTART;TZID=America/Chicago:20241214T130000
DTEND;TZID=America/Chicago:20241214T160000
DTSTAMP:20260422T034814
CREATED:20241117T221916Z
LAST-MODIFIED:20241117T221916Z
UID:140582-1734181200-1734192000@www.omahaaa.org
SUMMARY:Ladies Holiday Party
DESCRIPTION:Ladies Holiday Party
URL:https://www.omahaaa.org/event/ladies-holiday-party/
LOCATION:500 Club-Council Bluffs\, 410 S 16th St\, Council Bluffs\, IA\, 51501\, United States
END:VEVENT
BEGIN:VEVENT
DTSTART;TZID=America/Chicago:20241214T170000
DTEND;TZID=America/Chicago:20241214T170000
DTSTAMP:20260422T034814
CREATED:20240907T212906Z
LAST-MODIFIED:20241014T134817Z
UID:139719-1734195600-1734195600@www.omahaaa.org
SUMMARY:2024 Omaha AA Christmas Party
DESCRIPTION:2024 Omaha AA Christmas Party\n& Central Office Fundraiser\nDecember 14 2024 5pm-11pm \n 
URL:https://www.omahaaa.org/event/2024-omaha-aa-christmas-party/
LOCATION:DC Centre Event Venue\, 11830 Stonegate Dr\, Omaha\, NE\, 68164\, United States
END:VEVENT
BEGIN:VEVENT
DTSTART;TZID=America/Chicago:20241214T180000
DTEND;TZID=America/Chicago:20241214T200000
DTSTAMP:20260422T034814
CREATED:20241205T141557Z
LAST-MODIFIED:20241205T141557Z
UID:140666-1734199200-1734206400@www.omahaaa.org
SUMMARY:The Atlantic Group of AA Saturday Night Speaker Meeting & Dinner
DESCRIPTION:I
URL:https://www.omahaaa.org/event/the-atlantic-group-of-aa-saturday-night-speaker-meeting-dinner/
LOCATION:The 309 Club-Atlantic\, 309 Elm St\, Atlantic\, IA\, 50022\, United States
END:VEVENT
BEGIN:VEVENT
DTSTART;TZID=America/Chicago:20241221T180000
DTEND;TZID=America/Chicago:20241221T220000
DTSTAMP:20260422T034814
CREATED:20241117T221227Z
LAST-MODIFIED:20241117T221309Z
UID:140577-1734804000-1734818400@www.omahaaa.org
SUMMARY:Thanksmas Celebration
DESCRIPTION:Thanksmas Celebration\nAt Primary Purpose December 21st 6-10 pm \n2618 Leavenworth \nSmoked Pork\, Ham\,Potatoes & all the fixings \nThe real Santa Will be there \nFree Will offering
URL:https://www.omahaaa.org/event/thanksmas-celebration/
LOCATION:Primary Purpose Hall-Omaha\, 2614 Leavenworth St\, Omaha\, NE\, 68105\, United States
END:VEVENT
BEGIN:VEVENT
DTSTART;TZID=America/Chicago:20241224T173000
DTEND;TZID=America/Chicago:20241224T220000
DTSTAMP:20260422T034814
CREATED:20241115T145057Z
LAST-MODIFIED:20241115T145216Z
UID:140234-1735061400-1735077600@www.omahaaa.org
SUMMARY:Fellowship on Christmas Eve at the Alano Club
DESCRIPTION:
URL:https://www.omahaaa.org/event/fellowship-on-christmas-eve-at-the-alano-club/
LOCATION:Alano Club-Omaha\, 1523 Vinton St\, Omaha\, NE\, 68108\, United States
END:VEVENT
BEGIN:VEVENT
DTSTART;TZID=America/Chicago:20241224T183000
DTEND;TZID=America/Chicago:20241225T060000
DTSTAMP:20260422T034814
CREATED:20241222T174409Z
LAST-MODIFIED:20241222T174409Z
UID:140799-1735065000-1735106400@www.omahaaa.org
SUMMARY:Millard Club & Alive at 11 Christmas Celebration
DESCRIPTION:
URL:https://www.omahaaa.org/event/millard-club-alive-at-11-christmas-celebration/
LOCATION:St. Andrew’s Episcopal Church-Omaha\, 925 S 84th St\, Omaha\, NE\, 68114\, United States
END:VEVENT
BEGIN:VEVENT
DTSTART;VALUE=DATE:20241231
DTEND;VALUE=DATE:20250102
DTSTAMP:20260422T034814
CREATED:20240716T034739Z
LAST-MODIFIED:20250531T051618Z
UID:139521-1735603200-1735775999@www.omahaaa.org
SUMMARY:2024 Alcathon New Years Eve
DESCRIPTION:2024 Alcathon\nNew Years Eve and New Years Day\n \nFor more information\, omahaaa.org/alcathon or email alcathon@omahaaa.net \nMap and directions on Google Maps below \n 
URL:https://www.omahaaa.org/event/2024-alcathon-new-years-eve/
LOCATION:Westside Community Center-Omaha\, 3534 S 108th St\, Omaha\, NE\, 68144\, United States
END:VEVENT
END:VCALENDAR