BEGIN:VCALENDAR
VERSION:2.0
PRODID:-//OmahaAA.org - ECPv6.15.20//NONSGML v1.0//EN
CALSCALE:GREGORIAN
METHOD:PUBLISH
X-WR-CALNAME:OmahaAA.org
X-ORIGINAL-URL:https://www.omahaaa.org
X-WR-CALDESC:Events for OmahaAA.org
REFRESH-INTERVAL;VALUE=DURATION:PT1H
X-Robots-Tag:noindex
X-PUBLISHED-TTL:PT1H
BEGIN:VTIMEZONE
TZID:America/Chicago
BEGIN:DAYLIGHT
TZOFFSETFROM:-0600
TZOFFSETTO:-0500
TZNAME:CDT
DTSTART:20230312T080000
END:DAYLIGHT
BEGIN:STANDARD
TZOFFSETFROM:-0500
TZOFFSETTO:-0600
TZNAME:CST
DTSTART:20231105T070000
END:STANDARD
BEGIN:DAYLIGHT
TZOFFSETFROM:-0600
TZOFFSETTO:-0500
TZNAME:CDT
DTSTART:20240310T080000
END:DAYLIGHT
BEGIN:STANDARD
TZOFFSETFROM:-0500
TZOFFSETTO:-0600
TZNAME:CST
DTSTART:20241103T070000
END:STANDARD
BEGIN:DAYLIGHT
TZOFFSETFROM:-0600
TZOFFSETTO:-0500
TZNAME:CDT
DTSTART:20250309T080000
END:DAYLIGHT
BEGIN:STANDARD
TZOFFSETFROM:-0500
TZOFFSETTO:-0600
TZNAME:CST
DTSTART:20251102T070000
END:STANDARD
BEGIN:DAYLIGHT
TZOFFSETFROM:-0600
TZOFFSETTO:-0500
TZNAME:CDT
DTSTART:20260308T080000
END:DAYLIGHT
BEGIN:STANDARD
TZOFFSETFROM:-0500
TZOFFSETTO:-0600
TZNAME:CST
DTSTART:20261101T070000
END:STANDARD
END:VTIMEZONE
BEGIN:VEVENT
DTSTART;VALUE=DATE:20241231
DTEND;VALUE=DATE:20250102
DTSTAMP:20260422T020338
CREATED:20240716T034739Z
LAST-MODIFIED:20250531T051618Z
UID:139521-1735603200-1735775999@www.omahaaa.org
SUMMARY:2024 Alcathon New Years Eve
DESCRIPTION:2024 Alcathon\nNew Years Eve and New Years Day\n \nFor more information\, omahaaa.org/alcathon or email alcathon@omahaaa.net \nMap and directions on Google Maps below \n 
URL:https://www.omahaaa.org/event/2024-alcathon-new-years-eve/
LOCATION:Westside Community Center-Omaha\, 3534 S 108th St\, Omaha\, NE\, 68144\, United States
END:VEVENT
BEGIN:VEVENT
DTSTART;VALUE=DATE:20250111
DTEND;VALUE=DATE:20250113
DTSTAMP:20260422T020338
CREATED:20241206T181345Z
LAST-MODIFIED:20241206T201407Z
UID:140682-1736553600-1736726399@www.omahaaa.org
SUMMARY:Area 41 Business Meeting - Grand Island
DESCRIPTION:Area 41 Business Meeting\nJanuary 11-12\, 2025\nAgenda January 2025 (Area 41) \nPlease check with your DCM\, area41.org\, or email chairperson@area41.org for updated information\, as agenda information could be subject to change. \nGrand Island Quality Inn and Conference\n7838 S. Hwy 281\, Building A\,\nGrand Island\, NE\, 68803\n308-210-2124 \nIn order to get the Area 41 reduced rate\, you must reserve your room four weeks\nprior to the Area 41 meeting.
URL:https://www.omahaaa.org/event/area-41-business-meeting-grand-island-2/
LOCATION:Quality Inn and Conference Center I-80 Grand Island\, 7838 US-281 Building A\, Grand Island\, NE\, 68803\, United States
END:VEVENT
BEGIN:VEVENT
DTSTART;TZID=America/Chicago:20250111T173000
DTEND;TZID=America/Chicago:20250111T200000
DTSTAMP:20260422T020338
CREATED:20241219T030344Z
LAST-MODIFIED:20241219T030344Z
UID:140783-1736616600-1736625600@www.omahaaa.org
SUMMARY:The Atlantic Group 3rd Annual Chili Cook off & Speaker Meeeting
DESCRIPTION:t
URL:https://www.omahaaa.org/event/the-atlantic-group-3rd-annual-chili-cook-off-speaker-meeeting/
LOCATION:The 309 Club-Atlantic\, 309 Elm St\, Atlantic\, IA\, 50022\, United States
END:VEVENT
BEGIN:VEVENT
DTSTART;TZID=America/Chicago:20250117T180000
DTEND;TZID=America/Chicago:20250117T203000
DTSTAMP:20260422T020338
CREATED:20241125T165830Z
LAST-MODIFIED:20241125T170042Z
UID:140617-1737136800-1737145800@www.omahaaa.org
SUMMARY:Not a Glum Lot Primary Purpose 22nd Anniversary
DESCRIPTION:Not a Glum Lot
URL:https://www.omahaaa.org/event/not-a-glum-lot-prmary-purpose-22nd-anniversary/
LOCATION:Covenant Presbyterian Church-Omaha\, 15002 Blondo St\, Omaha\, NE\, 68116\, United States
END:VEVENT
BEGIN:VEVENT
DTSTART;TZID=America/Chicago:20250125T170000
DTEND;TZID=America/Chicago:20250125T210000
DTSTAMP:20260422T020338
CREATED:20241107T131240Z
LAST-MODIFIED:20241107T131240Z
UID:140142-1737824400-1737838800@www.omahaaa.org
SUMMARY:52nd Annual Bellevue Anniversary
DESCRIPTION:52nd Annual Bellevue Anniversary
URL:https://www.omahaaa.org/event/52nd-annual-bellevue-anniversary/
LOCATION:Bellevue East High School\, 1401 High School Dr\, Bellevue\, NE\, 68005\, United States
END:VEVENT
BEGIN:VEVENT
DTSTART;TZID=America/Chicago:20250129T183000
DTEND;TZID=America/Chicago:20250129T183000
DTSTAMP:20260422T020338
CREATED:20250118T122253Z
LAST-MODIFIED:20250719T205759Z
UID:140879-1738175400-1738175400@www.omahaaa.org
SUMMARY:Online Area 41 Concept One Workshop
DESCRIPTION:Greetings Area 41! \nThis weekend I mentioned I’ll be hosting an online Twelve Concepts study this year! Everyone is invited to join and we will welcome speakers from other Areas who will share their experience\, strength and hope on a Concept once a month. We’ll include time for Q&A and I’m sure they’ll have a fun story or two to tell; who said talking about the Concepts can’t be fun?! I can’t wait to embark on this journey together and deepen our understanding of these vital principles. \nA flyer will be coming in the next few days\, but I wanted to give everyone a date to pencil in if you’re interested in joining. January’s workshop will be on Wednesday\, January 29th at 6:30pm. For February through December\, let’s plan on the 3rd Wednesday of the month at 6:30pm. If we find that time doesn’t work well\, we can shift! \nI’d love to hear from you if you’re interested in attending. Feel free to share with any member! \nIn love and service\,\nNick
URL:https://www.omahaaa.org/event/area-41-concept-one-workshop/
LOCATION:NE
CATEGORIES:Area
END:VEVENT
BEGIN:VEVENT
DTSTART;VALUE=DATE:20250130
DTEND;VALUE=DATE:20250203
DTSTAMP:20260422T020338
CREATED:20240716T031945Z
LAST-MODIFIED:20240716T031945Z
UID:139512-1738195200-1738540799@www.omahaaa.org
SUMMARY:61st International Women's Conference
DESCRIPTION:61st International Women’s Conference\nJanuary 30th – February 5\, 2025\nManchester Grand Hyatt\, San Diego CA & Online \nwww.internationalwomensconference.org
URL:https://www.omahaaa.org/event/61st-international-womens-conference/
LOCATION:Manchester Grand Hyatt San Diego\, 1 Market Pl\, San Diego\, CA\, 92101\, United States
END:VEVENT
BEGIN:VEVENT
DTSTART;TZID=America/Chicago:20250130T180000
DTEND;TZID=America/Chicago:20250130T200000
DTSTAMP:20260422T020338
CREATED:20241228T213956Z
LAST-MODIFIED:20241228T213956Z
UID:140818-1738260000-1738267200@www.omahaaa.org
SUMMARY:Anita A A invites you to their AA Speaker Meeting & Dinner
DESCRIPTION:
URL:https://www.omahaaa.org/event/anita-a-a-invites-you-to-their-aa-speaker-meeting-dinner/
LOCATION:Anita Congregational Church\, 501 Locust St\, Anita\, IA\, 50020\, United States
END:VEVENT
END:VCALENDAR