BEGIN:VCALENDAR
VERSION:2.0
PRODID:-//OmahaAA.org - ECPv6.15.20//NONSGML v1.0//EN
CALSCALE:GREGORIAN
METHOD:PUBLISH
X-ORIGINAL-URL:https://www.omahaaa.org
X-WR-CALDESC:Events for OmahaAA.org
REFRESH-INTERVAL;VALUE=DURATION:PT1H
X-Robots-Tag:noindex
X-PUBLISHED-TTL:PT1H
BEGIN:VTIMEZONE
TZID:America/Chicago
BEGIN:DAYLIGHT
TZOFFSETFROM:-0600
TZOFFSETTO:-0500
TZNAME:CDT
DTSTART:20240310T080000
END:DAYLIGHT
BEGIN:STANDARD
TZOFFSETFROM:-0500
TZOFFSETTO:-0600
TZNAME:CST
DTSTART:20241103T070000
END:STANDARD
BEGIN:DAYLIGHT
TZOFFSETFROM:-0600
TZOFFSETTO:-0500
TZNAME:CDT
DTSTART:20250309T080000
END:DAYLIGHT
BEGIN:STANDARD
TZOFFSETFROM:-0500
TZOFFSETTO:-0600
TZNAME:CST
DTSTART:20251102T070000
END:STANDARD
BEGIN:DAYLIGHT
TZOFFSETFROM:-0600
TZOFFSETTO:-0500
TZNAME:CDT
DTSTART:20260308T080000
END:DAYLIGHT
BEGIN:STANDARD
TZOFFSETFROM:-0500
TZOFFSETTO:-0600
TZNAME:CST
DTSTART:20261101T070000
END:STANDARD
END:VTIMEZONE
BEGIN:VEVENT
DTSTART;VALUE=DATE:20250130
DTEND;VALUE=DATE:20250203
DTSTAMP:20260422T003258
CREATED:20240716T031945Z
LAST-MODIFIED:20240716T031945Z
UID:139512-1738195200-1738540799@www.omahaaa.org
SUMMARY:61st International Women's Conference
DESCRIPTION:61st International Women’s Conference\nJanuary 30th – February 5\, 2025\nManchester Grand Hyatt\, San Diego CA & Online \nwww.internationalwomensconference.org
URL:https://www.omahaaa.org/event/61st-international-womens-conference/
LOCATION:Manchester Grand Hyatt San Diego\, 1 Market Pl\, San Diego\, CA\, 92101\, United States
END:VEVENT
BEGIN:VEVENT
DTSTART;TZID=America/Chicago:20250208T180000
DTEND;TZID=America/Chicago:20250208T200000
DTSTAMP:20260422T003258
CREATED:20250120T134315Z
LAST-MODIFIED:20250120T134315Z
UID:140889-1739037600-1739044800@www.omahaaa.org
SUMMARY:The Atlantic Group of AA Taco Bar & Speaker Nite
DESCRIPTION:
URL:https://www.omahaaa.org/event/the-atlantic-group-of-aa-taco-bar-speaker-nite/
LOCATION:The 309 Club-Atlantic\, 309 Elm St\, Atlantic\, IA\, 50022\, United States
END:VEVENT
BEGIN:VEVENT
DTSTART;TZID=America/Chicago:20250209T130000
DTEND;TZID=America/Chicago:20250209T150000
DTSTAMP:20260422T003258
CREATED:20250115T134852Z
LAST-MODIFIED:20250719T205641Z
UID:140863-1739106000-1739113200@www.omahaaa.org
SUMMARY:Prayer & Meditation 101 Workshop
DESCRIPTION:
URL:https://www.omahaaa.org/event/pray-meditation-101-workshop/
LOCATION:Chapter VI Meeting Hall-Ralston\, 7703 Serum Ave\, Ralston\, NE\, 68127\, United States
END:VEVENT
BEGIN:VEVENT
DTSTART;TZID=America/Chicago:20250218T173000
DTEND;TZID=America/Chicago:20250218T190000
DTSTAMP:20260422T003258
CREATED:20250217T201839Z
LAST-MODIFIED:20250719T183731Z
UID:142836-1739899800-1739905200@www.omahaaa.org
SUMMARY:Traditions Workshop 12 Tuesdays
DESCRIPTION:
URL:https://www.omahaaa.org/event/traditions-workshop-12-tuesdays/
LOCATION:NE
END:VEVENT
BEGIN:VEVENT
DTSTART;TZID=America/Chicago:20250219T183000
DTEND;TZID=America/Chicago:20250219T193000
DTSTAMP:20260422T003258
CREATED:20250212T145100Z
LAST-MODIFIED:20250719T183147Z
UID:142804-1739989800-1739993400@www.omahaaa.org
SUMMARY:Area 41 - 12 Concepts    Concept II
DESCRIPTION:
URL:https://www.omahaaa.org/event/area-41-12-concepts-concept-ii/
LOCATION:NE
END:VEVENT
BEGIN:VEVENT
DTSTART;TZID=America/Chicago:20250221T080000
DTEND;TZID=America/Chicago:20250223T170000
DTSTAMP:20260422T003258
CREATED:20241011T202251Z
LAST-MODIFIED:20241011T202709Z
UID:139853-1740124800-1740330000@www.omahaaa.org
SUMMARY:23rd Annual Mens Advancement  Weekend
DESCRIPTION:
URL:https://www.omahaaa.org/event/23rd-annual-mens-advancement-weekend/
LOCATION:NE
END:VEVENT
BEGIN:VEVENT
DTSTART;TZID=America/Chicago:20250228T080000
DTEND;TZID=America/Chicago:20250302T170000
DTSTAMP:20260422T003258
CREATED:20250204T223218Z
LAST-MODIFIED:20250204T223218Z
UID:142764-1740729600-1740934800@www.omahaaa.org
SUMMARY:2025 West Central Regional A A Service Conference
DESCRIPTION:
URL:https://www.omahaaa.org/event/2025-west-central-regional-a-a-service-conference/
LOCATION:Best Western Downtown Casper\, 123 W E St\, Casper\, WY\, 82601\, United States
END:VEVENT
BEGIN:VEVENT
DTSTART;TZID=America/Chicago:20250228T170000
DTEND;TZID=America/Chicago:20250302T100000
DTSTAMP:20260422T003258
CREATED:20241107T130546Z
LAST-MODIFIED:20241107T130740Z
UID:140137-1740762000-1740909600@www.omahaaa.org
SUMMARY:17th Anniversary Sioux City Tri-State Roundup
DESCRIPTION:17th Anniversary Sioux City Tri-State Roundup
URL:https://www.omahaaa.org/event/17th-anniversary-sioux-city-tri-state-roundup/
LOCATION:South Sioux City Marriott Riverfront\, 385 E 4th St\, South Sioux City\, NE\, 68776\, United States
END:VEVENT
END:VCALENDAR