BEGIN:VCALENDAR
VERSION:2.0
PRODID:-//OmahaAA.org - ECPv6.15.20//NONSGML v1.0//EN
CALSCALE:GREGORIAN
METHOD:PUBLISH
X-WR-CALNAME:OmahaAA.org
X-ORIGINAL-URL:https://www.omahaaa.org
X-WR-CALDESC:Events for OmahaAA.org
REFRESH-INTERVAL;VALUE=DURATION:PT1H
X-Robots-Tag:noindex
X-PUBLISHED-TTL:PT1H
BEGIN:VTIMEZONE
TZID:America/Chicago
BEGIN:DAYLIGHT
TZOFFSETFROM:-0600
TZOFFSETTO:-0500
TZNAME:CDT
DTSTART:20240310T080000
END:DAYLIGHT
BEGIN:STANDARD
TZOFFSETFROM:-0500
TZOFFSETTO:-0600
TZNAME:CST
DTSTART:20241103T070000
END:STANDARD
BEGIN:DAYLIGHT
TZOFFSETFROM:-0600
TZOFFSETTO:-0500
TZNAME:CDT
DTSTART:20250309T080000
END:DAYLIGHT
BEGIN:STANDARD
TZOFFSETFROM:-0500
TZOFFSETTO:-0600
TZNAME:CST
DTSTART:20251102T070000
END:STANDARD
BEGIN:DAYLIGHT
TZOFFSETFROM:-0600
TZOFFSETTO:-0500
TZNAME:CDT
DTSTART:20260308T080000
END:DAYLIGHT
BEGIN:STANDARD
TZOFFSETFROM:-0500
TZOFFSETTO:-0600
TZNAME:CST
DTSTART:20261101T070000
END:STANDARD
END:VTIMEZONE
BEGIN:VEVENT
DTSTART;TZID=America/Chicago:20250405T080000
DTEND;TZID=America/Chicago:20250406T170000
DTSTAMP:20260421T212203
CREATED:20250204T223626Z
LAST-MODIFIED:20250404T145017Z
UID:142768-1743840000-1743958800@www.omahaaa.org
SUMMARY:Area 41 Assembly
DESCRIPTION:Go to Area Assembly
URL:https://www.omahaaa.org/event/area-41-assembly/
LOCATION:Quality Inn and Conference Center I-80 Grand Island\, 7838 US-281 Building A\, Grand Island\, NE\, 68803\, United States
END:VEVENT
BEGIN:VEVENT
DTSTART;TZID=America/Chicago:20250405T120000
DTEND;TZID=America/Chicago:20250405T150000
DTSTAMP:20260421T212203
CREATED:20250209T222939Z
LAST-MODIFIED:20250209T222939Z
UID:142789-1743854400-1743865200@www.omahaaa.org
SUMMARY:164 Group get in the middle of AA
DESCRIPTION:
URL:https://www.omahaaa.org/event/164-group-get-in-the-middle-of-aa/
LOCATION:Northwest Hills Church-Omaha\, 9334 Fort St\, Omaha\, NE\, 68134\, United States
END:VEVENT
BEGIN:VEVENT
DTSTART;TZID=America/Chicago:20250406T130000
DTEND;TZID=America/Chicago:20250406T150000
DTSTAMP:20260421T212203
CREATED:20250324T130454Z
LAST-MODIFIED:20250719T205324Z
UID:142980-1743944400-1743951600@www.omahaaa.org
SUMMARY:District 23 Mini - Workshop
DESCRIPTION:
URL:https://www.omahaaa.org/event/the-aa-group-where-it-all-begins-district-23-workshop/
LOCATION:Chapter VI Meeting Hall-Ralston\, 7703 Serum Ave\, Ralston\, NE\, 68127\, United States
CATEGORIES:District 23
END:VEVENT
BEGIN:VEVENT
DTSTART;TZID=America/Chicago:20250411T080000
DTEND;TZID=America/Chicago:20250413T170000
DTSTAMP:20260421T212203
CREATED:20240427T181357Z
LAST-MODIFIED:20241026T173559Z
UID:138619-1744358400-1744563600@www.omahaaa.org
SUMMARY:The 36th Annual International AA Men's Conference
DESCRIPTION:The 36th Annual International AA Men’s Conference\nhttps://www.iaamcab.org/
URL:https://www.omahaaa.org/event/save-the-date-the-36th-annual-international-aa-mens-conference/
LOCATION:Wyndham Independence\, 6200 Quarry Ln\, Independence\, OH\, 44131\, United States
END:VEVENT
BEGIN:VEVENT
DTSTART;TZID=America/Chicago:20250411T080000
DTEND;TZID=America/Chicago:20250413T170000
DTSTAMP:20260421T212203
CREATED:20250211T202816Z
LAST-MODIFIED:20250211T202816Z
UID:142799-1744358400-1744563600@www.omahaaa.org
SUMMARY:70th Panhandle AA Jamboree
DESCRIPTION:
URL:https://www.omahaaa.org/event/70th-panhandle-aa-jamboree/
LOCATION:Hampton Inn & Suites Scottsbluff\, 301 US-26\, Scottsbluff\, NE\, 69361\, United States
END:VEVENT
BEGIN:VEVENT
DTSTART;TZID=America/Chicago:20250416T183000
DTEND;TZID=America/Chicago:20250416T193000
DTSTAMP:20260421T212203
CREATED:20250212T145447Z
LAST-MODIFIED:20250719T205225Z
UID:142810-1744828200-1744831800@www.omahaaa.org
SUMMARY:Area 41 – 12 Concepts Concept IV
DESCRIPTION:
URL:https://www.omahaaa.org/event/area-41-12-concepts-concept-iv/
LOCATION:NE
CATEGORIES:Area
END:VEVENT
BEGIN:VEVENT
DTSTART;TZID=America/Chicago:20250419T113000
DTEND;TZID=America/Chicago:20250419T133000
DTSTAMP:20260421T212203
CREATED:20250324T033339Z
LAST-MODIFIED:20250719T203803Z
UID:142977-1745062200-1745069400@www.omahaaa.org
SUMMARY:District 1 workshop Steps 4&5
DESCRIPTION:
URL:https://www.omahaaa.org/event/district-1-workshop-steps-45/
LOCATION:River of Life Lutheran Church-Omaha\, 5151 NW Radial Hwy\, Omaha\, NE\, 68104\, United States
CATEGORIES:District 1
END:VEVENT
BEGIN:VEVENT
DTSTART;TZID=America/Chicago:20250419T170000
DTEND;TZID=America/Chicago:20250419T190000
DTSTAMP:20260421T212203
CREATED:20250317T151745Z
LAST-MODIFIED:20250719T203554Z
UID:142948-1745082000-1745089200@www.omahaaa.org
SUMMARY:2025 Spring Fling & BBQ
DESCRIPTION:
URL:https://www.omahaaa.org/event/2025-spring-fling-bbq/
LOCATION:The 309 Club-Atlantic\, 309 Elm St\, Atlantic\, IA\, 50022\, United States
CATEGORIES:Out of Metro Area
END:VEVENT
BEGIN:VEVENT
DTSTART;TZID=America/Chicago:20250425T150000
DTEND;TZID=America/Chicago:20250427T100000
DTSTAMP:20260421T212203
CREATED:20250213T161609Z
LAST-MODIFIED:20250213T161707Z
UID:142814-1745593200-1745748000@www.omahaaa.org
SUMMARY:Sunlight of the Spirit Weekend
DESCRIPTION:
URL:https://www.omahaaa.org/event/sunlight-of-the-sprite/
LOCATION:Best Western Fairmont\, 1201 Torgerson Dr\, Fairmont\, NE\, 56031\, United States
CATEGORIES:Out of Metro Area
END:VEVENT
BEGIN:VEVENT
DTSTART;TZID=America/Chicago:20250426T173000
DTEND;TZID=America/Chicago:20250426T200000
DTSTAMP:20260421T212203
CREATED:20250407T013011Z
LAST-MODIFIED:20250719T193846Z
UID:143036-1745688600-1745697600@www.omahaaa.org
SUMMARY:Celebrating 78 Years of AA in Nebraska City
DESCRIPTION:
URL:https://www.omahaaa.org/event/celebrating-78-years-of-aa-in-nebraska-city/
LOCATION:Bethel Church of Nebraska City\, 2400 Central Ave\, Nebraska City\, NE\, 68410\, United States
CATEGORIES:Out of Metro Area
END:VEVENT
END:VCALENDAR