BEGIN:VCALENDAR
VERSION:2.0
PRODID:-//OmahaAA.org - ECPv6.15.20//NONSGML v1.0//EN
CALSCALE:GREGORIAN
METHOD:PUBLISH
X-ORIGINAL-URL:https://www.omahaaa.org
X-WR-CALDESC:Events for OmahaAA.org
REFRESH-INTERVAL;VALUE=DURATION:PT1H
X-Robots-Tag:noindex
X-PUBLISHED-TTL:PT1H
BEGIN:VTIMEZONE
TZID:America/Chicago
BEGIN:DAYLIGHT
TZOFFSETFROM:-0600
TZOFFSETTO:-0500
TZNAME:CDT
DTSTART:20240310T080000
END:DAYLIGHT
BEGIN:STANDARD
TZOFFSETFROM:-0500
TZOFFSETTO:-0600
TZNAME:CST
DTSTART:20241103T070000
END:STANDARD
BEGIN:DAYLIGHT
TZOFFSETFROM:-0600
TZOFFSETTO:-0500
TZNAME:CDT
DTSTART:20250309T080000
END:DAYLIGHT
BEGIN:STANDARD
TZOFFSETFROM:-0500
TZOFFSETTO:-0600
TZNAME:CST
DTSTART:20251102T070000
END:STANDARD
BEGIN:DAYLIGHT
TZOFFSETFROM:-0600
TZOFFSETTO:-0500
TZNAME:CDT
DTSTART:20260308T080000
END:DAYLIGHT
BEGIN:STANDARD
TZOFFSETFROM:-0500
TZOFFSETTO:-0600
TZNAME:CST
DTSTART:20261101T070000
END:STANDARD
END:VTIMEZONE
BEGIN:VEVENT
DTSTART;TZID=America/Chicago:20250502T080000
DTEND;TZID=America/Chicago:20250504T170000
DTSTAMP:20260421T225312
CREATED:20250215T174541Z
LAST-MODIFIED:20250719T184332Z
UID:142826-1746172800-1746378000@www.omahaaa.org
SUMMARY:Momentum Men's Weekend
DESCRIPTION:
URL:https://www.omahaaa.org/event/momentum-mens-weekend-2/
LOCATION:Carol Joy Holling Camp-Ashland\, 27416 Ranch Rd\, Ashland\, NE\, 68003\, United States
CATEGORIES:Out of Metro Area
END:VEVENT
BEGIN:VEVENT
DTSTART;TZID=America/Chicago:20250503T103000
DTEND;TZID=America/Chicago:20250503T140000
DTSTAMP:20260421T225312
CREATED:20250407T010817Z
LAST-MODIFIED:20250719T181939Z
UID:143025-1746268200-1746280800@www.omahaaa.org
SUMMARY:District 23 Spring Fellowship
DESCRIPTION:
URL:https://www.omahaaa.org/event/district-23-sponsorship-service/
LOCATION:Chapter VI Meeting Hall-Ralston\, 7703 Serum Ave\, Ralston\, NE\, 68127\, United States
CATEGORIES:District 23
END:VEVENT
BEGIN:VEVENT
DTSTART;TZID=America/Chicago:20250510T180000
DTEND;TZID=America/Chicago:20250510T200000
DTSTAMP:20260421T225312
CREATED:20250430T132848Z
LAST-MODIFIED:20250719T193619Z
UID:143073-1746900000-1746907200@www.omahaaa.org
SUMMARY:The Atlantic Group of AA Saturday Night Speaker
DESCRIPTION:
URL:https://www.omahaaa.org/event/the-atlantic-group-of-aa-saturday-night-speaker/
LOCATION:The 309 Club-Atlantic\, 309 Elm St\, Atlantic\, IA\, 50022\, United States
CATEGORIES:District 6 (Iowa),Out of Metro Area
END:VEVENT
BEGIN:VEVENT
DTSTART;TZID=America/Chicago:20250516T170000
DTEND;TZID=America/Chicago:20250516T200000
DTSTAMP:20260421T225312
CREATED:20250511T021546Z
LAST-MODIFIED:20250719T211412Z
UID:143100-1747414800-1747425600@www.omahaaa.org
SUMMARY:The Alano Club - Sobriety Cookout
DESCRIPTION:
URL:https://www.omahaaa.org/event/the-alano-club-sorbriety-cookout/
LOCATION:Alano Club-Omaha\, 1523 Vinton St\, Omaha\, NE\, 68108\, United States
CATEGORIES:District 19
END:VEVENT
BEGIN:VEVENT
DTSTART;TZID=America/Chicago:20250517T100000
DTEND;TZID=America/Chicago:20250517T140000
DTSTAMP:20260421T225312
CREATED:20250408T131807Z
LAST-MODIFIED:20250719T211059Z
UID:143046-1747476000-1747490400@www.omahaaa.org
SUMMARY:District 18 Picnic & Cornhole Tournament
DESCRIPTION:
URL:https://www.omahaaa.org/event/district-18-picnic-cornhole-tournament/
LOCATION:Ta-Ha-Zouka Park-Elkhorn\, 905 Elkhorn Dr\, Elkhorn\, NE\, 68022\, United States
CATEGORIES:District 18
END:VEVENT
BEGIN:VEVENT
DTSTART;TZID=America/Chicago:20250518T160000
DTEND;TZID=America/Chicago:20250518T180000
DTSTAMP:20260421T225312
CREATED:20250508T142524Z
LAST-MODIFIED:20250719T210814Z
UID:143093-1747584000-1747591200@www.omahaaa.org
SUMMARY:164 Out Loud\, Chili Cook off
DESCRIPTION:
URL:https://www.omahaaa.org/event/164-group-chili-cook-off/
LOCATION:Hanscom Park United Methodist Church-Omaha\, 4444 Frances St\, Omaha\, NE\, 68105\, United States
END:VEVENT
BEGIN:VEVENT
DTSTART;TZID=America/Chicago:20250529T180000
DTEND;TZID=America/Chicago:20250529T200000
DTSTAMP:20260421T225312
CREATED:20250408T125651Z
LAST-MODIFIED:20250719T193215Z
UID:143040-1748541600-1748548800@www.omahaaa.org
SUMMARY:Anita AA Speaker Meeting  & Dinner
DESCRIPTION:
URL:https://www.omahaaa.org/event/anita-aa-speaker-meeting-dinner/
LOCATION:Anita Congregational Church\, 501 Locust St\, Anita\, IA\, 50020\, United States
CATEGORIES:District 6 (Iowa),Out of Metro Area
END:VEVENT
END:VCALENDAR