BEGIN:VCALENDAR
VERSION:2.0
PRODID:-//OmahaAA.org - ECPv6.15.20//NONSGML v1.0//EN
CALSCALE:GREGORIAN
METHOD:PUBLISH
X-ORIGINAL-URL:https://www.omahaaa.org
X-WR-CALDESC:Events for OmahaAA.org
REFRESH-INTERVAL;VALUE=DURATION:PT1H
X-Robots-Tag:noindex
X-PUBLISHED-TTL:PT1H
BEGIN:VTIMEZONE
TZID:America/Chicago
BEGIN:DAYLIGHT
TZOFFSETFROM:-0600
TZOFFSETTO:-0500
TZNAME:CDT
DTSTART:20250309T080000
END:DAYLIGHT
BEGIN:STANDARD
TZOFFSETFROM:-0500
TZOFFSETTO:-0600
TZNAME:CST
DTSTART:20251102T070000
END:STANDARD
BEGIN:DAYLIGHT
TZOFFSETFROM:-0600
TZOFFSETTO:-0500
TZNAME:CDT
DTSTART:20260308T080000
END:DAYLIGHT
BEGIN:STANDARD
TZOFFSETFROM:-0500
TZOFFSETTO:-0600
TZNAME:CST
DTSTART:20261101T070000
END:STANDARD
BEGIN:DAYLIGHT
TZOFFSETFROM:-0600
TZOFFSETTO:-0500
TZNAME:CDT
DTSTART:20270314T080000
END:DAYLIGHT
BEGIN:STANDARD
TZOFFSETFROM:-0500
TZOFFSETTO:-0600
TZNAME:CST
DTSTART:20271107T070000
END:STANDARD
END:VTIMEZONE
BEGIN:VEVENT
DTSTART;TZID=America/Chicago:20260307T170000
DTEND;TZID=America/Chicago:20260307T210000
DTSTAMP:20260421T135338
CREATED:20251225T012334Z
LAST-MODIFIED:20260128T035727Z
UID:146674-1772902800-1772917200@www.omahaaa.org
SUMMARY:46th Annual Young People's Hog Roast
DESCRIPTION:
URL:https://www.omahaaa.org/event/46th-annual-young-peoples-hog-roast/
LOCATION:Christensen Field-Fremont\, 1710 W 16th St\, Fremont\, NE\, 68025\, United States
CATEGORIES:Events,Out of Metro Area
END:VEVENT
BEGIN:VEVENT
DTSTART;TZID=America/Chicago:20260319T173000
DTEND;TZID=America/Chicago:20260319T210000
DTSTAMP:20260421T135338
CREATED:20260205T172246Z
LAST-MODIFIED:20260205T194336Z
UID:146987-1773941400-1773954000@www.omahaaa.org
SUMMARY:49th Anniversary Feast & Fellowship Stag Event
DESCRIPTION:
URL:https://www.omahaaa.org/event/49th-anniversary-feast-fellowship/
LOCATION:Croatian Cultural Society-Bellevue\, 8711 S 36th St\, Bellevue\, NE\, 68147\, United States
CATEGORIES:District 20,Events
END:VEVENT
BEGIN:VEVENT
DTSTART;TZID=America/Chicago:20260321T093000
DTEND;TZID=America/Chicago:20260321T113000
DTSTAMP:20260421T135338
CREATED:20260224T182638Z
LAST-MODIFIED:20260224T182638Z
UID:147236-1774085400-1774092600@www.omahaaa.org
SUMMARY:Me\, We & Service 4th Anniversary
DESCRIPTION:
URL:https://www.omahaaa.org/event/me-we-service-4th-anniversary-2/
LOCATION:Presbyterian Church of the Cross-Omaha\, 1517 S 114th St\, Omaha\, NE\, 68144\, United States
CATEGORIES:District 2,Events
END:VEVENT
BEGIN:VEVENT
DTSTART;TZID=America/Chicago:20260327T200000
DTEND;TZID=America/Chicago:20260329T120000
DTSTAMP:20260421T135338
CREATED:20260122T000455Z
LAST-MODIFIED:20260215T175339Z
UID:146908-1774641600-1774785600@www.omahaaa.org
SUMMARY:Aim for Ames Roundup – Ames\, IA
DESCRIPTION:Aim for Ames Roundup\nMarch 27-29\, 2026\n“Follow The Path” \n🔗 PDF Flyer\nConference Website: aimforames.org
URL:https://www.omahaaa.org/event/aim-for-ames-2026/
LOCATION:Quality Inn & Suites Ames Conference Center\, 2601 E 13th St\, Ames\, IA\, 50010\, United States
CATEGORIES:District 3 (Iowa),Events,Out of Metro Area
ORGANIZER;CN="Aim for Ames Roundup":MAILTO:aimforames@yahoo.com
END:VEVENT
BEGIN:VEVENT
DTSTART;TZID=America/Chicago:20260329T130000
DTEND;TZID=America/Chicago:20260329T150000
DTSTAMP:20260421T135338
CREATED:20260314T021015Z
LAST-MODIFIED:20260324T191432Z
UID:147292-1774789200-1774796400@www.omahaaa.org
SUMMARY:District 23 Mini-Workshop
DESCRIPTION:
URL:https://www.omahaaa.org/event/district-23-mini-workshop-8/
LOCATION:Chapter VI Meeting Hall-Ralston\, 7703 Serum Ave\, Ralston\, NE\, 68127\, United States
CATEGORIES:District 23,Events
END:VEVENT
END:VCALENDAR