BEGIN:VCALENDAR
VERSION:2.0
PRODID:-//OmahaAA.org - ECPv6.15.20//NONSGML v1.0//EN
CALSCALE:GREGORIAN
METHOD:PUBLISH
X-WR-CALNAME:OmahaAA.org
X-ORIGINAL-URL:https://www.omahaaa.org
X-WR-CALDESC:Events for OmahaAA.org
REFRESH-INTERVAL;VALUE=DURATION:PT1H
X-Robots-Tag:noindex
X-PUBLISHED-TTL:PT1H
BEGIN:VTIMEZONE
TZID:America/Chicago
BEGIN:DAYLIGHT
TZOFFSETFROM:-0600
TZOFFSETTO:-0500
TZNAME:CDT
DTSTART:20240310T080000
END:DAYLIGHT
BEGIN:STANDARD
TZOFFSETFROM:-0500
TZOFFSETTO:-0600
TZNAME:CST
DTSTART:20241103T070000
END:STANDARD
BEGIN:DAYLIGHT
TZOFFSETFROM:-0600
TZOFFSETTO:-0500
TZNAME:CDT
DTSTART:20250309T080000
END:DAYLIGHT
BEGIN:STANDARD
TZOFFSETFROM:-0500
TZOFFSETTO:-0600
TZNAME:CST
DTSTART:20251102T070000
END:STANDARD
BEGIN:DAYLIGHT
TZOFFSETFROM:-0600
TZOFFSETTO:-0500
TZNAME:CDT
DTSTART:20260308T080000
END:DAYLIGHT
BEGIN:STANDARD
TZOFFSETFROM:-0500
TZOFFSETTO:-0600
TZNAME:CST
DTSTART:20261101T070000
END:STANDARD
END:VTIMEZONE
BEGIN:VEVENT
DTSTART;VALUE=DATE:20251002
DTEND;VALUE=DATE:20251005
DTSTAMP:20260421T233135
CREATED:20250827T150752Z
LAST-MODIFIED:20251002T052538Z
UID:145383-1759363200-1759622399@www.omahaaa.org
SUMMARY:2025-2026 Alcathon - Meeting room bookings and donation/volunteer signups go live!
DESCRIPTION:Meeting room bookings and donation/volunteer signups go live on October 2\, 2025 at 12:01 AM! First come\, first served.  \n🔗 Meeting Room Booking\n🔗 Donation and Volunteer Signups \nVisit our Committee/Event page (omahaaa.org/alcathon) for all event details\, to date!
URL:https://www.omahaaa.org/event/2025-alcathon-bookings/
LOCATION:🛜 Virtual
CATEGORIES:Alcathon,Committees,Events
END:VEVENT
BEGIN:VEVENT
DTSTART;TZID=America/Chicago:20251004T080000
DTEND;TZID=America/Chicago:20251004T130000
DTSTAMP:20260421T233135
CREATED:20250709T152528Z
LAST-MODIFIED:20250719T230002Z
UID:144621-1759564800-1759582800@www.omahaaa.org
SUMMARY:20th Annual Stepping Stones to Serenity
DESCRIPTION:
URL:https://www.omahaaa.org/event/20th-annual-stepping-stones-to-serenity/
LOCATION:St. Martha’s Episcopal Church-Papillion\, 780 Pinnacle Dr\, Papillion\, NE\, 68046\, United States
CATEGORIES:Events
END:VEVENT
BEGIN:VEVENT
DTSTART;TZID=America/Chicago:20251004T110000
DTEND;TZID=America/Chicago:20251004T130000
DTSTAMP:20260421T233136
CREATED:20250818T195740Z
LAST-MODIFIED:20250917T015337Z
UID:145291-1759575600-1759582800@www.omahaaa.org
SUMMARY:District 18 Fall Brunch
DESCRIPTION:
URL:https://www.omahaaa.org/event/district-18/
LOCATION:Covenant Presbyterian Church-Omaha\, 15002 Blondo St\, Omaha\, NE\, 68116\, United States
CATEGORIES:District 18,Districts,Service
END:VEVENT
END:VCALENDAR