BEGIN:VCALENDAR
VERSION:2.0
PRODID:-//OmahaAA.org - ECPv6.15.20//NONSGML v1.0//EN
CALSCALE:GREGORIAN
METHOD:PUBLISH
X-ORIGINAL-URL:https://www.omahaaa.org
X-WR-CALDESC:Events for OmahaAA.org
REFRESH-INTERVAL;VALUE=DURATION:PT1H
X-Robots-Tag:noindex
X-PUBLISHED-TTL:PT1H
BEGIN:VTIMEZONE
TZID:America/Chicago
BEGIN:DAYLIGHT
TZOFFSETFROM:-0600
TZOFFSETTO:-0500
TZNAME:CDT
DTSTART:20250309T080000
END:DAYLIGHT
BEGIN:STANDARD
TZOFFSETFROM:-0500
TZOFFSETTO:-0600
TZNAME:CST
DTSTART:20251102T070000
END:STANDARD
BEGIN:DAYLIGHT
TZOFFSETFROM:-0600
TZOFFSETTO:-0500
TZNAME:CDT
DTSTART:20260308T080000
END:DAYLIGHT
BEGIN:STANDARD
TZOFFSETFROM:-0500
TZOFFSETTO:-0600
TZNAME:CST
DTSTART:20261101T070000
END:STANDARD
BEGIN:DAYLIGHT
TZOFFSETFROM:-0600
TZOFFSETTO:-0500
TZNAME:CDT
DTSTART:20270314T080000
END:DAYLIGHT
BEGIN:STANDARD
TZOFFSETFROM:-0500
TZOFFSETTO:-0600
TZNAME:CST
DTSTART:20271107T070000
END:STANDARD
BEGIN:DAYLIGHT
TZOFFSETFROM:-0600
TZOFFSETTO:-0500
TZNAME:CDT
DTSTART:20280312T080000
END:DAYLIGHT
BEGIN:STANDARD
TZOFFSETFROM:-0500
TZOFFSETTO:-0600
TZNAME:CST
DTSTART:20281105T070000
END:STANDARD
END:VTIMEZONE
BEGIN:VEVENT
DTSTART;TZID=America/Chicago:20260425T180000
DTEND;TZID=America/Chicago:20260425T200000
DTSTAMP:20260421T102109
CREATED:20260406T003658Z
LAST-MODIFIED:20260408T151554Z
UID:147441-1777140000-1777147200@www.omahaaa.org
SUMMARY:District 2 GSR Workshop
DESCRIPTION:
URL:https://www.omahaaa.org/event/district-2-gsr-workshop/
LOCATION:St Andrews Episcopal Church\, 925 S 84th St\, Omaha\, NE\, 68114\, United States
CATEGORIES:District 2
END:VEVENT
BEGIN:VEVENT
DTSTART;TZID=America/Chicago:20260509T100000
DTEND;TZID=America/Chicago:20260509T150000
DTSTAMP:20260421T102109
CREATED:20260417T190629Z
LAST-MODIFIED:20260417T190629Z
UID:147496-1778320800-1778338800@www.omahaaa.org
SUMMARY:District 23 Sponsorship & Service
DESCRIPTION:
URL:https://www.omahaaa.org/event/district-23-sponsorship-service-2/
LOCATION:Trinity United Methodist Church-Ralston\, 8009 Q St\, Ralston\, NE\, 68127\, United States
CATEGORIES:District 23,Events
END:VEVENT
BEGIN:VEVENT
DTSTART;TZID=America/Chicago:20260516T120000
DTEND;TZID=America/Chicago:20260516T153000
DTSTAMP:20260421T102109
CREATED:20251202T034020Z
LAST-MODIFIED:20260223T143215Z
UID:146526-1778932800-1778945400@www.omahaaa.org
SUMMARY:Sponsorship Workshop - Mapleton\, IA
DESCRIPTION:
URL:https://www.omahaaa.org/event/sponsorship-workshop/
LOCATION:St John’s United Methodist Church-Mapleton\, IA\, 212 S 7th St\, Mapleton\, IA\, 51034\, United States
CATEGORIES:Events,Out of Metro Area
END:VEVENT
BEGIN:VEVENT
DTSTART;VALUE=DATE:20260605
DTEND;VALUE=DATE:20260608
DTSTAMP:20260421T102109
CREATED:20250722T190312Z
LAST-MODIFIED:20250731T020044Z
UID:144860-1780617600-1780876799@www.omahaaa.org
SUMMARY:Area 41 Reunion (Hybrid)
DESCRIPTION:Please note: The Reunion is a CONFERENCE featuring many speakers\, including the Delegate’s report-back from the General Service Conference; it is not Area “business”. We hope to see you in this time of fellowship!  \nArea 41 2026 Reunion (Hybrid: In Person and Online)\nSave the date: June 5-7\, 2026\nQuality Inn and Conference Center I-80 Grand Island\n7838 S Hwy 281\, Bldg A\, Grand Island\, NE 68803\n308-384-7770\n(In order to get the Area 41 reduced rate\, you must reserve your room four weeks prior to the event.)\nMore to come.
URL:https://www.omahaaa.org/event/reunion-2026-06/
LOCATION:Quality Inn and Conference Center I-80 Grand Island\, 7838 US-281 Building A\, Grand Island\, NE\, 68803\, United States
CATEGORIES:Area,Events,Service
END:VEVENT
BEGIN:VEVENT
DTSTART;TZID=America/Chicago:20260619T200000
DTEND;TZID=America/Chicago:20260621T110000
DTSTAMP:20260421T102109
CREATED:20260315T153437Z
LAST-MODIFIED:20260315T153437Z
UID:147303-1781899200-1782039600@www.omahaaa.org
SUMMARY:40th Annual Pockets of Enthusiasm
DESCRIPTION:
URL:https://www.omahaaa.org/event/40th-annual-pockets-of-enthusiasm-2/
LOCATION:Eugene T. Mahoney State Park-Ashland\, 28500 W Park Hwy\, Ashland\, NE\, 68003\, United States
CATEGORIES:Events,Out of Metro Area
END:VEVENT
BEGIN:VEVENT
DTSTART;TZID=America/Chicago:20260814T120000
DTEND;TZID=America/Chicago:20260816T100000
DTSTAMP:20260421T102109
CREATED:20260312T014550Z
LAST-MODIFIED:20260314T200342Z
UID:147283-1786708800-1786874400@www.omahaaa.org
SUMMARY:49th ANNUAL CORNHUSKER ROUNDUP
DESCRIPTION:Tap here for the 49th Cornhusker Roundup Website
URL:https://www.omahaaa.org/event/49th-annual-cornhasker-roundup/
LOCATION:Liberty First Credit Union Arena-Ralston\, 7300 Q St\, Ralston\, NE\, 68127\, United States
CATEGORIES:Regional
END:VEVENT
BEGIN:VEVENT
DTSTART;VALUE=DATE:20270305
DTEND;VALUE=DATE:20270308
DTSTAMP:20260421T102109
CREATED:20260301T001336Z
LAST-MODIFIED:20260301T001921Z
UID:147260-1804204800-1804463999@www.omahaaa.org
SUMMARY:2027 West Central Region A.A. Service Conference (WCRAASC) - Breezy Point\, MN (Hybrid)
DESCRIPTION:SAVE THE DATE\nMarch 5-7\, 2027\nHosted by Area 35 at Breezy Point Resort  \nWatch for REGISTRATION DETAILS & VOLUNTEER OPPORTUNITES in Fall 2026!\nwestcentralregion.org
URL:https://www.omahaaa.org/event/2027-wcraasc/
LOCATION:Breezy Point Resort\, 9252 Breezy Point Dr\, Breezy Point\, MN\, 56472\, United States
CATEGORIES:Area,District 1,District 11,District 16,District 18,District 19,District 2,District 20,District 21,District 23,District 24,District 25,District 28,District 3 (Iowa),District 6 (Iowa),District 7 (Iowa),Districts,Distrito 31 - Español,Events,Out of Metro Area,Regional,Service
END:VEVENT
END:VCALENDAR